BEGIN:VCALENDAR
VERSION:2.0
PRODID:-//Sedgemoor Chamber - ECPv6.15.18//NONSGML v1.0//EN
CALSCALE:GREGORIAN
METHOD:PUBLISH
X-WR-CALNAME:Sedgemoor Chamber
X-ORIGINAL-URL:https://sedgemoorchamber.co.uk
X-WR-CALDESC:Events for Sedgemoor Chamber
REFRESH-INTERVAL;VALUE=DURATION:PT1H
X-Robots-Tag:noindex
X-PUBLISHED-TTL:PT1H
BEGIN:VTIMEZONE
TZID:Europe/London
BEGIN:DAYLIGHT
TZOFFSETFROM:+0000
TZOFFSETTO:+0100
TZNAME:BST
DTSTART:20200329T010000
END:DAYLIGHT
BEGIN:STANDARD
TZOFFSETFROM:+0100
TZOFFSETTO:+0000
TZNAME:GMT
DTSTART:20201025T010000
END:STANDARD
BEGIN:DAYLIGHT
TZOFFSETFROM:+0000
TZOFFSETTO:+0100
TZNAME:BST
DTSTART:20210328T010000
END:DAYLIGHT
BEGIN:STANDARD
TZOFFSETFROM:+0100
TZOFFSETTO:+0000
TZNAME:GMT
DTSTART:20211031T010000
END:STANDARD
BEGIN:DAYLIGHT
TZOFFSETFROM:+0000
TZOFFSETTO:+0100
TZNAME:BST
DTSTART:20220327T010000
END:DAYLIGHT
BEGIN:STANDARD
TZOFFSETFROM:+0100
TZOFFSETTO:+0000
TZNAME:GMT
DTSTART:20221030T010000
END:STANDARD
END:VTIMEZONE
BEGIN:VEVENT
DTSTART;TZID=Europe/London:20210929T090000
DTEND;TZID=Europe/London:20210930T163000
DTSTAMP:20260422T230829
CREATED:20210729T140658Z
LAST-MODIFIED:20210729T140658Z
UID:8030-1632906000-1633019400@sedgemoorchamber.co.uk
SUMMARY:Mental Health First Aid Training 2 Day Accredited Course ONLINE
DESCRIPTION:Workplace Mental Health First Aid is a two day educational course that teaches participants how to identify\, understand and help a person who may be developing a mental health issue. It provides people with the skills and confidence to recognise common signs and symptoms and effectively guide a person towards the right support. \nIn the same way as we learn physical first aid in the workplace\, Mental Health First Aid teaches you how to recognise those crucial warning signs of mental ill health at work and gives you the skills to take appropriate action … you will become a Mental Health First Aider. \nNew Leaf have trained 304 Mental Health First Aiders from 71 different companies. After training we continue to support your employees through newsletters and free training updates. \n29th and 30th September 9am till 4.30 on both days.  \nDay 1 \nLive Session 1: 9am ’til 11.30am \nLive session 2: 2pm ’til 4.30pm \nDay 2 \nLive session 3: 9am ’til 11.30am \nLive session 4: 2pm ’til 4.30pm \n  \nCost £295.00 per person which includes registration with Mental Health First Aid England\, Manual \, Workbook\, ALGEE First Aid Card and certification ( if you complete the course and online study)
URL:https://sedgemoorchamber.co.uk/chambers-events/mental-health-first-aid-training-2-day-accredited-course-online-2/
LOCATION:Online
CATEGORIES:Business Training,Mental Health and Wellbeing,Online Events
ATTACH;FMTTYPE=image/jpeg:https://sedgemoorchamber.co.uk/wp-content/uploads/2021/07/Beckys-Sept-event.jpg
ORGANIZER;CN="New Leaf":MAILTO:becky@newleaf.uk.com
END:VEVENT
END:VCALENDAR