BEGIN:VCALENDAR
VERSION:2.0
PRODID:-//Sedgemoor Chamber - ECPv6.15.18//NONSGML v1.0//EN
CALSCALE:GREGORIAN
METHOD:PUBLISH
X-WR-CALNAME:Sedgemoor Chamber
X-ORIGINAL-URL:https://sedgemoorchamber.co.uk
X-WR-CALDESC:Events for Sedgemoor Chamber
REFRESH-INTERVAL;VALUE=DURATION:PT1H
X-Robots-Tag:noindex
X-PUBLISHED-TTL:PT1H
BEGIN:VTIMEZONE
TZID:UTC
BEGIN:STANDARD
TZOFFSETFROM:+0000
TZOFFSETTO:+0000
TZNAME:UTC
DTSTART:20200101T000000
END:STANDARD
END:VTIMEZONE
BEGIN:VEVENT
DTSTART;TZID=UTC:20210708T140000
DTEND;TZID=UTC:20210708T160000
DTSTAMP:20260423T033423
CREATED:20210510T083557Z
LAST-MODIFIED:20210510T083708Z
UID:7521-1625752800-1625760000@sedgemoorchamber.co.uk
SUMMARY:The Importance Of A 90-Day Plan
DESCRIPTION:Growth Club Workshop – 90 Day Planning Workshop\n\n\n\n\n\nAbout this event\n\n\nNatWest are pleased to working in partnership with ActionCoach to deliver this workshop. \nIt’s easy to get caught up in the day-to-day running of your business. Finding time to plan and to reflect can be extremely difficult. \nIn this engaging online workshop we want to help you step away from working in the business to working on the business. It aims to equip you with tools\, actions and strategies to better prepare for the challenges and opportunities that lie ahead. \nWhy you need a 90-day plan \nThe unprecedented times we’re in mean it’s vital that all business owners have a firm plan and clear actions for the next 90 days. That plan may still need to adapt and change but having it in place is going to make a fundamental difference to how you continue to drive your business. \nWe’ve collaborated with ActionCoach to deliver this session to give you: \n• energy\, vision and focus for the next 90 days in your business \n• practical business growth strategies you can implement right away \n• a real plan to operate your business for the next quarter \n• a completed workbook\, with week by week tasks and strategies \n• skills and tools to get more done in your business. \nBy the end of the workshop\, you’ll have a clear picture of where your business will be after 90 days as well as a plan to get you there. \nYou’ll also have the opportunity to connect with other businesses in your area\, facing the same opportunities and uncertainties\, and be guided by the experienced ActionCoach team. \nThe Zoom link will be released to the attendees via their e-mail address prior to the start of the workshop.
URL:https://sedgemoorchamber.co.uk/chambers-events/natwest-actioncoach-90-day-planning-workshop/
CATEGORIES:Business strategy,Business Training,Free events,Online Events
ATTACH;FMTTYPE=image/jpeg:https://sedgemoorchamber.co.uk/wp-content/uploads/2021/05/NatWest-webinar-logo.jpg
ORGANIZER;CN="Andy Light -Natwest":MAILTO:andy.light@natwest.com
END:VEVENT
END:VCALENDAR