BEGIN:VCALENDAR
VERSION:2.0
PRODID:-//Sedgemoor Chamber - ECPv6.15.18//NONSGML v1.0//EN
CALSCALE:GREGORIAN
METHOD:PUBLISH
X-WR-CALNAME:Sedgemoor Chamber
X-ORIGINAL-URL:https://sedgemoorchamber.co.uk
X-WR-CALDESC:Events for Sedgemoor Chamber
REFRESH-INTERVAL;VALUE=DURATION:PT1H
X-Robots-Tag:noindex
X-PUBLISHED-TTL:PT1H
BEGIN:VTIMEZONE
TZID:UTC
BEGIN:STANDARD
TZOFFSETFROM:+0000
TZOFFSETTO:+0000
TZNAME:UTC
DTSTART:20200101T000000
END:STANDARD
END:VTIMEZONE
BEGIN:VEVENT
DTSTART;TZID=UTC:20210608T100000
DTEND;TZID=UTC:20210608T113000
DTSTAMP:20260423T051538
CREATED:20210510T081705Z
LAST-MODIFIED:20210510T082626Z
UID:7511-1623146400-1623151800@sedgemoorchamber.co.uk
SUMMARY:The Power Of Lead Generation\, Turning Why Into Wow….
DESCRIPTION:NatWest invites you to this complimentary event hosted by Luv4 Marketing. \n  \nAbout this Event \nIs Your Marketing Achieving The Results For Your Business? \nLeads drive growth. We will take you through the platforms that drive leads to your business together with how to have your campaigns running profitably from month 1 \nWhatever your efforts to date\, you will take away key learnings of how to drive leads into your business from multiple sources and the difference between each. \nAlso learn; \n– How to benefit from a £11\,000 government funded digital marketing apprenticeship. \n– Have a 90 day plan you will believe in \n– Have the confidence to grow \n  \nWe will be speaking on the following topics; \n\nYour Website & SEO\nGoogle & Paid Advertising\nSocial Marketing\n\n  \nTHIS EVENT WILL TAKE YOUR BUSINESS TO THE NEXT LEVEL \nLimited places available. Register Today
URL:https://sedgemoorchamber.co.uk/chambers-events/the-power-of-lead-generation-turning-why-into-wow/
CATEGORIES:Business Training,Free events,Online Events
ATTACH;FMTTYPE=image/jpeg:https://sedgemoorchamber.co.uk/wp-content/uploads/2021/05/Natwest-Event-8th-June-2021.jpg
ORGANIZER;CN="Andy Light -Natwest":MAILTO:andy.light@natwest.com
END:VEVENT
END:VCALENDAR