BEGIN:VCALENDAR
VERSION:2.0
PRODID:-//Sedgemoor Chamber - ECPv6.15.18//NONSGML v1.0//EN
CALSCALE:GREGORIAN
METHOD:PUBLISH
X-WR-CALNAME:Sedgemoor Chamber
X-ORIGINAL-URL:https://sedgemoorchamber.co.uk
X-WR-CALDESC:Events for Sedgemoor Chamber
REFRESH-INTERVAL;VALUE=DURATION:PT1H
X-Robots-Tag:noindex
X-PUBLISHED-TTL:PT1H
BEGIN:VTIMEZONE
TZID:UTC
BEGIN:STANDARD
TZOFFSETFROM:+0000
TZOFFSETTO:+0000
TZNAME:UTC
DTSTART:20200101T000000
END:STANDARD
END:VTIMEZONE
BEGIN:VEVENT
DTSTART;TZID=UTC:20210305T143000
DTEND;TZID=UTC:20210305T153000
DTSTAMP:20260423T095916
CREATED:20210316T110945Z
LAST-MODIFIED:20210316T110945Z
UID:6971-1614954600-1614958200@sedgemoorchamber.co.uk
SUMMARY:Budget Review with guest speaker Gavin Roberts of Maxwells Chartered Accountants
DESCRIPTION:Chancellor Rishi Sunak will publish the first Budget since the start of the Coronavirus outbreak on Wednesday 3 March 2021. \nWith such significant changes to the economy over the course of the last 12 months\, there is much speculation on what this Budget will include. Whilst there is talk about the possibility of increased taxation\, it is widely recognised that now may not be the right time for such changes in light of much-needed economic recovery. \nWe are delighted to be joined by Gavin Roberts\, Partner at Maxwells Chartered Accountants\, for an interactive webinar. During the session we will provide valuable insight so you can keep abreast of the changes announced. \nThe presentation will include: \n\nA review of the announcements made by the chancellor\nGuidance on the changes for individuals and businesses\nSteps to be taken to deal with any changes\n\nWe would particularly welcome your comments\, questions and thoughts as we explore the Chancellor’s announcements: both the rumoured changes to capital gains tax and extensions to coronavirus support schemes\, and the inevitable unexpected bomb shells! \nMaxwells will happily send out a Budget summary to all attendees after the webinar for further reading and reference.
URL:https://sedgemoorchamber.co.uk/chambers-events/budget-review-with-guest-speaker-gavin-roberts-of-maxwells-chartered-accountants/
LOCATION:Online
CATEGORIES:Free events,Online Events
ATTACH;FMTTYPE=image/jpeg:https://sedgemoorchamber.co.uk/wp-content/uploads/2021/03/chamber-maxwells.jpg
END:VEVENT
END:VCALENDAR