BEGIN:VCALENDAR
VERSION:2.0
PRODID:-//Sedgemoor Chamber - ECPv6.15.18//NONSGML v1.0//EN
CALSCALE:GREGORIAN
METHOD:PUBLISH
X-WR-CALNAME:Sedgemoor Chamber
X-ORIGINAL-URL:https://sedgemoorchamber.co.uk
X-WR-CALDESC:Events for Sedgemoor Chamber
REFRESH-INTERVAL;VALUE=DURATION:PT1H
X-Robots-Tag:noindex
X-PUBLISHED-TTL:PT1H
BEGIN:VTIMEZONE
TZID:UTC
BEGIN:STANDARD
TZOFFSETFROM:+0000
TZOFFSETTO:+0000
TZNAME:UTC
DTSTART:20200101T000000
END:STANDARD
END:VTIMEZONE
BEGIN:VEVENT
DTSTART;TZID=UTC:20210303T153000
DTEND;TZID=UTC:20210303T163000
DTSTAMP:20260423T101227
CREATED:20210316T110713Z
LAST-MODIFIED:20210316T110807Z
UID:6968-1614785400-1614789000@sedgemoorchamber.co.uk
SUMMARY:One Somerset presentation with guest Speaker David Hall of SCC
DESCRIPTION:As always\, Bridgwater Chamber of Commerce are committed to providing information on the different proposals currently being discussed regarding local government reform here in Sedgemoor and the wider Somerset area. \nEach proposal for local government reform here in Somerset has the potential to have far reaching impacts in the way that we\, live work and do business. \nWe are therefore very pleased to invite you to join our webinar with guest speaker: \nCouncillor David Hall from Somerset County Council. \nDavid will be presenting on the One Somerset proposal launched by Somerset County Council \nDavid Hall is the County Council member for Bridgwater East and Bawdrip and the Cabinet Member for Economic Development\, Plannning and Community Infrastructure. David has been a County Councillor for ten years and prior to that served as a Sedgemoor District councillor for four years. \nDavid was born in Bridgwater\, raised in Burnham on Sea and has lived in Somerset his entire life. David is a small business owner as well as County Councillor and cares passionately about the environment\, the people and the heritage of Somerset. David in addition serves as the Local Enterprise Partnership board member for SCC and is a member of the Devon and Somerset Heritage Trust. \nThis is a great opportunity to ask any questions that you may have as part of the Q&A following his presentation.
URL:https://sedgemoorchamber.co.uk/chambers-events/one-somerset-presentation-with-guest-speaker-david-hall-of-scc/
LOCATION:Online
CATEGORIES:Free events,Online Events
ATTACH;FMTTYPE=image/jpeg:https://sedgemoorchamber.co.uk/wp-content/uploads/2021/03/EwSXVwgW8AAgFVL.jpeg
END:VEVENT
END:VCALENDAR