BEGIN:VCALENDAR
VERSION:2.0
PRODID:-//Sedgemoor Chamber - ECPv6.15.18//NONSGML v1.0//EN
CALSCALE:GREGORIAN
METHOD:PUBLISH
X-WR-CALNAME:Sedgemoor Chamber
X-ORIGINAL-URL:https://sedgemoorchamber.co.uk
X-WR-CALDESC:Events for Sedgemoor Chamber
REFRESH-INTERVAL;VALUE=DURATION:PT1H
X-Robots-Tag:noindex
X-PUBLISHED-TTL:PT1H
BEGIN:VTIMEZONE
TZID:UTC
BEGIN:STANDARD
TZOFFSETFROM:+0000
TZOFFSETTO:+0000
TZNAME:UTC
DTSTART:20200101T000000
END:STANDARD
END:VTIMEZONE
BEGIN:VEVENT
DTSTART;TZID=UTC:20210209T153000
DTEND;TZID=UTC:20210209T163000
DTSTAMP:20260423T113716
CREATED:20210316T105940Z
LAST-MODIFIED:20210316T105940Z
UID:6963-1612884600-1612888200@sedgemoorchamber.co.uk
SUMMARY:‘Stronger Somerset’ presentation with guest Speaker Bob Brown of SDC
DESCRIPTION:As always\, Bridgwater Chamber of Commerce are committed to providing information on the different proposals currently being discussed regarding local government reform here in Sedgemoor and the wider Somerset area. \nEach proposal for local government reform here in Somerset has the potential to have far reaching impacts in the way that we\, live work and do business. \nWe are therefore very pleased to invite you to join this webinar with our guest speaker Bob Brown from Sedgemoor District Council. \nBob will be presenting on the Stronger Somerset proposal launched by the District Councils covering Sedgemoor\, Mendip\, South Somerset and Somerset West and Taunton. \nBob Brown\, who is set to become Sedgemoor District Council’s new Chief Executive\, has worked at Sedgemoor since 2001\, holding the posts of Solicitor to the Council\, Corporate Director and Strategic Director.  He has over 25 years’ experience in Local Government across a diverse range of Local Authorities in Wales\, Yorkshire and the South West of England. \nHe has recently worked closely with the Homes in Sedgemoor to improve housing services across the Council’s 4000 housing stock. He is currently leading on Sedgemoor’s ambitious Customer Access Transformation Programme. \n\n\n\nWe look forward to you joining us.
URL:https://sedgemoorchamber.co.uk/chambers-events/stronger-somerset-presentation-with-guest-speaker-bob-brown-of-sdc/
LOCATION:Online
CATEGORIES:Free events,Online Events
ATTACH;FMTTYPE=image/jpeg:https://sedgemoorchamber.co.uk/wp-content/uploads/2021/03/stronger-somerset-604f8c4d86286.jpg
END:VEVENT
END:VCALENDAR