BEGIN:VCALENDAR
VERSION:2.0
PRODID:-//Sedgemoor Chamber - ECPv6.15.18//NONSGML v1.0//EN
CALSCALE:GREGORIAN
METHOD:PUBLISH
X-WR-CALNAME:Sedgemoor Chamber
X-ORIGINAL-URL:https://sedgemoorchamber.co.uk
X-WR-CALDESC:Events for Sedgemoor Chamber
REFRESH-INTERVAL;VALUE=DURATION:PT1H
X-Robots-Tag:noindex
X-PUBLISHED-TTL:PT1H
BEGIN:VTIMEZONE
TZID:UTC
BEGIN:STANDARD
TZOFFSETFROM:+0000
TZOFFSETTO:+0000
TZNAME:UTC
DTSTART:20200101T000000
END:STANDARD
END:VTIMEZONE
BEGIN:VEVENT
DTSTART;TZID=UTC:20210204T100000
DTEND;TZID=UTC:20210204T120000
DTSTAMP:20260423T113409
CREATED:20210126T115731Z
LAST-MODIFIED:20210316T105519Z
UID:228-1612432800-1612440000@sedgemoorchamber.co.uk
SUMMARY:Strategies for Manufacturing Success
DESCRIPTION:Learn more about the key considerations for developing\, building\, and implementing a successful business strategy.\nFor a number of businesses\, the events of 2020 have brought significant challenges and changes. Whether they are experiencing a spike in demand or reduced sales\, they will need to react and adapt accordingly. This could bring about a shift in focus\, and change the strategic plans previously made\, enabling them to target different goals. \nThis session will cover: \n\nThe benefits of a relevant\, up to date\, business strategy\nAn overview of strategic planning processes\nValuable insights into approaches and methodologies to shape successful strategies\nKey components for consideration\, taking into account strengths\, weaknesses\, opportunities\, and threats\n\nLearning from this session can help shape future business plans that align with current demands and business goals\, to enable positive\, and achievable\, results.
URL:https://sedgemoorchamber.co.uk/chambers-events/strategies-for-manufacturing-success/
LOCATION:Online
CATEGORIES:Business strategy,Business Training,Free events,Online Events
ATTACH;FMTTYPE=image/jpeg:https://sedgemoorchamber.co.uk/wp-content/uploads/2021/01/APEX_MAS_Workshop_Bristol_64.jpg
END:VEVENT
END:VCALENDAR