BEGIN:VCALENDAR
VERSION:2.0
PRODID:-//Sedgemoor Chamber - ECPv6.15.18//NONSGML v1.0//EN
CALSCALE:GREGORIAN
METHOD:PUBLISH
X-WR-CALNAME:Sedgemoor Chamber
X-ORIGINAL-URL:https://sedgemoorchamber.co.uk
X-WR-CALDESC:Events for Sedgemoor Chamber
REFRESH-INTERVAL;VALUE=DURATION:PT1H
X-Robots-Tag:noindex
X-PUBLISHED-TTL:PT1H
BEGIN:VTIMEZONE
TZID:UTC
BEGIN:STANDARD
TZOFFSETFROM:+0000
TZOFFSETTO:+0000
TZNAME:UTC
DTSTART:20200101T000000
END:STANDARD
END:VTIMEZONE
BEGIN:VEVENT
DTSTART;TZID=UTC:20210601T100000
DTEND;TZID=UTC:20210601T110000
DTSTAMP:20260423T032805
CREATED:20210316T113414Z
LAST-MODIFIED:20210506T081451Z
UID:7005-1622541600-1622545200@sedgemoorchamber.co.uk
SUMMARY:NatWest Business Builder Workshop 10 - Continuity & Resilience Planning
DESCRIPTION:Building a resilient business is key to weathering any storms that might arise.\nBusiness Builder events are designed to support and challenge users to develop the right foundations for their business; whether that’s how to write a great pitch\, how to define their Business Model or navigate through a changing environment. \nEach 60-minute event is tailored to meet a specific business need\, offering attendees an opportunity to upskill in the company of other like-minded business owners\, share experiences\, and work through individual and group exercises to implement the learning into their own business. \nThese workshops run every Tuesday for 10 weeks starting on Tuesday 30th March 2021 from 09:30am – 10:30am.  \nTickets can now be secured through Eventbrite for all workshops. It is recommended that attendees should try to attend the whole series of workshops to get maximum benefit. \nThe workshops will take place via Zoom and the code / password for this will be released to attendees prior to the start by NatWest Business. \nALL WORKSHOPS ARE FREE TO ATTEND \nWe look forward to ‘seeing’ you there.
URL:https://sedgemoorchamber.co.uk/chambers-events/natwest-business-builder-workshop-10-continuity-resilience-planning/
LOCATION:Online
CATEGORIES:Business strategy,Business Training,Free events,Online Events
ATTACH;FMTTYPE=image/png:https://sedgemoorchamber.co.uk/wp-content/uploads/2021/03/natwest-business-builder.png
ORGANIZER;CN="Andy Light -Natwest":MAILTO:andy.light@natwest.com
END:VEVENT
BEGIN:VEVENT
DTSTART;TZID=UTC:20210604T103000
DTEND;TZID=UTC:20210604T113000
DTSTAMP:20260423T032805
CREATED:20210419T123440Z
LAST-MODIFIED:20210419T131700Z
UID:7361-1622802600-1622806200@sedgemoorchamber.co.uk
SUMMARY:Chamber Chat Friday 4th June - Member Exclusive!
DESCRIPTION:Come and join us for our: \n‘CHAMBER CHAT’\nChamber Chat is an informal opportunity to grab a cuppa and catch up with other Chamber members and discuss whatever is on your mind.  \nThere’s no set agenda and we’ve talked about many things from the Chamber events\, the regeneration of the town centre\, the various business support packages that have been available and member business developments to just general conversations about subjects like the impact of the Covid lockdowns to learning to master the art of in-line skating etc. \nTo join us just click on the link below: \nJoin Zoom Meeting \nhttps://us02web.zoom.us/j/84050883650?pwd=UXZ2R1RNRVM2M3FyOGxBNzU0Yyt3dz09 \nMeeting ID: 840 5088 3650 \nPasscode: 732628 \n  We look forward to ‘seeing’ there!
URL:https://sedgemoorchamber.co.uk/chambers-events/chamber-chat-member-exclusive-4th-june/
LOCATION:Online
CATEGORIES:Free events,Networking,Online Events
ATTACH;FMTTYPE=image/png:https://sedgemoorchamber.co.uk/wp-content/uploads/2021/04/Event-banner-Copy-2.png
END:VEVENT
BEGIN:VEVENT
DTSTART;TZID=UTC:20210608T100000
DTEND;TZID=UTC:20210608T113000
DTSTAMP:20260423T032805
CREATED:20210510T081705Z
LAST-MODIFIED:20210510T082626Z
UID:7511-1623146400-1623151800@sedgemoorchamber.co.uk
SUMMARY:The Power Of Lead Generation\, Turning Why Into Wow….
DESCRIPTION:NatWest invites you to this complimentary event hosted by Luv4 Marketing. \n  \nAbout this Event \nIs Your Marketing Achieving The Results For Your Business? \nLeads drive growth. We will take you through the platforms that drive leads to your business together with how to have your campaigns running profitably from month 1 \nWhatever your efforts to date\, you will take away key learnings of how to drive leads into your business from multiple sources and the difference between each. \nAlso learn; \n– How to benefit from a £11\,000 government funded digital marketing apprenticeship. \n– Have a 90 day plan you will believe in \n– Have the confidence to grow \n  \nWe will be speaking on the following topics; \n\nYour Website & SEO\nGoogle & Paid Advertising\nSocial Marketing\n\n  \nTHIS EVENT WILL TAKE YOUR BUSINESS TO THE NEXT LEVEL \nLimited places available. Register Today
URL:https://sedgemoorchamber.co.uk/chambers-events/the-power-of-lead-generation-turning-why-into-wow/
CATEGORIES:Business Training,Free events,Online Events
ATTACH;FMTTYPE=image/jpeg:https://sedgemoorchamber.co.uk/wp-content/uploads/2021/05/Natwest-Event-8th-June-2021.jpg
ORGANIZER;CN="Andy Light -Natwest":MAILTO:andy.light@natwest.com
END:VEVENT
BEGIN:VEVENT
DTSTART;TZID=UTC:20210611T103000
DTEND;TZID=UTC:20210611T113000
DTSTAMP:20260423T032805
CREATED:20210419T124239Z
LAST-MODIFIED:20210419T131726Z
UID:7367-1623407400-1623411000@sedgemoorchamber.co.uk
SUMMARY:Chamber Chat Friday 11th June - Member Exclusive!
DESCRIPTION:Come and join us for our: \n‘CHAMBER CHAT’\nChamber Chat is an informal opportunity to grab a cuppa and catch up with other Chamber members and discuss whatever is on your mind.  \nThere’s no set agenda and we’ve talked about many things from the Chamber events\, the regeneration of the town centre\, the various business support packages that have been available and member business developments to just general conversations about subjects like the impact of the Covid lockdowns to learning to master the art of in-line skating etc. \nTo join us just click on the link below: \nJoin Zoom Meeting \nhttps://us02web.zoom.us/j/84050883650?pwd=UXZ2R1RNRVM2M3FyOGxBNzU0Yyt3dz09 \nMeeting ID: 840 5088 3650 \nPasscode: 732628 \n  We look forward to ‘seeing’ there!
URL:https://sedgemoorchamber.co.uk/chambers-events/chamber-chat-member-exclusive-11th-june/
LOCATION:Online
CATEGORIES:Free events,Networking,Online Events
ATTACH;FMTTYPE=image/png:https://sedgemoorchamber.co.uk/wp-content/uploads/2021/04/Event-banner-Copy-2.png
END:VEVENT
BEGIN:VEVENT
DTSTART;TZID=UTC:20210622T103000
DTEND;TZID=UTC:20210622T113000
DTSTAMP:20260423T032805
CREATED:20210517T083212Z
LAST-MODIFIED:20210525T125726Z
UID:7562-1624357800-1624361400@sedgemoorchamber.co.uk
SUMMARY:How to help your team to communicate more effectively
DESCRIPTION:As more businesses prepare to reopen\, restructure\, or further adapt to different ways of working\, we’ve created a webinar for forward thinking organisations to explore the benefits of a people focused approach. Find out how to help people to reach their potential providing them with the skills to overcome challenges\, communicate effectively and deal positively with conflict and difficult thoughts and feelings. \nThis informative webinar will inspire you to consider how you can develop your team’s skills to improve communication\, increase engagement and productivity. \nIt will take place via Zoom on Tuesday 22nd June at 10.30am and is free to attend
URL:https://sedgemoorchamber.co.uk/chambers-events/how-to-help-your-team-to-communicate-more-effectively/
CATEGORIES:Free events,Mental Health and Wellbeing,Online Events
ATTACH;FMTTYPE=image/jpeg:https://sedgemoorchamber.co.uk/wp-content/uploads/2021/05/Stand-Against-Violence-Webinar-logo.jpg
END:VEVENT
BEGIN:VEVENT
DTSTART;TZID=UTC:20210625T103000
DTEND;TZID=UTC:20210625T113000
DTSTAMP:20260423T032805
CREATED:20210419T123541Z
LAST-MODIFIED:20210419T131823Z
UID:7365-1624617000-1624620600@sedgemoorchamber.co.uk
SUMMARY:Chamber Chat Friday 25th June - Member Exclusive!
DESCRIPTION:Come and join us for our: \n‘CHAMBER CHAT’\nChamber Chat is an informal opportunity to grab a cuppa and catch up with other Chamber members and discuss whatever is on your mind.  \nThere’s no set agenda and we’ve talked about many things from the Chamber events\, the regeneration of the town centre\, the various business support packages that have been available and member business developments to just general conversations about subjects like the impact of the Covid lockdowns to learning to master the art of in-line skating etc. \nTo join us just click on the link below: \nJoin Zoom Meeting \nhttps://us02web.zoom.us/j/84050883650?pwd=UXZ2R1RNRVM2M3FyOGxBNzU0Yyt3dz09 \nMeeting ID: 840 5088 3650 \nPasscode: 732628 \n  We look forward to ‘seeing’ there!
URL:https://sedgemoorchamber.co.uk/chambers-events/chamber-chat-member-exclusive-25th-june/
LOCATION:Online
CATEGORIES:Free events,Networking,Online Events
ATTACH;FMTTYPE=image/png:https://sedgemoorchamber.co.uk/wp-content/uploads/2021/04/Event-banner-Copy-2.png
END:VEVENT
BEGIN:VEVENT
DTSTART;TZID=UTC:20210630T090000
DTEND;TZID=UTC:20210701T163000
DTSTAMP:20260423T032805
CREATED:20210510T080036Z
LAST-MODIFIED:20210510T082520Z
UID:7505-1625043600-1625157000@sedgemoorchamber.co.uk
SUMMARY:Mental Health First Aid Training 2 Day Accredited Course
DESCRIPTION:Adult MHFA Two Day course qualifies you as a Mental Health First Aider. This course is now being delivered online. We have trained 269 people as Mental Health First Aiders. \nOnline ~ 30th June and 1st July 2021 \nThis course covers the areas listed below but not in this order.  \nMental Health First Aiders have:  \n\nAn in depth understanding of mental health and the factors that can affect wellbeing\nPractical skills to spot the triggers and signs of mental health issues\nConfidence to step in\, reassure and support a person in distress\nEnhanced interpersonal skills such as non-judgemental listening\n\nThey have received excellent feedback from recent attendees \n“ I found this course so interesting and learnt so much. Becky\, the instructor\, was so good at delivering the information\, and explained everything so well. I am really looking forward to helping people with mental health problems now\, and feel I am 100% more equipped to do this after this course”. Amanda Stoodley Numatic \n“I have had an amazing opportunity to become a MHFA . With the help of Becky Wright as a trainer\, the experience I have taken away is as rewarding as new group of people I have been in training with. As a trainer Becky is knowledgeable and relaxing\, the course is challenging and intense but Becky pulls the best from the group choosing the right speed and momentum to get the best from each person\, turning the group into a team”. Chris Copeland Numatic \n“It was a very interesting course\, very well presented. I think everybody should have an understanding of mental health because mental health effects lots of people. Even though the course was on zoom\, I felt it was very interactive and everyone was included. I really enjoyed the experience. Thank you Becky”. Steve Clark Lew Techniques Ltd. \nNew Leaf will be delivering this successful course online.
URL:https://sedgemoorchamber.co.uk/chambers-events/mental-health-first-aid-training-2-day-accredited-course/
CATEGORIES:Business Training,Mental Health and Wellbeing,Online Events
ATTACH;FMTTYPE=image/jpeg:https://sedgemoorchamber.co.uk/wp-content/uploads/2021/05/Beckys-June-event-2021.jpg
ORGANIZER;CN="New Leaf":MAILTO:becky@newleaf.uk.com
END:VEVENT
END:VCALENDAR