BEGIN:VCALENDAR
VERSION:2.0
PRODID:-//Sedgemoor Chamber - ECPv6.15.18//NONSGML v1.0//EN
CALSCALE:GREGORIAN
METHOD:PUBLISH
X-WR-CALNAME:Sedgemoor Chamber
X-ORIGINAL-URL:https://sedgemoorchamber.co.uk
X-WR-CALDESC:Events for Sedgemoor Chamber
REFRESH-INTERVAL;VALUE=DURATION:PT1H
X-Robots-Tag:noindex
X-PUBLISHED-TTL:PT1H
BEGIN:VTIMEZONE
TZID:UTC
BEGIN:STANDARD
TZOFFSETFROM:+0000
TZOFFSETTO:+0000
TZNAME:UTC
DTSTART:20200101T000000
END:STANDARD
END:VTIMEZONE
BEGIN:VEVENT
DTSTART;TZID=UTC:20210406T093000
DTEND;TZID=UTC:20210406T223000
DTSTAMP:20260423T063606
CREATED:20210316T112600Z
LAST-MODIFIED:20210316T113653Z
UID:6988-1617701400-1617748200@sedgemoorchamber.co.uk
SUMMARY:NatWest Business Builder Workshop 2 - Responding To Change
DESCRIPTION:Change is often something we’re reluctant to do\, especially when faced with circumstances beyond our control.\nWe are very pleased to have secured a 10 week programme with NatWest Business to bring you a series of free workshops designed to help local businesses scale up and succeed. These really are great modules that most businesses would benefit from under the current economic climate. \nBusiness Builder events are designed to support and challenge users to develop the right foundations for their business; whether that’s how to write a great pitch\, how to define their Business Model or navigate through a changing environment. \nEach 60-minute event is tailored to meet a specific business need\, offering attendees an opportunity to upskill in the company of other like-minded business owners\, share experiences\, and work through individual and group exercises to implement the learning into their own business. \nThese workshops run every Tuesday for 10 weeks starting on Tuesday 30th March 2021 from 09:30am – 10:30am.  \nTickets can now be secured through Eventbrite for all workshops. It is recommended that attendees should try to attend the whole series of workshops to get maximum benefit. \nThe workshops will take place via Zoom and the code / password for this will be released to attendees prior to the start by NatWest Business. \nALL WORKSHOPS ARE FREE TO ATTEND \nWe look forward to ‘seeing’ you there.
URL:https://sedgemoorchamber.co.uk/chambers-events/natwest-business-builder-workshop-2-responding-to-change/
LOCATION:Online
CATEGORIES:Business strategy,Business Training,Free events,Online Events
ATTACH;FMTTYPE=image/png:https://sedgemoorchamber.co.uk/wp-content/uploads/2021/03/natwest-business-builder.png
ORGANIZER;CN="Andy Light -Natwest":MAILTO:andy.light@natwest.com
END:VEVENT
BEGIN:VEVENT
DTSTART;TZID=UTC:20210413T093000
DTEND;TZID=UTC:20210413T223000
DTSTAMP:20260423T063606
CREATED:20210316T112718Z
LAST-MODIFIED:20210316T113644Z
UID:6990-1618306200-1618353000@sedgemoorchamber.co.uk
SUMMARY:NatWest Business Builder Workshop 3 - Understanding Your Customer
DESCRIPTION:Understanding your customers is vital to your business being able to operate as efficiently and profitably as possible.\nWe are very pleased to have secured a 10 week programme with NatWest Business to bring you a series of free workshops designed to help local businesses scale up and succeed. These really are great modules that most businesses would benefit from under the current economic climate. \nBusiness Builder events are designed to support and challenge users to develop the right foundations for their business; whether that’s how to write a great pitch\, how to define their Business Model or navigate through a changing environment. \nEach 60-minute event is tailored to meet a specific business need\, offering attendees an opportunity to upskill in the company of other like-minded business owners\, share experiences\, and work through individual and group exercises to implement the learning into their own business. \nThese workshops run every Tuesday for 10 weeks starting on Tuesday 30th March 2021 from 09:30am – 10:30am.  \nTickets can now be secured through Eventbrite for all workshops. It is recommended that attendees should try to attend the whole series of workshops to get maximum benefit. \nThe workshops will take place via Zoom and the code / password for this will be released to attendees prior to the start by NatWest Business. \nALL WORKSHOPS ARE FREE TO ATTEND \nWe look forward to ‘seeing’ you there.
URL:https://sedgemoorchamber.co.uk/chambers-events/natwest-business-builder-workshop-3-understanding-your-customer/
LOCATION:Online
CATEGORIES:Business strategy,Business Training,Free events,Online Events
ATTACH;FMTTYPE=image/png:https://sedgemoorchamber.co.uk/wp-content/uploads/2021/03/natwest-business-builder.png
ORGANIZER;CN="Andy Light -Natwest":MAILTO:andy.light@natwest.com
END:VEVENT
BEGIN:VEVENT
DTSTART;TZID=UTC:20210420T093000
DTEND;TZID=UTC:20210420T223000
DTSTAMP:20260423T063606
CREATED:20210316T112844Z
LAST-MODIFIED:20210316T113634Z
UID:6992-1618911000-1618957800@sedgemoorchamber.co.uk
SUMMARY:NatWest Business Builder Workshop 4 - Reaching New Markets
DESCRIPTION:We’ll explore some of the key tools to help you test and validate assumptions that you have made about your business and customers\, whether you’re just starting out or looking to expand your business. \nBy the end of the module\, you will… \n• Understand the importance of continually validating your business \n• Recognise the assumptions you have made \n• Learn some key tools and techniques to test them \nWe are very pleased to have secured a 10 week programme with NatWest Business to bring you a series of free workshops designed to help local businesses scale up and succeed. These really are great modules that most businesses would benefit from under the current economic climate. \nBusiness Builder events are designed to support and challenge users to develop the right foundations for their business; whether that’s how to write a great pitch\, how to define their Business Model or navigate through a changing environment. \nEach 60-minute event is tailored to meet a specific business need\, offering attendees an opportunity to upskill in the company of other like-minded business owners\, share experiences\, and work through individual and group exercises to implement the learning into their own business. \nThese workshops run every Tuesday for 10 weeks starting on Tuesday 30th March 2021 from 09:30am – 10:30am.  \nTickets can now be secured through Eventbrite for all workshops. It is recommended that attendees should try to attend the whole series of workshops to get maximum benefit. \nThe workshops will take place via Zoom and the code / password for this will be released to attendees prior to the start by NatWest Business. \nALL WORKSHOPS ARE FREE TO ATTEND \nWe look forward to ‘seeing’ you there.
URL:https://sedgemoorchamber.co.uk/chambers-events/natwest-business-builder-workshop-4-reaching-new-markets/
LOCATION:Online
CATEGORIES:Business strategy,Business Training,Free events,Online Events
ATTACH;FMTTYPE=image/png:https://sedgemoorchamber.co.uk/wp-content/uploads/2021/03/natwest-business-builder.png
ORGANIZER;CN="Andy Light -Natwest":MAILTO:andy.light@natwest.com
END:VEVENT
BEGIN:VEVENT
DTSTART;TZID=UTC:20210421T103000
DTEND;TZID=UTC:20210421T123000
DTSTAMP:20260423T063606
CREATED:20210329T110719Z
LAST-MODIFIED:20210329T110719Z
UID:7187-1619001000-1619008200@sedgemoorchamber.co.uk
SUMMARY:How to Generate more Customer Interest than your Competitors
DESCRIPTION:Learn to exploit the next step in digital trends\, tips and tools – simply and straightforwardly – to improve engagement. \nWednesday 21st April\, 10:30 – 12:30 BST  \nJoin Barclays Eagle Labs and Silicon South to take control and master your Digital Marketing. \nDigital marketing uses the latest technology to personalise marketing using a variety of inputs. It ensures that customer engagement is better targeted\, relevant and effective. The implementation of digital marketing strategies is delivering significant increases in return on investment for businesses. \n10:30 Current trends webinar – real user cases\, outlined by market experts. \n11:30 Deep dive – intimate\, focused discussions with non-competing businesses. \nAttendees can describe their specific challenges or opportunities and the expert will define plausible ways to implement them by using the technology discussed in the presentations. The break-out groups will have the opportunity to work with more than one subject matter expert.
URL:https://sedgemoorchamber.co.uk/chambers-events/how-to-generate-more-customer-interest-than-your-competitors/
CATEGORIES:Business Training,Free events,Online Events
ATTACH;FMTTYPE=image/png:https://sedgemoorchamber.co.uk/wp-content/uploads/2021/03/Barclays-Event-e1617019391593.png
END:VEVENT
BEGIN:VEVENT
DTSTART;TZID=UTC:20210423T103000
DTEND;TZID=UTC:20210423T113000
DTSTAMP:20260423T063606
CREATED:20210419T115346Z
LAST-MODIFIED:20210419T131355Z
UID:7340-1619173800-1619177400@sedgemoorchamber.co.uk
SUMMARY:Chamber Chat Friday 23rd April - Member Exclusive!
DESCRIPTION:Come and join us for our: \n‘CHAMBER CHAT’\nChamber Chat is an informal opportunity to grab a cuppa and catch up with other Chamber members and discuss whatever is on your mind.  \nThere’s no set agenda and we’ve talked about many things from the Chamber events\, the regeneration of the town centre\, the various business support packages that have been available and member business developments to just general conversations about subjects like the impact of the Covid lockdowns to learning to master the art of in-line skating etc. \nTo join us just click on the link below: \nJoin Zoom Meeting \nhttps://us02web.zoom.us/j/84050883650?pwd=UXZ2R1RNRVM2M3FyOGxBNzU0Yyt3dz09 \nMeeting ID: 840 5088 3650 \nPasscode: 732628 \n  We look forward to ‘seeing’ there!
URL:https://sedgemoorchamber.co.uk/chambers-events/chamber-chat-member-exclusive-23rd-april/
LOCATION:Online
CATEGORIES:Free events,Networking,Online Events
ATTACH;FMTTYPE=image/png:https://sedgemoorchamber.co.uk/wp-content/uploads/2021/04/Event-banner-Copy-2.png
END:VEVENT
BEGIN:VEVENT
DTSTART;TZID=UTC:20210427T093000
DTEND;TZID=UTC:20210427T223000
DTSTAMP:20260423T063606
CREATED:20210316T112936Z
LAST-MODIFIED:20210316T113624Z
UID:6994-1619515800-1619562600@sedgemoorchamber.co.uk
SUMMARY:NatWest Business Builder Workshop 5 - Writing A Great 60-Second Pitch
DESCRIPTION:If you haven’t got a clear pitch\, you could be missing out on opportunities to grow your business\nBusiness Builder events are designed to support and challenge users to develop the right foundations for their business; whether that’s how to write a great pitch\, how to define their Business Model or navigate through a changing environment. \nEach 60-minute event is tailored to meet a specific business need\, offering attendees an opportunity to upskill in the company of other like-minded business owners\, share experiences\, and work through individual and group exercises to implement the learning into their own business. \nThese workshops run every Tuesday for 10 weeks starting on Tuesday 30th March 2021 from 09:30am – 10:30am.  \nTickets can now be secured through Eventbrite for all workshops. It is recommended that attendees should try to attend the whole series of workshops to get maximum benefit. \nThe workshops will take place via Zoom and the code / password for this will be released to attendees prior to the start by NatWest Business. \nALL WORKSHOPS ARE FREE TO ATTEND \nWe look forward to ‘seeing’ you there.
URL:https://sedgemoorchamber.co.uk/chambers-events/natwest-business-builder-workshop-5-writing-a-great-60-second-pitch/
LOCATION:Online
CATEGORIES:Business strategy,Business Training,Free events,Online Events
ATTACH;FMTTYPE=image/png:https://sedgemoorchamber.co.uk/wp-content/uploads/2021/03/natwest-business-builder.png
ORGANIZER;CN="Andy Light -Natwest":MAILTO:andy.light@natwest.com
END:VEVENT
BEGIN:VEVENT
DTSTART;TZID=UTC:20210430T103000
DTEND;TZID=UTC:20210430T113000
DTSTAMP:20260423T063606
CREATED:20210419T123150Z
LAST-MODIFIED:20210419T131428Z
UID:7351-1619778600-1619782200@sedgemoorchamber.co.uk
SUMMARY:Chamber Chat Friday 30th April - Member Exclusive!
DESCRIPTION:Come and join us for our: \n‘CHAMBER CHAT’\nChamber Chat is an informal opportunity to grab a cuppa and catch up with other Chamber members and discuss whatever is on your mind.  \nThere’s no set agenda and we’ve talked about many things from the Chamber events\, the regeneration of the town centre\, the various business support packages that have been available and member business developments to just general conversations about subjects like the impact of the Covid lockdowns to learning to master the art of in-line skating etc. \nTo join us just click on the link below: \nJoin Zoom Meeting \nhttps://us02web.zoom.us/j/84050883650?pwd=UXZ2R1RNRVM2M3FyOGxBNzU0Yyt3dz09 \nMeeting ID: 840 5088 3650 \nPasscode: 732628 \n  We look forward to ‘seeing’ there!
URL:https://sedgemoorchamber.co.uk/chambers-events/chamber-chat-member-exclusive-30th-april/
LOCATION:Online
CATEGORIES:Free events,Networking,Online Events
ATTACH;FMTTYPE=image/png:https://sedgemoorchamber.co.uk/wp-content/uploads/2021/04/Event-banner-Copy-2.png
END:VEVENT
END:VCALENDAR