BEGIN:VCALENDAR
VERSION:2.0
PRODID:-//Sedgemoor Chamber - ECPv6.15.18//NONSGML v1.0//EN
CALSCALE:GREGORIAN
METHOD:PUBLISH
X-WR-CALNAME:Sedgemoor Chamber
X-ORIGINAL-URL:https://sedgemoorchamber.co.uk
X-WR-CALDESC:Events for Sedgemoor Chamber
REFRESH-INTERVAL;VALUE=DURATION:PT1H
X-Robots-Tag:noindex
X-PUBLISHED-TTL:PT1H
BEGIN:VTIMEZONE
TZID:Europe/London
BEGIN:DAYLIGHT
TZOFFSETFROM:+0000
TZOFFSETTO:+0100
TZNAME:BST
DTSTART:20240331T010000
END:DAYLIGHT
BEGIN:STANDARD
TZOFFSETFROM:+0100
TZOFFSETTO:+0000
TZNAME:GMT
DTSTART:20241027T010000
END:STANDARD
BEGIN:DAYLIGHT
TZOFFSETFROM:+0000
TZOFFSETTO:+0100
TZNAME:BST
DTSTART:20250330T010000
END:DAYLIGHT
BEGIN:STANDARD
TZOFFSETFROM:+0100
TZOFFSETTO:+0000
TZNAME:GMT
DTSTART:20251026T010000
END:STANDARD
BEGIN:DAYLIGHT
TZOFFSETFROM:+0000
TZOFFSETTO:+0100
TZNAME:BST
DTSTART:20260329T010000
END:DAYLIGHT
BEGIN:STANDARD
TZOFFSETFROM:+0100
TZOFFSETTO:+0000
TZNAME:GMT
DTSTART:20261025T010000
END:STANDARD
END:VTIMEZONE
BEGIN:VEVENT
DTSTART;TZID=Europe/London:20251110T183000
DTEND;TZID=Europe/London:20251110T210000
DTSTAMP:20260419T182619
CREATED:20250713T025945Z
LAST-MODIFIED:20260324T061526Z
UID:20387-1762799400-1762808400@sedgemoorchamber.co.uk
SUMMARY:The Local Biz Quiz Showdown
DESCRIPTION:Back for round two\, The Local Biz Quiz Showdown is returning with a twist! This time\, we’re mixing things up by encouraging individual sign-ups only\, with quiz teams assigned at random on the night. It’s the perfect way to break the ice\, meet new faces\, and connect with fellow professionals in a fun\, informal setting. \nWhether you joined us for our first showdown back in April or this will be your first time taking part\, you can expect another fantastic evening of friendly competition\, great conversation\, and brain-teasing trivia. Plus\, there’s a prize for the winning team and bragging rights\, of course. \n  \nWhat to expect\n– A lively\, interactive quiz with rounds for everyone \n– Randomised team selection to boost networking and collaboration \n– A relaxed evening with drinks available from the bar \n– Fun prizes and a great atmosphere \n  \nWhy attend?\n– Expand your network in a relaxed and sociable environment \n– Put your knowledge to the test in a friendly business setting \n– Enjoy a low-cost evening out with local professionals \n– Be part of a growing community event that’s all about connection \n  \n \n 
URL:https://sedgemoorchamber.co.uk/chambers-events/the-local-biz-quiz-showdown-2/
LOCATION:The Activity Warehouse\, 5 E Quay\, Bridgwater\, TA6 4DB\, United Kingdom
CATEGORIES:Networking
ATTACH;FMTTYPE=image/jpeg:https://sedgemoorchamber.co.uk/wp-content/uploads/2025/07/The-Local-Biz-Quiz-Showdown-v3.jpg
END:VEVENT
END:VCALENDAR