BEGIN:VCALENDAR
VERSION:2.0
PRODID:-//Sedgemoor Chamber - ECPv6.15.18//NONSGML v1.0//EN
CALSCALE:GREGORIAN
METHOD:PUBLISH
X-WR-CALNAME:Sedgemoor Chamber
X-ORIGINAL-URL:https://sedgemoorchamber.co.uk
X-WR-CALDESC:Events for Sedgemoor Chamber
REFRESH-INTERVAL;VALUE=DURATION:PT1H
X-Robots-Tag:noindex
X-PUBLISHED-TTL:PT1H
BEGIN:VTIMEZONE
TZID:Europe/London
BEGIN:DAYLIGHT
TZOFFSETFROM:+0000
TZOFFSETTO:+0100
TZNAME:BST
DTSTART:20240331T010000
END:DAYLIGHT
BEGIN:STANDARD
TZOFFSETFROM:+0100
TZOFFSETTO:+0000
TZNAME:GMT
DTSTART:20241027T010000
END:STANDARD
BEGIN:DAYLIGHT
TZOFFSETFROM:+0000
TZOFFSETTO:+0100
TZNAME:BST
DTSTART:20250330T010000
END:DAYLIGHT
BEGIN:STANDARD
TZOFFSETFROM:+0100
TZOFFSETTO:+0000
TZNAME:GMT
DTSTART:20251026T010000
END:STANDARD
BEGIN:DAYLIGHT
TZOFFSETFROM:+0000
TZOFFSETTO:+0100
TZNAME:BST
DTSTART:20260329T010000
END:DAYLIGHT
BEGIN:STANDARD
TZOFFSETFROM:+0100
TZOFFSETTO:+0000
TZNAME:GMT
DTSTART:20261025T010000
END:STANDARD
END:VTIMEZONE
BEGIN:VEVENT
DTSTART;TZID=Europe/London:20250613T073000
DTEND;TZID=Europe/London:20250613T093000
DTSTAMP:20260420T030338
CREATED:20250501T070058Z
LAST-MODIFIED:20250611T112456Z
UID:19155-1749799800-1749807000@sedgemoorchamber.co.uk
SUMMARY:Sedgemoor Business Expo – Networking Breakfast
DESCRIPTION:Start your Expo day the right way by joining us for one of our most popular events of the year. Enjoy a relaxed morning catching up with familiar faces\, meeting new contacts\, and getting into the Expo spirit. A full English breakfast will be served\, along with plenty of tea\, coffee\, and juice to keep you fuelled for the day ahead. \nOne of our confirmed guest speakers will be Nick Cooper from Agratas\, who will be joining us to provide an exciting update on the progress of the Agratas site. Nick will offer insight into the development milestones reached so far\, upcoming phases of the project\, and what these mean for the local business community in terms of opportunities and engagement. \nThis event has sold out in previous years\, so we recommend booking early to secure your spot! \n \nThis year’s breakfast is proudly sponsored by Begbies Traynor Group\, the UK’s leading business recovery\, financial advisory\, and property services consultancy. \nBegbies Traynor Group supports businesses through every stage of their journey\, offering expert advice on financial health\, restructuring\, and future growth. \nFind out more at www.begbies-traynorgroup.com.
URL:https://sedgemoorchamber.co.uk/chambers-events/sedgemoor-business-expo-networking-breakfast/
LOCATION:The Canalside\, Marsh Lane\, Bridgwater\,\, Somerset\, TA6 6LQ\, United Kingdom
CATEGORIES:Networking
ATTACH;FMTTYPE=image/jpeg:https://sedgemoorchamber.co.uk/wp-content/uploads/2025/04/Expo-Networking-Breakfast-v3.jpg
END:VEVENT
BEGIN:VEVENT
DTSTART;TZID=Europe/London:20250613T080000
DTEND;TZID=Europe/London:20250613T143000
DTSTAMP:20260420T030338
CREATED:20250305T112301Z
LAST-MODIFIED:20250612T115544Z
UID:17899-1749801600-1749825000@sedgemoorchamber.co.uk
SUMMARY:Sedgemoor Business Expo 2025
DESCRIPTION:We’re just around the corner from this year’s Sedgemoor Business Expo\, taking place on Friday 13 June at The Canalside\, Bridgwater. Formerly known as the Bridgwater Business Expo\, this is our third annual event – but the first under our new name\, Sedgemoor Chamber of Commerce. The rebrand better reflects the wider area we now support and the growing reach of our membership across the region. \nThis Expo is designed to connect local professionals\, spark new collaborations\, and offer valuable insights through a day packed with networking\, expert-led workshops\, and live sessions. With more stands than ever before and a fantastic line-up of speakers\, we’re looking forward to welcoming exhibitors\, sponsors\, and visitors from across Somerset and beyond. \n  \nHere’s what’s happening on the day:\n7:30am – 9:30am\nNetworking Breakfast\, Sponsored by: Begbies Traynor\, Guest Speaker: Nick Cooper\, Agratas \n  \n9:30am\nExpo Doors Open to the Public \n  \n10:00am – 10:30am\nHow to Save Money by Improving Your Businesses Waste Management Practices – Sustainable Zone \n  \n10:00am – 11:00am\nFree 1-to-1 Sessions – Business Support Pod: Mastering Your Business Numbers  \n  \n10:45am – 11:15am\nThe Real Practical Benefits of Using AI for an SME Business Leader – Digital Zone \n  \n11:00am – 12:00pm\nFree 1-to-1 Sessions – Business Support Pod: Get Your Marketing Back on Track \n  \n11:30am – 12:00pm\nDIY Guide to Recruitment – Growth Zone \n  \n12:00pm – 12:45pm\nFree 1-to-1 Sessions – Business Support Pod: Unleash Your Brand Potential \n  \n12:15pm – 12:45pm\nNet Zero: Turn Sustainability into Business Advantage – Sustainable Zone \n  \n12:45pm – 13:30pm\nFree 1-to-1 Sessions – Business Support Pod: Simplify Your Tech and Automate to Grow \n  \n1:00pm – 1:30pm\nRobots\, Reports & Revenue: Growing Your Business with AI – Growth Zone \n  \n1:45pm – 2:30pm\nNavigating the Digital Shift: Trends\, Tools and Transformation – Digital Zone \n  \n2:00pm – 4:30pm\nNetworking Summer Feast\, Sponsored by: Astron Fire & Security
URL:https://sedgemoorchamber.co.uk/chambers-events/sedgemoor-business-expo-2025/
LOCATION:The Canalside\, Marsh Lane\, Bridgwater\,\, Somerset\, TA6 6LQ\, United Kingdom
CATEGORIES:Business strategy,Free events,Networking
ATTACH;FMTTYPE=image/jpeg:https://sedgemoorchamber.co.uk/wp-content/uploads/2025/03/S-Expo-Event-Cover-Photo.jpg
END:VEVENT
BEGIN:VEVENT
DTSTART;TZID=Europe/London:20250613T140000
DTEND;TZID=Europe/London:20250613T163000
DTSTAMP:20260420T030338
CREATED:20250501T070049Z
LAST-MODIFIED:20250611T080409Z
UID:19166-1749823200-1749832200@sedgemoorchamber.co.uk
SUMMARY:Sedgemoor Business Expo – Networking Summer Feast
DESCRIPTION:If you couldn’t make it to our morning Networking Breakfast\, this summer feast is the perfect way to still get involved and wrap up your Expo experience. Whether you’ve been with us all day or are just popping by for the evening\, join us to unwind after a busy day of workshops\, seminars\, and networking. It’s an opportunity to connect with fellow professionals and a great way to end the Expo day. \n \nThis year’s Networking Summer Feast event is proudly sponsored by Astron Fire and Security\, specialists in protecting businesses and homes with bespoke fire and security systems. \nWith over 30 years of industry experience\, Astron Fire and Security is dedicated to helping organisations across the South West stay safe and secure. \nFind out more at www.astronfireandsecurity.co.uk.
URL:https://sedgemoorchamber.co.uk/chambers-events/sedgemoor-business-expo-networking-summer-feast/
LOCATION:The Canalside\, Marsh Lane\, Bridgwater\,\, Somerset\, TA6 6LQ\, United Kingdom
CATEGORIES:Networking
ATTACH;FMTTYPE=image/jpeg:https://sedgemoorchamber.co.uk/wp-content/uploads/2025/04/Expo-Networking-BBQ-.jpg-v3.jpg
END:VEVENT
END:VCALENDAR