BEGIN:VCALENDAR
VERSION:2.0
PRODID:-//Sedgemoor Chamber - ECPv6.15.18//NONSGML v1.0//EN
CALSCALE:GREGORIAN
METHOD:PUBLISH
X-WR-CALNAME:Sedgemoor Chamber
X-ORIGINAL-URL:https://sedgemoorchamber.co.uk
X-WR-CALDESC:Events for Sedgemoor Chamber
REFRESH-INTERVAL;VALUE=DURATION:PT1H
X-Robots-Tag:noindex
X-PUBLISHED-TTL:PT1H
BEGIN:VTIMEZONE
TZID:Europe/London
BEGIN:DAYLIGHT
TZOFFSETFROM:+0000
TZOFFSETTO:+0100
TZNAME:BST
DTSTART:20240331T010000
END:DAYLIGHT
BEGIN:STANDARD
TZOFFSETFROM:+0100
TZOFFSETTO:+0000
TZNAME:GMT
DTSTART:20241027T010000
END:STANDARD
BEGIN:DAYLIGHT
TZOFFSETFROM:+0000
TZOFFSETTO:+0100
TZNAME:BST
DTSTART:20250330T010000
END:DAYLIGHT
BEGIN:STANDARD
TZOFFSETFROM:+0100
TZOFFSETTO:+0000
TZNAME:GMT
DTSTART:20251026T010000
END:STANDARD
BEGIN:DAYLIGHT
TZOFFSETFROM:+0000
TZOFFSETTO:+0100
TZNAME:BST
DTSTART:20260329T010000
END:DAYLIGHT
BEGIN:STANDARD
TZOFFSETFROM:+0100
TZOFFSETTO:+0000
TZNAME:GMT
DTSTART:20261025T010000
END:STANDARD
END:VTIMEZONE
BEGIN:VEVENT
DTSTART;TZID=Europe/London:20250123T080000
DTEND;TZID=Europe/London:20250123T100000
DTSTAMP:20260422T100013
CREATED:20241219T144612Z
LAST-MODIFIED:20250121T101759Z
UID:16806-1737619200-1737626400@sedgemoorchamber.co.uk
SUMMARY:Joint Breakfast Event: Bridgwater and Taunton Chambers of Commerce
DESCRIPTION:Learn how students can help your organisation develop and grow – no matter what size of business you have! \nKickstart your day with a delicious breakfast and the opportunity to network with local businesses from Bridgwater and Taunton at this highly anticipated event. \nHosted and organised by current T-level students\, this event offers a unique chance to discover how your business can benefit from their expertise and support. Think your business is too small to collaborate with students? Think again – we’ll show you how easy and valuable it can be! Don’t miss out on this exciting opportunity to grow your business and build meaningful connections. \n 
URL:https://sedgemoorchamber.co.uk/chambers-events/joint-breakfast-event-bridgwater-and-taunton-chambers-of-commerce/
LOCATION:Victoria Park Community Centre\, Victoria Park Drive\, Bridgwater\, Somerset\, TA6 7AS\, United Kingdom
CATEGORIES:Networking
ATTACH;FMTTYPE=image/png:https://sedgemoorchamber.co.uk/wp-content/uploads/2024/12/Member-Led-event-Template-.png-v5.png
END:VEVENT
BEGIN:VEVENT
DTSTART;TZID=Europe/London:20250123T100000
DTEND;TZID=Europe/London:20250123T110000
DTSTAMP:20260422T100013
CREATED:20250102T151000Z
LAST-MODIFIED:20250102T151033Z
UID:16873-1737626400-1737630000@sedgemoorchamber.co.uk
SUMMARY:Chamber Chat
DESCRIPTION:Chamber Chat is a weekly online event hosted by us at Bridgwater Chamber of Commerce. Open to members and non-members\, this is your opportunity to connect with the local business community\, share best practices\, and discuss challenges in a safe\, supportive environment. \nWhether you’re a long-time member or new to the Chamber\, Chamber Chat offers something for everyone: \n• For Members: Strengthen connections with fellow members\, share ideas\, and discover opportunities to collaborate. \n• For New Members: Learn more about the Chamber\, meet Roger Smith (our General Manager)\, and explore how to make the most of your membership. \n• For Non-Members: Get a taste of what the Chamber has to offer and see how joining could benefit your business. \nThis informal session is the perfect way to start your Thursday. Grab a cuppa\, take a moment to relax\, and enjoy being part of this business community. Whether you’re looking to solve a business challenge\, build relationships\, or simply catch up with others\, Chamber Chat is the place to be. \nJoin Zoom Meeting: Join here\nMeeting ID: 823 6187 8612\n 
URL:https://sedgemoorchamber.co.uk/chambers-events/chamber-chat-3/
LOCATION:Online
CATEGORIES:Free events,Networking,Online Events
ATTACH;FMTTYPE=image/png:https://sedgemoorchamber.co.uk/wp-content/uploads/2025/01/Chamber-Chat.png
END:VEVENT
END:VCALENDAR