BEGIN:VCALENDAR
VERSION:2.0
PRODID:-//Sedgemoor Chamber - ECPv6.15.18//NONSGML v1.0//EN
CALSCALE:GREGORIAN
METHOD:PUBLISH
X-WR-CALNAME:Sedgemoor Chamber
X-ORIGINAL-URL:https://sedgemoorchamber.co.uk
X-WR-CALDESC:Events for Sedgemoor Chamber
REFRESH-INTERVAL;VALUE=DURATION:PT1H
X-Robots-Tag:noindex
X-PUBLISHED-TTL:PT1H
BEGIN:VTIMEZONE
TZID:Europe/London
BEGIN:DAYLIGHT
TZOFFSETFROM:+0000
TZOFFSETTO:+0100
TZNAME:BST
DTSTART:20220327T010000
END:DAYLIGHT
BEGIN:STANDARD
TZOFFSETFROM:+0100
TZOFFSETTO:+0000
TZNAME:GMT
DTSTART:20221030T010000
END:STANDARD
BEGIN:DAYLIGHT
TZOFFSETFROM:+0000
TZOFFSETTO:+0100
TZNAME:BST
DTSTART:20230326T010000
END:DAYLIGHT
BEGIN:STANDARD
TZOFFSETFROM:+0100
TZOFFSETTO:+0000
TZNAME:GMT
DTSTART:20231029T010000
END:STANDARD
BEGIN:DAYLIGHT
TZOFFSETFROM:+0000
TZOFFSETTO:+0100
TZNAME:BST
DTSTART:20240331T010000
END:DAYLIGHT
BEGIN:STANDARD
TZOFFSETFROM:+0100
TZOFFSETTO:+0000
TZNAME:GMT
DTSTART:20241027T010000
END:STANDARD
END:VTIMEZONE
BEGIN:VEVENT
DTSTART;TZID=Europe/London:20231207T120000
DTEND;TZID=Europe/London:20231207T150000
DTSTAMP:20260423T063600
CREATED:20230620T091548Z
LAST-MODIFIED:20231101T150713Z
UID:12193-1701950400-1701961200@sedgemoorchamber.co.uk
SUMMARY:Chamber Annual Christmas Lunch
DESCRIPTION:Come and join us for our Annual Christmas Lunch for some networking and great food at Keepers Kitchen and Bar\, Bridgwater on Thursday 7th December. \nEnjoy a two-course meal and tea/coffee  whilst networking with friends at our Annual Christmas Lunch which is once again being held at Keepers Kitchen and Bar. \nPlease take a look at the menu below as you’ll be pre-ordering your food when purchasing your ticket \n \n  \nWhy not check how you could get to the venue using public transport using the Think Travel portal here: Think Travel : Homepage
URL:https://sedgemoorchamber.co.uk/chambers-events/chamber-annual-christmas-lunch-2023/
LOCATION:Keepers Kitchen & Bar\, ibis Bridgwater\, Woodlands Court Business Park\, Bridgwater\, Somerset\, TA6 4FJ
CATEGORIES:Networking
ATTACH;FMTTYPE=image/png:https://sedgemoorchamber.co.uk/wp-content/uploads/2022/10/Untitled557711.png
END:VEVENT
END:VCALENDAR