BEGIN:VCALENDAR
VERSION:2.0
PRODID:-//Sedgemoor Chamber - ECPv6.15.18//NONSGML v1.0//EN
CALSCALE:GREGORIAN
METHOD:PUBLISH
X-WR-CALNAME:Sedgemoor Chamber
X-ORIGINAL-URL:https://sedgemoorchamber.co.uk
X-WR-CALDESC:Events for Sedgemoor Chamber
REFRESH-INTERVAL;VALUE=DURATION:PT1H
X-Robots-Tag:noindex
X-PUBLISHED-TTL:PT1H
BEGIN:VTIMEZONE
TZID:Europe/London
BEGIN:DAYLIGHT
TZOFFSETFROM:+0000
TZOFFSETTO:+0100
TZNAME:BST
DTSTART:20220327T010000
END:DAYLIGHT
BEGIN:STANDARD
TZOFFSETFROM:+0100
TZOFFSETTO:+0000
TZNAME:GMT
DTSTART:20221030T010000
END:STANDARD
BEGIN:DAYLIGHT
TZOFFSETFROM:+0000
TZOFFSETTO:+0100
TZNAME:BST
DTSTART:20230326T010000
END:DAYLIGHT
BEGIN:STANDARD
TZOFFSETFROM:+0100
TZOFFSETTO:+0000
TZNAME:GMT
DTSTART:20231029T010000
END:STANDARD
BEGIN:DAYLIGHT
TZOFFSETFROM:+0000
TZOFFSETTO:+0100
TZNAME:BST
DTSTART:20240331T010000
END:DAYLIGHT
BEGIN:STANDARD
TZOFFSETFROM:+0100
TZOFFSETTO:+0000
TZNAME:GMT
DTSTART:20241027T010000
END:STANDARD
END:VTIMEZONE
BEGIN:VEVENT
DTSTART;TZID=Europe/London:20231005T080000
DTEND;TZID=Europe/London:20231005T093000
DTSTAMP:20260423T101808
CREATED:20230608T200605Z
LAST-MODIFIED:20230927T135755Z
UID:12182-1696492800-1696498200@sedgemoorchamber.co.uk
SUMMARY:Business Breakfast with Hinkley PSG
DESCRIPTION:Hinkley PSG\, formed in 2017\, is an esteemed consortium of businesses with extensive experience in advising companies involved in the Hinkley Point C project\, as well as possessing transferable expertise in relevant areas. The group prides itself on collaboration\, bringing valued experience to become trusted advisors to their clients. \nOur guest speaker will be Bridgwater Chamber Member from Ashtree Resourcing\, Mark Walton\, who is also a board member of the Hinkley PSG. He’ll be introducing Hinkley Professional Services Group\, what the group does\, how it has supported the Hinkley project to date and what it plans to do in the future. \nWhy Attend?\nAttending our business networking events enables you to expand your professional network\, fostering connections that can lead to collaborations\, partnerships\, and opportunities\, while also providing a platform to gain valuable insights and industry knowledge from experts and peers. \nBy attending you will –\n\nHave an opportunity to meet key people shaping Bridgwater’s business future.\nDevelop strong business relationships.\nBe able to raise your own points on the topics in discussion.\nChance to ask key questions\n\nLimited spaces are available so book early!\nTea/Coffee and Sausage/Bacon Rolls will be served \n8am – 8.30am                      \nArrival\, refreshments & networking \n8.30am – 9am    \nSpeaker and Q&A \n9am – 9.30am                  \nTea/Coffee & Networking \nLocal Venue – The Mercure Hotel\, Bridgwater   \nWhy not check how you could get to the venue using public transport using the Think Travel portal here: Think Travel : Homepage
URL:https://sedgemoorchamber.co.uk/chambers-events/business-breakfast-hinkley-psg/
LOCATION:Mercure Hotel\, 56-66 Eastover\, Bridgwater\, TA6 5AR
CATEGORIES:Networking
ATTACH;FMTTYPE=image/png:https://sedgemoorchamber.co.uk/wp-content/uploads/2023/05/Copy-of-Business-Breakfast-8-e1743415900994.png
END:VEVENT
END:VCALENDAR