BEGIN:VCALENDAR
VERSION:2.0
PRODID:-//Sedgemoor Chamber - ECPv6.15.18//NONSGML v1.0//EN
CALSCALE:GREGORIAN
METHOD:PUBLISH
X-WR-CALNAME:Sedgemoor Chamber
X-ORIGINAL-URL:https://sedgemoorchamber.co.uk
X-WR-CALDESC:Events for Sedgemoor Chamber
REFRESH-INTERVAL;VALUE=DURATION:PT1H
X-Robots-Tag:noindex
X-PUBLISHED-TTL:PT1H
BEGIN:VTIMEZONE
TZID:Europe/London
BEGIN:DAYLIGHT
TZOFFSETFROM:+0000
TZOFFSETTO:+0100
TZNAME:BST
DTSTART:20220327T010000
END:DAYLIGHT
BEGIN:STANDARD
TZOFFSETFROM:+0100
TZOFFSETTO:+0000
TZNAME:GMT
DTSTART:20221030T010000
END:STANDARD
BEGIN:DAYLIGHT
TZOFFSETFROM:+0000
TZOFFSETTO:+0100
TZNAME:BST
DTSTART:20230326T010000
END:DAYLIGHT
BEGIN:STANDARD
TZOFFSETFROM:+0100
TZOFFSETTO:+0000
TZNAME:GMT
DTSTART:20231029T010000
END:STANDARD
BEGIN:DAYLIGHT
TZOFFSETFROM:+0000
TZOFFSETTO:+0100
TZNAME:BST
DTSTART:20240331T010000
END:DAYLIGHT
BEGIN:STANDARD
TZOFFSETFROM:+0100
TZOFFSETTO:+0000
TZNAME:GMT
DTSTART:20241027T010000
END:STANDARD
END:VTIMEZONE
BEGIN:VEVENT
DTSTART;TZID=Europe/London:20230726T183000
DTEND;TZID=Europe/London:20230726T210000
DTSTAMP:20260423T154544
CREATED:20230608T185027Z
LAST-MODIFIED:20230629T202713Z
UID:12177-1690396200-1690405200@sedgemoorchamber.co.uk
SUMMARY:Chamber Summer Social Barbecue
DESCRIPTION:OUR SUMMER SOCIAL BARBECUE IS BACK….\nCome and join us for our summer social BBQ in the beautiful unique setting of Greenway Farm. \nBut be on your best behaviour as we’ll be joined by Avon & Somerset Police and Crime Commissioner\, Mark Shelford.  \nDon’t miss this fantastic\, informal and enjoyable event tailored for local businesses to relax\, socialise and build relationships in a stunning setting. \nAnd get all your crime related questions ready for Mark Shelford who will be happy to answer them! \nMark is responsible for setting the direction and budget for policing in Avon and Somerset. \nThis involves: \n\nHolding the police to account through the Chief Constable\nBeing accountable to local people\nSetting the strategic direction and accountability for policing\nSetting policing priorities in consultation with communities\nConsulting\, involving\, and engaging with local people\n\nOn the menu: \nChicken skewers\, pulled pork\, slow roast brisket\, burgers and sausages. \nPulled Jackfruit for vegetarians. \nFollowed by Pavlova\, cheesecake\, brownie\, cheeseboard. \nThe bar will be open for personal purchases of cold alcoholic and non-alcoholic drinks. \nThis is an evening event to make it more accessible to all businesses. \nBookings for this event will close 5pm on Wednesday\, July 19\, 2023.  \n    \nWhy not check how you could get to the venue using public transport using the Think Travel portal here: Think Travel : Homepage
URL:https://sedgemoorchamber.co.uk/chambers-events/chamber-summer-social-bbq-2023/
LOCATION:Greenway Farm\, Skimmerton Lane\, Bridgwater\, Somerset\, TA5 2AX\, United Kingdom
CATEGORIES:Networking
ATTACH;FMTTYPE=image/jpeg:https://sedgemoorchamber.co.uk/wp-content/uploads/2023/06/Black-and-Orange-Illustrative-BBQ-Party-Instagram-Story-2-1110x555-1.jpg
END:VEVENT
END:VCALENDAR