BEGIN:VCALENDAR
VERSION:2.0
PRODID:-//Sedgemoor Chamber - ECPv6.15.18//NONSGML v1.0//EN
CALSCALE:GREGORIAN
METHOD:PUBLISH
X-WR-CALNAME:Sedgemoor Chamber
X-ORIGINAL-URL:https://sedgemoorchamber.co.uk
X-WR-CALDESC:Events for Sedgemoor Chamber
REFRESH-INTERVAL;VALUE=DURATION:PT1H
X-Robots-Tag:noindex
X-PUBLISHED-TTL:PT1H
BEGIN:VTIMEZONE
TZID:Europe/London
BEGIN:DAYLIGHT
TZOFFSETFROM:+0000
TZOFFSETTO:+0100
TZNAME:BST
DTSTART:20220327T010000
END:DAYLIGHT
BEGIN:STANDARD
TZOFFSETFROM:+0100
TZOFFSETTO:+0000
TZNAME:GMT
DTSTART:20221030T010000
END:STANDARD
BEGIN:DAYLIGHT
TZOFFSETFROM:+0000
TZOFFSETTO:+0100
TZNAME:BST
DTSTART:20230326T010000
END:DAYLIGHT
BEGIN:STANDARD
TZOFFSETFROM:+0100
TZOFFSETTO:+0000
TZNAME:GMT
DTSTART:20231029T010000
END:STANDARD
BEGIN:DAYLIGHT
TZOFFSETFROM:+0000
TZOFFSETTO:+0100
TZNAME:BST
DTSTART:20240331T010000
END:DAYLIGHT
BEGIN:STANDARD
TZOFFSETFROM:+0100
TZOFFSETTO:+0000
TZNAME:GMT
DTSTART:20241027T010000
END:STANDARD
END:VTIMEZONE
BEGIN:VEVENT
DTSTART;TZID=Europe/London:20230421T080000
DTEND;TZID=Europe/London:20230421T100000
DTSTAMP:20260423T210948
CREATED:20221215T132558Z
LAST-MODIFIED:20230404T104831Z
UID:11139-1682064000-1682071200@sedgemoorchamber.co.uk
SUMMARY:Business Breakfast with Rebecca Pow MP\, DEFRA Minister
DESCRIPTION:Rebecca is a great supporter of Business and the Environment. She has supported businesses extensively and always enjoys meeting the business community.  \nWith the insight that Rebecca has in her role as Parliamentary Under Secretary of State in the Department for Environment\, Food and Rural Affairs\, she will speak to guests about The Road to Net Zero and the role businesses can play to achieve that. \nYou’ll be able to share your thoughts on decarbonising your business and discuss the way that Bridgwater Chamber of Commerce can help you on your journey to net zero. \nYou’ll also have the opportunity to ask Rebecca any other questions on matters of importance to your business. \nWhy Attend?\nA fantastic opportunity to meet professionals from other local businesses and to build relationships with them\, gaining new contacts\, information and support for your business. \nTo listen to views and ideas on the topics of the events and to raise your own points and opinions about these\, and to gain information from the guest speakers. Last year’s event was a great success so book your places now to avoid disappointment. Also get to ask the questions which are key to you and your business. \nBy attending you will –\n\nHave an opportunity to meet key people shaping Bridgwater’s business future.\nDevelop strong business relationships.\nBe able to raise your own points on the topics in discussion.\nChance to ask key questions\n\n\nTea/Coffee and pastries will be available \n8am – 8.30am                     Arrival\, tea/coffee & networking \n8.30am – 9.15/9.30am   Speaker and Q&A \n9.30am – 10am                 Tea/Coffee & Networking \nLocal Venue – The Canalside\, Bridgwater  \nWhy not check how you could get to the venue using public transport using the Think Travel portal here: Think Travel : Homepage
URL:https://sedgemoorchamber.co.uk/chambers-events/business-breakfast-with-rebecca-pow-mp-defra-minister/
LOCATION:The Canalside\, Marsh Lane\, Bridgwater\,\, Somerset\, TA6 6LQ\, United Kingdom
CATEGORIES:Networking
ATTACH;FMTTYPE=image/jpeg:https://sedgemoorchamber.co.uk/wp-content/uploads/2022/12/Copy-of-Business-Breakfast-2-scaled.jpg
END:VEVENT
END:VCALENDAR