BEGIN:VCALENDAR
VERSION:2.0
PRODID:-//Sedgemoor Chamber - ECPv6.15.18//NONSGML v1.0//EN
CALSCALE:GREGORIAN
METHOD:PUBLISH
X-WR-CALNAME:Sedgemoor Chamber
X-ORIGINAL-URL:https://sedgemoorchamber.co.uk
X-WR-CALDESC:Events for Sedgemoor Chamber
REFRESH-INTERVAL;VALUE=DURATION:PT1H
X-Robots-Tag:noindex
X-PUBLISHED-TTL:PT1H
BEGIN:VTIMEZONE
TZID:Europe/London
BEGIN:DAYLIGHT
TZOFFSETFROM:+0000
TZOFFSETTO:+0100
TZNAME:BST
DTSTART:20210328T010000
END:DAYLIGHT
BEGIN:STANDARD
TZOFFSETFROM:+0100
TZOFFSETTO:+0000
TZNAME:GMT
DTSTART:20211031T010000
END:STANDARD
BEGIN:DAYLIGHT
TZOFFSETFROM:+0000
TZOFFSETTO:+0100
TZNAME:BST
DTSTART:20220327T010000
END:DAYLIGHT
BEGIN:STANDARD
TZOFFSETFROM:+0100
TZOFFSETTO:+0000
TZNAME:GMT
DTSTART:20221030T010000
END:STANDARD
BEGIN:DAYLIGHT
TZOFFSETFROM:+0000
TZOFFSETTO:+0100
TZNAME:BST
DTSTART:20230326T010000
END:DAYLIGHT
BEGIN:STANDARD
TZOFFSETFROM:+0100
TZOFFSETTO:+0000
TZNAME:GMT
DTSTART:20231029T010000
END:STANDARD
END:VTIMEZONE
BEGIN:VEVENT
DTSTART;TZID=Europe/London:20221020T123000
DTEND;TZID=Europe/London:20221020T143000
DTSTAMP:20260424T073800
CREATED:20220824T135427Z
LAST-MODIFIED:20220824T135427Z
UID:10246-1666269000-1666276200@sedgemoorchamber.co.uk
SUMMARY:Protecting your business from Cyber Crime
DESCRIPTION:Is your business shielded from potential Cyber crime? \nCyber is dauting for small businesses and sole traders. It’s hard to know where to start\, services can be expensive\, and it’s not always obvious who you can trust. The South West Cyber Resilience Centre (SWCRC) aims to solve all of these problems.   \nRoss Brown\, Head of Cyber and Innovation at the South West Cyber Resilience Centre\, will talk about some of the biggest cyber threats to businesses\, the practical steps that you can take to protect your business from cyber threats and the way The South West Cyber Resilience Centre can support you and your business for FREE   \n  \nLunch and refreshments will be provided –  Any special dietary requirements should be included on the booking form   \n  \nThe South West Cyber Resilience Centre is led by serving police officers\, as part of a not-for-profit partnership with business and academia. Because we’re funded by the Home Office\, regional policing and private businesses\, we don’t need to make money from our members. We think we’re unique in being able to provide something to protect the small businesses and charities who don’t have the resources or knowledge to protect themselves from cybercrime.
URL:https://sedgemoorchamber.co.uk/chambers-events/protecting-your-business-from-cyber-crime/
LOCATION:Victoria Park Community Centre\, Victoria Park Drive\, Bridgwater\, Somerset\, TA6 7AS\, United Kingdom
CATEGORIES:Business Training,Networking
ATTACH;FMTTYPE=image/png:https://sedgemoorchamber.co.uk/wp-content/uploads/2022/08/Untitled-Facebook-Cover.png
END:VEVENT
END:VCALENDAR