BEGIN:VCALENDAR
VERSION:2.0
PRODID:-//Sedgemoor Chamber - ECPv6.15.18//NONSGML v1.0//EN
CALSCALE:GREGORIAN
METHOD:PUBLISH
X-WR-CALNAME:Sedgemoor Chamber
X-ORIGINAL-URL:https://sedgemoorchamber.co.uk
X-WR-CALDESC:Events for Sedgemoor Chamber
REFRESH-INTERVAL;VALUE=DURATION:PT1H
X-Robots-Tag:noindex
X-PUBLISHED-TTL:PT1H
BEGIN:VTIMEZONE
TZID:Europe/London
BEGIN:DAYLIGHT
TZOFFSETFROM:+0000
TZOFFSETTO:+0100
TZNAME:BST
DTSTART:20240331T010000
END:DAYLIGHT
BEGIN:STANDARD
TZOFFSETFROM:+0100
TZOFFSETTO:+0000
TZNAME:GMT
DTSTART:20241027T010000
END:STANDARD
BEGIN:DAYLIGHT
TZOFFSETFROM:+0000
TZOFFSETTO:+0100
TZNAME:BST
DTSTART:20250330T010000
END:DAYLIGHT
BEGIN:STANDARD
TZOFFSETFROM:+0100
TZOFFSETTO:+0000
TZNAME:GMT
DTSTART:20251026T010000
END:STANDARD
BEGIN:DAYLIGHT
TZOFFSETFROM:+0000
TZOFFSETTO:+0100
TZNAME:BST
DTSTART:20260329T010000
END:DAYLIGHT
BEGIN:STANDARD
TZOFFSETFROM:+0100
TZOFFSETTO:+0000
TZNAME:GMT
DTSTART:20261025T010000
END:STANDARD
END:VTIMEZONE
BEGIN:VEVENT
DTSTART;TZID=Europe/London:20251203T080000
DTEND;TZID=Europe/London:20251203T100000
DTSTAMP:20260419T144112
CREATED:20250827T062322Z
LAST-MODIFIED:20251202T122958Z
UID:20783-1764748800-1764756000@sedgemoorchamber.co.uk
SUMMARY:Agratas Breakfast Briefing
DESCRIPTION:Somerset is set to play a central role in the future of green energy. Join us for a breakfast briefing with Nick Cooper from Agratas\, where we will hear the latest updates on the multi-billion-pound battery cell manufacturing facility being developed at the Gravity Smart Campus near Bridgwater. \nThis ground-breaking project is expected to deliver nearly half of the UK’s battery capacity for the automotive industry by the early 2030s\, creating up to 4\,000 skilled jobs in the Somerset area and thousands more across the national supply chain. \nThis session will cover the progress of the build\, what to expect as we move closer to production in 2027\, and how Agratas is working with local partners to deliver skills\, education and long-term economic opportunity. \n  \nWhat to expect\n– An exclusive project update from Agratas \n– Insights into Somerset’s role in the UK’s sustainable energy future \n– Opportunities for local business\, education and employment \n– Buffet breakfast and informal networking in a prestigious setting \n  \n \n  \nWe’re proud to have Pardoes Solicitors sponsoring this event. As Somerset’s largest and longest-established legal firm\, Pardoes has been supporting the communities of Bridgwater\, Taunton\, and Yeovil for over 100 years. \nThey provide expert legal advice and a personal\, transparent service across areas including family law\, conveyancing\, wills and probate\, agriculture\, business law\, and dispute resolution. \nKnown for their local roots and modern approach\, Pardoes continues to protect the interests of individuals\, families\, and businesses across Somerset today and for generations to come. \npardoes.co.uk \n  \n 
URL:https://sedgemoorchamber.co.uk/chambers-events/agratas-breakfast-briefing/
LOCATION:The Castle at Taunton\, The Castle Hotel. Castle Green\, Taunton\, TA1 1NF
CATEGORIES:Local Insights,Networking
ATTACH;FMTTYPE=image/jpeg:https://sedgemoorchamber.co.uk/wp-content/uploads/2025/08/1-3.jpg
END:VEVENT
BEGIN:VEVENT
DTSTART;TZID=Europe/London:20251204T100000
DTEND;TZID=Europe/London:20251204T110000
DTSTAMP:20260419T144112
CREATED:20251106T054104Z
LAST-MODIFIED:20251106T054104Z
UID:21927-1764842400-1764846000@sedgemoorchamber.co.uk
SUMMARY:Chamber Chat
DESCRIPTION:Chamber Chat is a monthly online event hosted by us at Sedgemoor Chamber of Commerce. Open to members and non-members\, this is your opportunity to connect with the local business community\, share best practices\, and discuss challenges in a safe\, supportive environment. \nWhether you’re a long-time member or new to the Chamber\, Chamber Chat offers something for everyone: \n• For Members: Strengthen connections with fellow members\, share ideas\, and discover opportunities to collaborate. \n• For New Members: Learn more about the Chamber\, meet Roger Smith (our General Manager)\, and explore how to make the most of your membership. \n• For Non-Members: Get a taste of what the Chamber has to offer and see how joining could benefit your business. \nThis informal session is the perfect way to start your Thursday. Grab a cuppa\, take a moment to relax\, and enjoy being part of this business community. Whether you’re looking to solve a business challenge\, build relationships\, or simply catch up with others\, Chamber Chat is the place to be. \nJoin Zoom Meeting: Join here\nMeeting ID: 837 1110 0858
URL:https://sedgemoorchamber.co.uk/chambers-events/chamber-chat-15/
LOCATION:Online
CATEGORIES:Free events,Networking,Online Events
ATTACH;FMTTYPE=image/png:https://sedgemoorchamber.co.uk/wp-content/uploads/2025/05/Chamber-Chat.png-v3.png
END:VEVENT
BEGIN:VEVENT
DTSTART;TZID=Europe/London:20251210T120000
DTEND;TZID=Europe/London:20251210T150000
DTSTAMP:20260419T144112
CREATED:20250910T090015Z
LAST-MODIFIED:20251209T024811Z
UID:20991-1765368000-1765378800@sedgemoorchamber.co.uk
SUMMARY:Annual Christmas Lunch
DESCRIPTION:Celebrate the season with us at our Annual Christmas Lunch\, this year held at the Walnut Tree Hotel in North Petherton. It is the perfect opportunity to take a well-earned break\, enjoy a delicious festive lunch\, and reconnect with fellow Chamber members as we round off another successful year. \nWhether you are celebrating your own business milestones or simply want to soak up the festive atmosphere\, this event brings together great food\, good company and a generous helping of holiday cheer. Expect a warm\, relaxed setting and a chance to toast the year’s achievements together. \n  \nWhat to expect\n– A traditional Christmas lunch served from 12:30pm \n– Friendly and relaxed connecting in a festive setting \n– Time to reflect\, recharge and connect before the Christmas break \n  \nDress Code\nFestive chic! from seasonal sparkle to your best Christmas jumper\, we welcome anything that brings a bit of cheer to the occasion. \n \n \nWe’re proud to have Imprints sponsoring this event. For over 25 years\, Imprints has been the go-to name for branded workwear\, uniforms and merchandise across Somerset and the South West. Based in Taunton\, their expert team helps businesses make a lasting impression through high quality embroidery\, printing and personalised garment solutions. \nFrom durable workwear and PPE to team kits and premium corporate uniforms\, Imprints combines craftsmanship\, reliability and exceptional customer service to ensure every order\, big or small\, is delivered with care and precision. \nWith a showroom open Monday to Friday\, Imprints invites you to discover how workwear that works as hard as you do can elevate your brand. \nimprintstaunton.co.uk | info@imprintstaunton.co.uk | 01823 323288
URL:https://sedgemoorchamber.co.uk/chambers-events/annual-christmas-lunch/
LOCATION:The Walnut Tree Hotel\, 87 Fore St\, North Petherton\, Bridgwater\, Somerset\, TA6 6QA\, United Kingdom
CATEGORIES:Networking
ATTACH;FMTTYPE=image/jpeg:https://sedgemoorchamber.co.uk/wp-content/uploads/2025/09/Annual-Christmas-Lunchv2.jpg
END:VEVENT
END:VCALENDAR