BEGIN:VCALENDAR
VERSION:2.0
PRODID:-//Sedgemoor Chamber - ECPv6.15.18//NONSGML v1.0//EN
CALSCALE:GREGORIAN
METHOD:PUBLISH
X-WR-CALNAME:Sedgemoor Chamber
X-ORIGINAL-URL:https://sedgemoorchamber.co.uk
X-WR-CALDESC:Events for Sedgemoor Chamber
REFRESH-INTERVAL;VALUE=DURATION:PT1H
X-Robots-Tag:noindex
X-PUBLISHED-TTL:PT1H
BEGIN:VTIMEZONE
TZID:Europe/London
BEGIN:DAYLIGHT
TZOFFSETFROM:+0000
TZOFFSETTO:+0100
TZNAME:BST
DTSTART:20240331T010000
END:DAYLIGHT
BEGIN:STANDARD
TZOFFSETFROM:+0100
TZOFFSETTO:+0000
TZNAME:GMT
DTSTART:20241027T010000
END:STANDARD
BEGIN:DAYLIGHT
TZOFFSETFROM:+0000
TZOFFSETTO:+0100
TZNAME:BST
DTSTART:20250330T010000
END:DAYLIGHT
BEGIN:STANDARD
TZOFFSETFROM:+0100
TZOFFSETTO:+0000
TZNAME:GMT
DTSTART:20251026T010000
END:STANDARD
BEGIN:DAYLIGHT
TZOFFSETFROM:+0000
TZOFFSETTO:+0100
TZNAME:BST
DTSTART:20260329T010000
END:DAYLIGHT
BEGIN:STANDARD
TZOFFSETFROM:+0100
TZOFFSETTO:+0000
TZNAME:GMT
DTSTART:20261025T010000
END:STANDARD
END:VTIMEZONE
BEGIN:VEVENT
DTSTART;TZID=Europe/London:20250702T173000
DTEND;TZID=Europe/London:20250702T200000
DTSTAMP:20260419T232459
CREATED:20250612T085218Z
LAST-MODIFIED:20250612T100814Z
UID:19856-1751477400-1751486400@sedgemoorchamber.co.uk
SUMMARY:Social Networking
DESCRIPTION:What to expect\nJoin us for a evening at The Castle\, Taunton\, where business meets connection in a fresh\, practical way. This isn’t your typical networking event\, it’s an interactive coaching session designed to help you feel more confident and effective when networking. Whether you’re a seasoned networker or just getting started\, this session offers an engaging space to sharpen your skills while meeting other local professionals. \n  \nHighlights include:\n– A glass of fizz and nibbles on arrival \n– A fun\, interactive format with live roleplay scenarios \n– Led by Helen Lacey and Roger\, who will walk you through real-world networking situations \n– A welcoming and supportive atmosphere to build your confidence and connections \n  \nWhy come along?\n– Build your networking skills in a practical and informal setting \n– Gain useful tips and techniques that can be used immediately \n– Expand your local business contacts \n– Feel more at ease at future networking events \n  \n 
URL:https://sedgemoorchamber.co.uk/chambers-events/social-networking/
LOCATION:The Castle at Taunton\, The Castle Hotel. Castle Green\, Taunton\, TA1 1NF
CATEGORIES:Business Training,Networking
ATTACH;FMTTYPE=image/jpeg:https://sedgemoorchamber.co.uk/wp-content/uploads/2025/06/Social-Networking-v2.jpg
END:VEVENT
BEGIN:VEVENT
DTSTART;TZID=Europe/London:20250703T100000
DTEND;TZID=Europe/London:20250703T110000
DTSTAMP:20260419T232459
CREATED:20250523T082624Z
LAST-MODIFIED:20250703T045814Z
UID:19544-1751536800-1751540400@sedgemoorchamber.co.uk
SUMMARY:Chamber Chat
DESCRIPTION:Chamber Chat is a monthly online event hosted by us at Sedgemoor Chamber of Commerce. Open to members and non-members\, this is your opportunity to connect with the local business community\, share best practices\, and discuss challenges in a safe\, supportive environment. \nWhether you’re a long-time member or new to the Chamber\, Chamber Chat offers something for everyone: \n• For Members: Strengthen connections with fellow members\, share ideas\, and discover opportunities to collaborate. \n• For New Members: Learn more about the Chamber\, meet Roger Smith (our General Manager)\, and explore how to make the most of your membership. \n• For Non-Members: Get a taste of what the Chamber has to offer and see how joining could benefit your business. \nThis informal session is the perfect way to start your Thursday. Grab a cuppa\, take a moment to relax\, and enjoy being part of this business community. Whether you’re looking to solve a business challenge\, build relationships\, or simply catch up with others\, Chamber Chat is the place to be. \nJoin Zoom Meeting: Join here\nMeeting ID: 837 1110 0858
URL:https://sedgemoorchamber.co.uk/chambers-events/chamber-chat-10/
LOCATION:Online
CATEGORIES:Free events,Networking,Online Events
ATTACH;FMTTYPE=image/png:https://sedgemoorchamber.co.uk/wp-content/uploads/2025/05/Chamber-Chat.png-v3.png
END:VEVENT
BEGIN:VEVENT
DTSTART;TZID=Europe/London:20250716T183000
DTEND;TZID=Europe/London:20250716T210000
DTSTAMP:20260419T232459
CREATED:20250612T100445Z
LAST-MODIFIED:20250711T102533Z
UID:19868-1752690600-1752699600@sedgemoorchamber.co.uk
SUMMARY:Summer BBQ
DESCRIPTION:What to expect\nOur annual Summer BBQ returns to the beautiful setting of Greenway Farm\, offering the perfect opportunity to unwind\, connect and celebrate the season with fellow members and local businesses. Whether you’re a regular or a first-timer\, this is a relaxed evening full of good food\, great company and plenty of chances to catch up or make new connections. \n  \nEvent highlights:\n– A two-course meal \n– A welcome drink on arrival to ease you in \n– Friendly\, informal networking \n– Stunning countryside setting \n  \nWhy come along?\n– A chance to relax and socialise with familiar and new faces \n– Celebrate summer and your business achievements \n– Enjoy a warm\, inclusive event that brings the local business community together \n  \n \n \n  \nPaul Smith Associates\, your local\, family run insurance broker – starting off in haulage\, we now specialise in the self employed and SME markets\, helping hundreds of local businesses find their suitable product. Working with other\, we aim to provide a simple and cost effective solution to your insurance needs – all while supporting local.
URL:https://sedgemoorchamber.co.uk/chambers-events/summer-bbq/
LOCATION:Greenway Farm\, Skimmerton Lane\, Bridgwater\, Somerset\, TA5 2AX\, United Kingdom
CATEGORIES:Networking
ATTACH;FMTTYPE=image/jpeg:https://sedgemoorchamber.co.uk/wp-content/uploads/2025/06/Summer-BBQ.jpg
END:VEVENT
END:VCALENDAR