BEGIN:VCALENDAR
VERSION:2.0
PRODID:-//Sedgemoor Chamber - ECPv6.15.18//NONSGML v1.0//EN
CALSCALE:GREGORIAN
METHOD:PUBLISH
X-WR-CALNAME:Sedgemoor Chamber
X-ORIGINAL-URL:https://sedgemoorchamber.co.uk
X-WR-CALDESC:Events for Sedgemoor Chamber
REFRESH-INTERVAL;VALUE=DURATION:PT1H
X-Robots-Tag:noindex
X-PUBLISHED-TTL:PT1H
BEGIN:VTIMEZONE
TZID:Europe/London
BEGIN:DAYLIGHT
TZOFFSETFROM:+0000
TZOFFSETTO:+0100
TZNAME:BST
DTSTART:20240331T010000
END:DAYLIGHT
BEGIN:STANDARD
TZOFFSETFROM:+0100
TZOFFSETTO:+0000
TZNAME:GMT
DTSTART:20241027T010000
END:STANDARD
BEGIN:DAYLIGHT
TZOFFSETFROM:+0000
TZOFFSETTO:+0100
TZNAME:BST
DTSTART:20250330T010000
END:DAYLIGHT
BEGIN:STANDARD
TZOFFSETFROM:+0100
TZOFFSETTO:+0000
TZNAME:GMT
DTSTART:20251026T010000
END:STANDARD
BEGIN:DAYLIGHT
TZOFFSETFROM:+0000
TZOFFSETTO:+0100
TZNAME:BST
DTSTART:20260329T010000
END:DAYLIGHT
BEGIN:STANDARD
TZOFFSETFROM:+0100
TZOFFSETTO:+0000
TZNAME:GMT
DTSTART:20261025T010000
END:STANDARD
END:VTIMEZONE
BEGIN:VEVENT
DTSTART;TZID=Europe/London:20250109T100000
DTEND;TZID=Europe/London:20250109T110000
DTSTAMP:20260420T095842
CREATED:20250102T145732Z
LAST-MODIFIED:20250102T150507Z
UID:16861-1736416800-1736420400@sedgemoorchamber.co.uk
SUMMARY:Chamber Chat
DESCRIPTION:Chamber Chat is a weekly online event hosted by us at Bridgwater Chamber of Commerce. Open to members and non-members\, this is your opportunity to connect with the local business community\, share best practices\, and discuss challenges in a safe\, supportive environment. \nWhether you’re a long-time member or new to the Chamber\, Chamber Chat offers something for everyone: \n• For Members: Strengthen connections with fellow members\, share ideas\, and discover opportunities to collaborate. \n• For New Members: Learn more about the Chamber\, meet Roger Smith (our General Manager)\, and explore how to make the most of your membership. \n• For Non-Members: Get a taste of what the Chamber has to offer and see how joining could benefit your business. \nThis informal session is the perfect way to start your Thursday. Grab a cuppa\, take a moment to relax\, and enjoy being part of this business community. Whether you’re looking to solve a business challenge\, build relationships\, or simply catch up with others\, Chamber Chat is the place to be. \nJoin Zoom Meeting: Join here\nMeeting ID: 823 6187 8612\n 
URL:https://sedgemoorchamber.co.uk/chambers-events/chamber-chat/
LOCATION:Online
CATEGORIES:Free events,Networking,Online Events
ATTACH;FMTTYPE=image/png:https://sedgemoorchamber.co.uk/wp-content/uploads/2025/01/Chamber-Chat.png
END:VEVENT
BEGIN:VEVENT
DTSTART;TZID=Europe/London:20250116T100000
DTEND;TZID=Europe/London:20250116T110000
DTSTAMP:20260420T095842
CREATED:20250102T150535Z
LAST-MODIFIED:20250102T151030Z
UID:16870-1737021600-1737025200@sedgemoorchamber.co.uk
SUMMARY:Chamber Chat
DESCRIPTION:Chamber Chat is a weekly online event hosted by us at Bridgwater Chamber of Commerce. Open to members and non-members\, this is your opportunity to connect with the local business community\, share best practices\, and discuss challenges in a safe\, supportive environment. \nWhether you’re a long-time member or new to the Chamber\, Chamber Chat offers something for everyone: \n• For Members: Strengthen connections with fellow members\, share ideas\, and discover opportunities to collaborate. \n• For New Members: Learn more about the Chamber\, meet Roger Smith (our General Manager)\, and explore how to make the most of your membership. \n• For Non-Members: Get a taste of what the Chamber has to offer and see how joining could benefit your business. \nThis informal session is the perfect way to start your Thursday. Grab a cuppa\, take a moment to relax\, and enjoy being part of this business community. Whether you’re looking to solve a business challenge\, build relationships\, or simply catch up with others\, Chamber Chat is the place to be. \nJoin Zoom Meeting: Join here\nMeeting ID: 823 6187 8612\n 
URL:https://sedgemoorchamber.co.uk/chambers-events/chamber-chat-2/
LOCATION:Online
CATEGORIES:Free events,Networking,Online Events
ATTACH;FMTTYPE=image/png:https://sedgemoorchamber.co.uk/wp-content/uploads/2025/01/Chamber-Chat.png
END:VEVENT
BEGIN:VEVENT
DTSTART;TZID=Europe/London:20250117T080000
DTEND;TZID=Europe/London:20250117T100000
DTSTAMP:20260420T095842
CREATED:20241024T103836Z
LAST-MODIFIED:20250114T151904Z
UID:16194-1737100800-1737108000@sedgemoorchamber.co.uk
SUMMARY:New Year Networking Breakfast with MP Ashley Fox
DESCRIPTION:Join us for the first Networking Breakfast of the year\, with special guest Ashley Fox\, the elected MP for Bridgwater. This event is the perfect opportunity to start the new year by reconnecting with local businesses and meeting new ones. Held at the stunning Enmore Park Golf Club\, the morning will include tea\, coffee\, and pastries. \nWhy attend?\n•Expand your network: Connect with other local businesses and professionals. \n•Engage with Ashley Fox: Share your thoughts on local priorities and hear his vision for Bridgwater. \nWe’re thrilled to announce that this event is proudly sponsored by Sedgemoor FM! As a local radio station dedicated to serving the community\, Sedgemoor FM plays a vital role in keeping us connected\, informed\, and entertained. We’re grateful for their support in helping make this event possible!\nAshley Fox was elected as the Member of Parliament for Bridgwater in July 2024. \nAshley is a qualified solicitor who specialised in Insurance Litigation. He practised for 15 years before being elected to the European Parliament in 2009. Ashley represented the South West of England & Gibraltar from 2009-2019. \nOn leaving the European Parliament Ashley set up his own company\, Ashley Fox Consulting\, which advises clients on how the EU operates. \nIn 2020 Ashley was appointed as the first Chairman of the Independent Monitoring Authority. This new public body was set up under the UK-EU Withdrawal Agreement to ensure that the rights of EU citizens in the UK were upheld. Ashley joined the board of the Financial Reporting Council as a Non Executive Director in February 2022. He stepped down from these 2 public appointments upon being selected as the Conservative candidate for Bridgwater in September 2023.
URL:https://sedgemoorchamber.co.uk/chambers-events/meet-the-mp-ashley-fox/
LOCATION:Enmore Park Golf Club\, TA5 2AN
CATEGORIES:Networking
ATTACH;FMTTYPE=image/png:https://sedgemoorchamber.co.uk/wp-content/uploads/2024/10/New-Year-e1743417538713.png
END:VEVENT
BEGIN:VEVENT
DTSTART;TZID=Europe/London:20250123T080000
DTEND;TZID=Europe/London:20250123T100000
DTSTAMP:20260420T095842
CREATED:20241219T144612Z
LAST-MODIFIED:20250121T101759Z
UID:16806-1737619200-1737626400@sedgemoorchamber.co.uk
SUMMARY:Joint Breakfast Event: Bridgwater and Taunton Chambers of Commerce
DESCRIPTION:Learn how students can help your organisation develop and grow – no matter what size of business you have! \nKickstart your day with a delicious breakfast and the opportunity to network with local businesses from Bridgwater and Taunton at this highly anticipated event. \nHosted and organised by current T-level students\, this event offers a unique chance to discover how your business can benefit from their expertise and support. Think your business is too small to collaborate with students? Think again – we’ll show you how easy and valuable it can be! Don’t miss out on this exciting opportunity to grow your business and build meaningful connections. \n 
URL:https://sedgemoorchamber.co.uk/chambers-events/joint-breakfast-event-bridgwater-and-taunton-chambers-of-commerce/
LOCATION:Victoria Park Community Centre\, Victoria Park Drive\, Bridgwater\, Somerset\, TA6 7AS\, United Kingdom
CATEGORIES:Networking
ATTACH;FMTTYPE=image/png:https://sedgemoorchamber.co.uk/wp-content/uploads/2024/12/Member-Led-event-Template-.png-v5.png
END:VEVENT
BEGIN:VEVENT
DTSTART;TZID=Europe/London:20250123T100000
DTEND;TZID=Europe/London:20250123T110000
DTSTAMP:20260420T095842
CREATED:20250102T151000Z
LAST-MODIFIED:20250102T151033Z
UID:16873-1737626400-1737630000@sedgemoorchamber.co.uk
SUMMARY:Chamber Chat
DESCRIPTION:Chamber Chat is a weekly online event hosted by us at Bridgwater Chamber of Commerce. Open to members and non-members\, this is your opportunity to connect with the local business community\, share best practices\, and discuss challenges in a safe\, supportive environment. \nWhether you’re a long-time member or new to the Chamber\, Chamber Chat offers something for everyone: \n• For Members: Strengthen connections with fellow members\, share ideas\, and discover opportunities to collaborate. \n• For New Members: Learn more about the Chamber\, meet Roger Smith (our General Manager)\, and explore how to make the most of your membership. \n• For Non-Members: Get a taste of what the Chamber has to offer and see how joining could benefit your business. \nThis informal session is the perfect way to start your Thursday. Grab a cuppa\, take a moment to relax\, and enjoy being part of this business community. Whether you’re looking to solve a business challenge\, build relationships\, or simply catch up with others\, Chamber Chat is the place to be. \nJoin Zoom Meeting: Join here\nMeeting ID: 823 6187 8612\n 
URL:https://sedgemoorchamber.co.uk/chambers-events/chamber-chat-3/
LOCATION:Online
CATEGORIES:Free events,Networking,Online Events
ATTACH;FMTTYPE=image/png:https://sedgemoorchamber.co.uk/wp-content/uploads/2025/01/Chamber-Chat.png
END:VEVENT
BEGIN:VEVENT
DTSTART;TZID=Europe/London:20250130T100000
DTEND;TZID=Europe/London:20250130T110000
DTSTAMP:20260420T095842
CREATED:20250102T151148Z
LAST-MODIFIED:20250102T151148Z
UID:16876-1738231200-1738234800@sedgemoorchamber.co.uk
SUMMARY:Chamber Chat
DESCRIPTION:Chamber Chat is a weekly online event hosted by us at Bridgwater Chamber of Commerce. Open to members and non-members\, this is your opportunity to connect with the local business community\, share best practices\, and discuss challenges in a safe\, supportive environment. \nWhether you’re a long-time member or new to the Chamber\, Chamber Chat offers something for everyone: \n• For Members: Strengthen connections with fellow members\, share ideas\, and discover opportunities to collaborate. \n• For New Members: Learn more about the Chamber\, meet Roger Smith (our General Manager)\, and explore how to make the most of your membership. \n• For Non-Members: Get a taste of what the Chamber has to offer and see how joining could benefit your business. \nThis informal session is the perfect way to start your Thursday. Grab a cuppa\, take a moment to relax\, and enjoy being part of this business community. Whether you’re looking to solve a business challenge\, build relationships\, or simply catch up with others\, Chamber Chat is the place to be. \nJoin Zoom Meeting: Join here\nMeeting ID: 823 6187 8612\n 
URL:https://sedgemoorchamber.co.uk/chambers-events/chamber-chat-4/
LOCATION:Online
CATEGORIES:Free events,Networking,Online Events
ATTACH;FMTTYPE=image/png:https://sedgemoorchamber.co.uk/wp-content/uploads/2025/01/Chamber-Chat.png
END:VEVENT
END:VCALENDAR