BEGIN:VCALENDAR
VERSION:2.0
PRODID:-//Sedgemoor Chamber - ECPv6.15.18//NONSGML v1.0//EN
CALSCALE:GREGORIAN
METHOD:PUBLISH
X-WR-CALNAME:Sedgemoor Chamber
X-ORIGINAL-URL:https://sedgemoorchamber.co.uk
X-WR-CALDESC:Events for Sedgemoor Chamber
REFRESH-INTERVAL;VALUE=DURATION:PT1H
X-Robots-Tag:noindex
X-PUBLISHED-TTL:PT1H
BEGIN:VTIMEZONE
TZID:Europe/London
BEGIN:DAYLIGHT
TZOFFSETFROM:+0000
TZOFFSETTO:+0100
TZNAME:BST
DTSTART:20230326T010000
END:DAYLIGHT
BEGIN:STANDARD
TZOFFSETFROM:+0100
TZOFFSETTO:+0000
TZNAME:GMT
DTSTART:20231029T010000
END:STANDARD
BEGIN:DAYLIGHT
TZOFFSETFROM:+0000
TZOFFSETTO:+0100
TZNAME:BST
DTSTART:20240331T010000
END:DAYLIGHT
BEGIN:STANDARD
TZOFFSETFROM:+0100
TZOFFSETTO:+0000
TZNAME:GMT
DTSTART:20241027T010000
END:STANDARD
BEGIN:DAYLIGHT
TZOFFSETFROM:+0000
TZOFFSETTO:+0100
TZNAME:BST
DTSTART:20250330T010000
END:DAYLIGHT
BEGIN:STANDARD
TZOFFSETFROM:+0100
TZOFFSETTO:+0000
TZNAME:GMT
DTSTART:20251026T010000
END:STANDARD
END:VTIMEZONE
BEGIN:VEVENT
DTSTART;TZID=Europe/London:20240621T073000
DTEND;TZID=Europe/London:20240621T093000
DTSTAMP:20260422T191649
CREATED:20240301T101814Z
LAST-MODIFIED:20240603T101000Z
UID:14372-1718955000-1718962200@sedgemoorchamber.co.uk
SUMMARY:Business Expo - Breakfast Networking
DESCRIPTION:Bridgwater is on the cusp of becoming the green growth capital of Somerset – there couldn’t be a better time to bring the best of Bridgwater Business together!\nThis Business Breakfast Networking session\, kindly sponsored by Paul Smith Associates\, is your opportunity to connect with the local business community face to face and network with industry peers. \nOur Business Breakfast is a great way to start the day before the Business Expo beings with a Full English breakfast\, tea/coffee and juice\, is a chance to meet other businesses and make new connections. \nAttendees will be able to enjoy some informal networking before breakfast\, meeting a variety of business people from a range of industries and maybe catching-up with some old faces\, too! \n  \nWhy not check how you could get to the venue using public transport using the Think Travel portal here: Think Travel : Homepage
URL:https://sedgemoorchamber.co.uk/chambers-events/business-expo-breakfast-networking/
LOCATION:The Canalside\, Marsh Lane\, Bridgwater\,\, Somerset\, TA6 6LQ\, United Kingdom
CATEGORIES:Networking
ATTACH;FMTTYPE=image/png:https://sedgemoorchamber.co.uk/wp-content/uploads/2024/03/Copy-of-Copy-of-phto112-16-x-6-cm-e1743418245869.png
END:VEVENT
END:VCALENDAR