BEGIN:VCALENDAR
VERSION:2.0
PRODID:-//Sedgemoor Chamber - ECPv6.15.18//NONSGML v1.0//EN
CALSCALE:GREGORIAN
METHOD:PUBLISH
X-WR-CALNAME:Sedgemoor Chamber
X-ORIGINAL-URL:https://sedgemoorchamber.co.uk
X-WR-CALDESC:Events for Sedgemoor Chamber
REFRESH-INTERVAL;VALUE=DURATION:PT1H
X-Robots-Tag:noindex
X-PUBLISHED-TTL:PT1H
BEGIN:VTIMEZONE
TZID:Europe/London
BEGIN:DAYLIGHT
TZOFFSETFROM:+0000
TZOFFSETTO:+0100
TZNAME:BST
DTSTART:20220327T010000
END:DAYLIGHT
BEGIN:STANDARD
TZOFFSETFROM:+0100
TZOFFSETTO:+0000
TZNAME:GMT
DTSTART:20221030T010000
END:STANDARD
BEGIN:DAYLIGHT
TZOFFSETFROM:+0000
TZOFFSETTO:+0100
TZNAME:BST
DTSTART:20230326T010000
END:DAYLIGHT
BEGIN:STANDARD
TZOFFSETFROM:+0100
TZOFFSETTO:+0000
TZNAME:GMT
DTSTART:20231029T010000
END:STANDARD
BEGIN:DAYLIGHT
TZOFFSETFROM:+0000
TZOFFSETTO:+0100
TZNAME:BST
DTSTART:20240331T010000
END:DAYLIGHT
BEGIN:STANDARD
TZOFFSETFROM:+0100
TZOFFSETTO:+0000
TZNAME:GMT
DTSTART:20241027T010000
END:STANDARD
END:VTIMEZONE
BEGIN:VEVENT
DTSTART;TZID=Europe/London:20230223T120000
DTEND;TZID=Europe/London:20230223T133000
DTSTAMP:20260423T224722
CREATED:20230111T091241Z
LAST-MODIFIED:20230118T162911Z
UID:11190-1677153600-1677159000@sedgemoorchamber.co.uk
SUMMARY:Bridgwater Chamber of Commerce AGM & Local Authority Procurement
DESCRIPTION:The Bridgwater Chamber of Commerce will hold its Annual AGM at 12 noon on Thursday 23rd February at Cossington Park \n  \nYou are invited to attend the Bridgwater Chamber of Commerce’s Annual General meeting which will be led by our Chairman\, Darren Horne. \nThe AGM will be held at the picturesque Cossington Park which has been owned by the same family for around 400 years. This will be followed by networking\, lunch and an opportunity to view the magnificent property. \nGuest speaker Jo Hutchins\, Procurement Officer at Sedgemoor District Council\, will present on local authority procurement procedures and the Supplying the South West Portal with additional information being given on sustainability requirements when tendering for Local Authority contracts. \nTea and coffee will be provided along with; \n\nA selection of sandwiches\nMini Quiche (V)\nThai spiced beef meatball sticks\nSmoked mackerel toasts with dill pickle\n\nFood and drink will cost £5 per person for Bridgwater Chamber Members. \n Book your place early to avoid disappointment.  \nAgenda \nApologies \nMinutes of last meeting and matters arising \nChair report \nFinance Report \nSpeaker – Jo Hutchins\, Local Authority Procurement \nQuestions & Answers \nClose \nCossington Park 
URL:https://sedgemoorchamber.co.uk/chambers-events/bridgwater-chamber-of-commerce-agm/
LOCATION:Cossington Park\, Middle Rd\, Cossington\, Bridgwater\, TA7 8LH
CATEGORIES:Networking
ATTACH;FMTTYPE=image/png:https://sedgemoorchamber.co.uk/wp-content/uploads/2023/01/Untitled-design-7-e1743080265423.png
END:VEVENT
END:VCALENDAR