BEGIN:VCALENDAR
VERSION:2.0
PRODID:-//Sedgemoor Chamber - ECPv6.15.18//NONSGML v1.0//EN
CALSCALE:GREGORIAN
METHOD:PUBLISH
X-WR-CALNAME:Sedgemoor Chamber
X-ORIGINAL-URL:https://sedgemoorchamber.co.uk
X-WR-CALDESC:Events for Sedgemoor Chamber
REFRESH-INTERVAL;VALUE=DURATION:PT1H
X-Robots-Tag:noindex
X-PUBLISHED-TTL:PT1H
BEGIN:VTIMEZONE
TZID:Europe/London
BEGIN:DAYLIGHT
TZOFFSETFROM:+0000
TZOFFSETTO:+0100
TZNAME:BST
DTSTART:20210328T010000
END:DAYLIGHT
BEGIN:STANDARD
TZOFFSETFROM:+0100
TZOFFSETTO:+0000
TZNAME:GMT
DTSTART:20211031T010000
END:STANDARD
BEGIN:DAYLIGHT
TZOFFSETFROM:+0000
TZOFFSETTO:+0100
TZNAME:BST
DTSTART:20220327T010000
END:DAYLIGHT
BEGIN:STANDARD
TZOFFSETFROM:+0100
TZOFFSETTO:+0000
TZNAME:GMT
DTSTART:20221030T010000
END:STANDARD
BEGIN:DAYLIGHT
TZOFFSETFROM:+0000
TZOFFSETTO:+0100
TZNAME:BST
DTSTART:20230326T010000
END:DAYLIGHT
BEGIN:STANDARD
TZOFFSETFROM:+0100
TZOFFSETTO:+0000
TZNAME:GMT
DTSTART:20231029T010000
END:STANDARD
END:VTIMEZONE
BEGIN:VEVENT
DTSTART;TZID=Europe/London:20221207T120000
DTEND;TZID=Europe/London:20221207T150000
DTSTAMP:20260424T022101
CREATED:20221024T163425Z
LAST-MODIFIED:20230921T180942Z
UID:10686-1670414400-1670425200@sedgemoorchamber.co.uk
SUMMARY:Chamber Annual Christmas Lunch
DESCRIPTION:Come and join us for our Annual Christmas Lunch for some networking and great food at Keepers Kitchen and Bar\, Bridgwater on the 7th December. \nEnjoy a two-course meal\, tea/coffee and mince pies whilst networking with friends at our Annual Christmas Lunch which this year is being held at Keepers Kitchen and Bar. \nPlease take a look at the menu below as you’ll be pre-ordering your food when purchasing your ticket
URL:https://sedgemoorchamber.co.uk/chambers-events/chamber-annual-christmas-lunch-2/
LOCATION:Keepers Kitchen & Bar\, ibis Bridgwater\, Woodlands Court Business Park\, Bridgwater\, Somerset\, TA6 4FJ
CATEGORIES:Networking
ATTACH;FMTTYPE=image/png:https://sedgemoorchamber.co.uk/wp-content/uploads/2022/10/Untitled557711.png
END:VEVENT
END:VCALENDAR