BEGIN:VCALENDAR
VERSION:2.0
PRODID:-//Sedgemoor Chamber - ECPv6.15.18//NONSGML v1.0//EN
CALSCALE:GREGORIAN
METHOD:PUBLISH
X-WR-CALNAME:Sedgemoor Chamber
X-ORIGINAL-URL:https://sedgemoorchamber.co.uk
X-WR-CALDESC:Events for Sedgemoor Chamber
REFRESH-INTERVAL;VALUE=DURATION:PT1H
X-Robots-Tag:noindex
X-PUBLISHED-TTL:PT1H
BEGIN:VTIMEZONE
TZID:Europe/London
BEGIN:DAYLIGHT
TZOFFSETFROM:+0000
TZOFFSETTO:+0100
TZNAME:BST
DTSTART:20210328T010000
END:DAYLIGHT
BEGIN:STANDARD
TZOFFSETFROM:+0100
TZOFFSETTO:+0000
TZNAME:GMT
DTSTART:20211031T010000
END:STANDARD
BEGIN:DAYLIGHT
TZOFFSETFROM:+0000
TZOFFSETTO:+0100
TZNAME:BST
DTSTART:20220327T010000
END:DAYLIGHT
BEGIN:STANDARD
TZOFFSETFROM:+0100
TZOFFSETTO:+0000
TZNAME:GMT
DTSTART:20221030T010000
END:STANDARD
BEGIN:DAYLIGHT
TZOFFSETFROM:+0000
TZOFFSETTO:+0100
TZNAME:BST
DTSTART:20230326T010000
END:DAYLIGHT
BEGIN:STANDARD
TZOFFSETFROM:+0100
TZOFFSETTO:+0000
TZNAME:GMT
DTSTART:20231029T010000
END:STANDARD
END:VTIMEZONE
BEGIN:VEVENT
DTSTART;TZID=Europe/London:20221111T083000
DTEND;TZID=Europe/London:20221111T103000
DTSTAMP:20260424T040157
CREATED:20221013T075118Z
LAST-MODIFIED:20221013T123151Z
UID:10571-1668155400-1668162600@sedgemoorchamber.co.uk
SUMMARY:Meet the MP - Networking Breakfast
DESCRIPTION:Ian is a great supporter of Bridgwater Business and works to try and keep Bridgwater money within Bridgwater. He has supported the Chamber extensively and always enjoys meeting the business community at the Chamber meet the MP event. Ian’s update of issues affecting the area and effects on local business are always very enlightening. \nYou’ll also be able to share your thoughts on decarbonising your business and discuss the way that Bridgwater Chamber of Commerce can help you on your journey to net zero. \nWhy Attend?\nA fantastic opportunity to meet professionals from other local businesses and to build relationships with them\, gaining new contacts\, information and support for your business. \nTo listen to views and ideas on the topics of the events and to raise your own points and opinions about these\, and to gain information from the guest speakers. Last year’s event was a great success so book your places now to avoid disappointment. Also get to ask the questions which are key to you and your business. \nBy attending you will –\n\nHave an opportunity to meet key people shaping Bridgwater’s business future.\nDevelop strong business relationships.\nBe able to raise your own points on the topics in discussion.\nChance to ask key questions\n\n\nTea/Coffee and pastries will be available
URL:https://sedgemoorchamber.co.uk/chambers-events/meet-the-mp-networking-breakfast-2/
LOCATION:McMillan Theatre\, Lower Bath Road\, Bridgwater\, Somerset\, TA6 4PZ\, United Kingdom
CATEGORIES:Networking
ATTACH;FMTTYPE=image/png:https://sedgemoorchamber.co.uk/wp-content/uploads/2022/10/Business-Breakfast-Facebook-Cover-e1743417955722.png
END:VEVENT
END:VCALENDAR