BEGIN:VCALENDAR
VERSION:2.0
PRODID:-//Sedgemoor Chamber - ECPv6.15.18//NONSGML v1.0//EN
CALSCALE:GREGORIAN
METHOD:PUBLISH
X-WR-CALNAME:Sedgemoor Chamber
X-ORIGINAL-URL:https://sedgemoorchamber.co.uk
X-WR-CALDESC:Events for Sedgemoor Chamber
REFRESH-INTERVAL;VALUE=DURATION:PT1H
X-Robots-Tag:noindex
X-PUBLISHED-TTL:PT1H
BEGIN:VTIMEZONE
TZID:Europe/London
BEGIN:DAYLIGHT
TZOFFSETFROM:+0000
TZOFFSETTO:+0100
TZNAME:BST
DTSTART:20210328T010000
END:DAYLIGHT
BEGIN:STANDARD
TZOFFSETFROM:+0100
TZOFFSETTO:+0000
TZNAME:GMT
DTSTART:20211031T010000
END:STANDARD
BEGIN:DAYLIGHT
TZOFFSETFROM:+0000
TZOFFSETTO:+0100
TZNAME:BST
DTSTART:20220327T010000
END:DAYLIGHT
BEGIN:STANDARD
TZOFFSETFROM:+0100
TZOFFSETTO:+0000
TZNAME:GMT
DTSTART:20221030T010000
END:STANDARD
BEGIN:DAYLIGHT
TZOFFSETFROM:+0000
TZOFFSETTO:+0100
TZNAME:BST
DTSTART:20230326T010000
END:DAYLIGHT
BEGIN:STANDARD
TZOFFSETFROM:+0100
TZOFFSETTO:+0000
TZNAME:GMT
DTSTART:20231029T010000
END:STANDARD
END:VTIMEZONE
BEGIN:VEVENT
DTSTART;TZID=Europe/London:20221004T073000
DTEND;TZID=Europe/London:20221004T093000
DTSTAMP:20260424T054926
CREATED:20220728T162041Z
LAST-MODIFIED:20220818T081804Z
UID:10013-1664868600-1664875800@sedgemoorchamber.co.uk
SUMMARY:CABiz Breakfast networking at Mr Miles Tearoom (Member Event)
DESCRIPTION:Tuesday 2nd August 2022 – Start your day the right way at Mr. Miles Tearoom with bottomless tea & coffee\, breakfast bap\, and networking! \nNetworking with CABiz in 2022…\n\n\n\n\nCABiz is all about creating results and opportunities from your networking. Ask yourself a question “Who taught you how to network”? Most of us are self-taught\, learning as we go. Many people just turn up at a networking event with no focus or understanding of how best to get the maximum results from their time. \nAt CABiz you get a simple\, friendly\, relaxed format that allows you to develop your relationships with other businesses and create the opportunities you need to achieve your success. \nGuest speaker: To be confirmed \nEvent details \nWhat time? 7.30 am to 9.30 am \nWhere? Mr. Miles Tea Rooms\, 3-4 High Street\, Taunton\, TA1 3PG \nHow much? £14.50 to include tea/coffee and breakfast rolls with a vegetarian option \nThe Format: \n7-7.30 am: Open networking \n7.30-8 am: Introductions \n8-9 am: Breakfast and speaker \n9 am: Open networking \n\n\n\n\n 
URL:https://sedgemoorchamber.co.uk/chambers-events/cabiz-breakfast-networking-at-mr-miles-tearoom-5/
LOCATION:Miles Tea Room\, Taunton\, TA1 3PG\, United Kingdom
CATEGORIES:Networking
ATTACH;FMTTYPE=image/png:https://sedgemoorchamber.co.uk/wp-content/uploads/2022/04/Mr-Miles-Tearoom.png
END:VEVENT
BEGIN:VEVENT
DTSTART;TZID=Europe/London:20221005T081500
DTEND;TZID=Europe/London:20221005T100000
DTSTAMP:20260424T054926
CREATED:20220926T102844Z
LAST-MODIFIED:20220926T102844Z
UID:10452-1664957700-1664964000@sedgemoorchamber.co.uk
SUMMARY:October's Bridgwater Breakfast Hub (Member Event)
DESCRIPTION:Join OD Talent Solutions at Bridgwater Breakfast Hub where they turn the spotlight on local entrepreneur – Matt Rolfe from The Axe Shack!
URL:https://sedgemoorchamber.co.uk/chambers-events/octobers-bridgwater-breakfast-hub-member-event/
LOCATION:The Tudor Hotel & Restaurant\, 21-27 Saint Mary Street\, Bridgwater\, TA6 3LX
CATEGORIES:Member Led Event,Networking
ATTACH;FMTTYPE=image/png:https://sedgemoorchamber.co.uk/wp-content/uploads/2022/09/Bridgwater-Breakfast-Hub-October-1-e1664188096940.png
END:VEVENT
BEGIN:VEVENT
DTSTART;TZID=Europe/London:20221006T080000
DTEND;TZID=Europe/London:20221006T100000
DTSTAMP:20260424T054926
CREATED:20220817T152826Z
LAST-MODIFIED:20220817T170651Z
UID:10107-1665043200-1665050400@sedgemoorchamber.co.uk
SUMMARY:Breakfast Networking with Guest Speaker\, Paul Lowndes from Gravity
DESCRIPTION:Come and meet new people with Guest speaker Paul Lowndes of Gravity \nOur Guest Speaker\, Paul Lowndes\, will be talking about the Gravity Smart Campus and its vision for the future. By the time of this event there could be some very key developments which Paul may be able to elaborate on. Paul will also be happy to take questions from the audience.\nThis is a fantastic opportunity to meet professionals from other local businesses and to build relationships with them\, gaining new contacts and information. \nBacon baps and croissants will be available on the morning along with teas\, coffees and orange juice. Any special dietary requirements should be included on the booking form in the ‘notes’ box \nTICKETS ARE LIMITED…..So be quick to book yours \n\nGravity – Our Story\nThe site was once a thriving employment hub with a strong community spirit. Gravity will rekindle this ethos through the development of a place that is continually evolving\, catering for tomorrow’s workforce whilst protecting the climate and environment. \nChallenging the way we work\, live and play\nSalamanca Group has a track record in developing commercial real estate outside of the UK\, yet they always aspired to create a flagship development in the UK. One that would bring together some of the greatest business minds to solve some of the biggest economic and environmental challenges we are facing and enhance the economic growth of the South West of England as well as the UK. \nSalamanca wanted to build more than just bricks and mortar packaged up as an enterprise hub. They had a vision of building a forward-thinking sustainable\, energy efficient and high-performing campus with a sense of community and set about finding the perfect location. \nIn 2017 This is Gravity Ltd was formed to bring the vision to reality. \nBuilding on history and moving toward a sustainable future\nFor over sixty years during the 20th Century\, the Royal Ordnance Factory Bridgwater was based on the site. During this period\, it was a significant production facility through wartime and peace.  Social clubs\, sports teams and community events were the norm. \nBuilding on its manufacturing past\, buzz of activity and community spirit\, Gravity will once again become an employment hub supporting an active ecosystem of businesses in a desirable environment.
URL:https://sedgemoorchamber.co.uk/chambers-events/business-breakfast-networking-with-paul-lowndes/
LOCATION:Victoria Park Community Centre\, Victoria Park Drive\, Bridgwater\, Somerset\, TA6 7AS\, United Kingdom
CATEGORIES:Networking
ATTACH;FMTTYPE=image/png:https://sedgemoorchamber.co.uk/wp-content/uploads/2022/08/Screenshot-2022-08-17-at-16.33.46-e1743414003316.png
END:VEVENT
BEGIN:VEVENT
DTSTART;TZID=Europe/London:20221018T110000
DTEND;TZID=Europe/London:20221018T123000
DTSTAMP:20260424T054926
CREATED:20220728T162227Z
LAST-MODIFIED:20220818T081826Z
UID:10017-1666090800-1666096200@sedgemoorchamber.co.uk
SUMMARY:CABiz Digital Networking (Member Event)
DESCRIPTION:What can we do for you in 2022? Join us for our monthly online networking meeting with like-minded business bods swapping hints & tips \n\n\n\n\n\nNetworking with CABiz in 2022…\nCABiz is all about creating results and opportunities from your networking. Ask yourself a question “Who taught you how to network”? Most of us are self-taught\, learning as we go. Many people just turn up at a networking event with no focus or understanding of how best to get the maximum results from their time. \nAt CABiz you get a simple\, friendly\, relaxed format that allows you to develop your relationships with other businesses and create the opportunities you need to achieve your success. \nGuest speaker: To be confirmed
URL:https://sedgemoorchamber.co.uk/chambers-events/cabiz-digital-networking-6/
LOCATION:Online
CATEGORIES:Networking,Online Events
ATTACH;FMTTYPE=image/jpeg:https://sedgemoorchamber.co.uk/wp-content/uploads/2021/04/CABiz_EVENTS_LOGOSTRAP_PRINT-1-6078187041186-e1743414939730.jpg
END:VEVENT
BEGIN:VEVENT
DTSTART;TZID=Europe/London:20221020T123000
DTEND;TZID=Europe/London:20221020T143000
DTSTAMP:20260424T054926
CREATED:20220824T135427Z
LAST-MODIFIED:20220824T135427Z
UID:10246-1666269000-1666276200@sedgemoorchamber.co.uk
SUMMARY:Protecting your business from Cyber Crime
DESCRIPTION:Is your business shielded from potential Cyber crime? \nCyber is dauting for small businesses and sole traders. It’s hard to know where to start\, services can be expensive\, and it’s not always obvious who you can trust. The South West Cyber Resilience Centre (SWCRC) aims to solve all of these problems.   \nRoss Brown\, Head of Cyber and Innovation at the South West Cyber Resilience Centre\, will talk about some of the biggest cyber threats to businesses\, the practical steps that you can take to protect your business from cyber threats and the way The South West Cyber Resilience Centre can support you and your business for FREE   \n  \nLunch and refreshments will be provided –  Any special dietary requirements should be included on the booking form   \n  \nThe South West Cyber Resilience Centre is led by serving police officers\, as part of a not-for-profit partnership with business and academia. Because we’re funded by the Home Office\, regional policing and private businesses\, we don’t need to make money from our members. We think we’re unique in being able to provide something to protect the small businesses and charities who don’t have the resources or knowledge to protect themselves from cybercrime.
URL:https://sedgemoorchamber.co.uk/chambers-events/protecting-your-business-from-cyber-crime/
LOCATION:Victoria Park Community Centre\, Victoria Park Drive\, Bridgwater\, Somerset\, TA6 7AS\, United Kingdom
CATEGORIES:Business Training,Networking
ATTACH;FMTTYPE=image/png:https://sedgemoorchamber.co.uk/wp-content/uploads/2022/08/Untitled-Facebook-Cover.png
END:VEVENT
END:VCALENDAR