BEGIN:VCALENDAR
VERSION:2.0
PRODID:-//Sedgemoor Chamber - ECPv6.15.18//NONSGML v1.0//EN
CALSCALE:GREGORIAN
METHOD:PUBLISH
X-WR-CALNAME:Sedgemoor Chamber
X-ORIGINAL-URL:https://sedgemoorchamber.co.uk
X-WR-CALDESC:Events for Sedgemoor Chamber
REFRESH-INTERVAL;VALUE=DURATION:PT1H
X-Robots-Tag:noindex
X-PUBLISHED-TTL:PT1H
BEGIN:VTIMEZONE
TZID:Europe/London
BEGIN:DAYLIGHT
TZOFFSETFROM:+0000
TZOFFSETTO:+0100
TZNAME:BST
DTSTART:20210328T010000
END:DAYLIGHT
BEGIN:STANDARD
TZOFFSETFROM:+0100
TZOFFSETTO:+0000
TZNAME:GMT
DTSTART:20211031T010000
END:STANDARD
BEGIN:DAYLIGHT
TZOFFSETFROM:+0000
TZOFFSETTO:+0100
TZNAME:BST
DTSTART:20220327T010000
END:DAYLIGHT
BEGIN:STANDARD
TZOFFSETFROM:+0100
TZOFFSETTO:+0000
TZNAME:GMT
DTSTART:20221030T010000
END:STANDARD
BEGIN:DAYLIGHT
TZOFFSETFROM:+0000
TZOFFSETTO:+0100
TZNAME:BST
DTSTART:20230326T010000
END:DAYLIGHT
BEGIN:STANDARD
TZOFFSETFROM:+0100
TZOFFSETTO:+0000
TZNAME:GMT
DTSTART:20231029T010000
END:STANDARD
END:VTIMEZONE
BEGIN:VEVENT
DTSTART;TZID=Europe/London:20220903T103000
DTEND;TZID=Europe/London:20220903T134500
DTSTAMP:20260424T073445
CREATED:20220801T074807Z
LAST-MODIFIED:20220818T081700Z
UID:10021-1662201000-1662212700@sedgemoorchamber.co.uk
SUMMARY:Wellbeing Walk for SME - Sole Traders across The Quantocks (Member Event)
DESCRIPTION:Wellbeing walk on the Quantocks (5 miles)\nAbout this event \n\n\n\nA creative journey from coast to countryside through drawing\, mark-making\, and cameraphone photography. Along this inspiring journey\, as we walk in the footsteps of the Romantic Poets\, you will explore historic mark-making processes with a variety of materials taken from the natural surroundings. Learn how to make your own paintbrushes from feathers\, grind your own pigment\, write with charcoal ink\, and capture your creativity with raw\, organic materials. We will also use our cameraphones to capture a visual diary of the day. \nSME Wellbeing Somerset is a project funded by Public Health Somerset to deliver workplace emotional wellbeing support and training to sole traders\, small and medium sized (SME) businesses across Somerset The focus is on supporting those who have been impacted by Covid through the virus itself\, experience of lockdown or the impact of the recession. \n  \nThe workshop is FREE for sole traders/SME’s who are working in Arts and Entertainment in Somerset. New Leaf is working with the Somerset Public Health Team to deliver workplace emotional wellbeing training to small and medium sized (SME) businesses across Somerset. \n  \nWe will begin our journey in East Quantoxhead and take a circular walk through the coast at Kilve and return back through the Quantock Hills\, stopping along the way to record our journey. This will be a social walk and part of the fulfilment will be in sharing our experiences as we look to locate the imagination in us all! \n  \nIt’s a circular walk from East Quantoxhead car park. around 5 miles\, but can be made shorter to suit the audience. The intention is to go from coast to foothills of the Quantocks. \nStarting address: East Quantoxhead car park Frog street TA5 1EJ ( What three words ///weekend.flopping.sleep) 10.30am start finish time 1.45pm.
URL:https://sedgemoorchamber.co.uk/chambers-events/wellbeing-walk/
LOCATION:East Quantoxhead Car Park\, Frog Street\, East Quantoxhead\, Somerset\, TA5 1EJ\, United Kingdom
CATEGORIES:Mental Health and Wellbeing,Networking
ATTACH;FMTTYPE=image/png:https://sedgemoorchamber.co.uk/wp-content/uploads/2022/08/newleaf-walk.png
ORGANIZER;CN="New Leaf":MAILTO:becky@newleaf.uk.com
END:VEVENT
BEGIN:VEVENT
DTSTART;TZID=Europe/London:20220906T073000
DTEND;TZID=Europe/London:20220906T093000
DTSTAMP:20260424T073445
CREATED:20220728T162004Z
LAST-MODIFIED:20220818T081724Z
UID:10011-1662449400-1662456600@sedgemoorchamber.co.uk
SUMMARY:CABiz Breakfast networking at Mr Miles Tearoom (Member Event)
DESCRIPTION:Tuesday 2nd August 2022 – Start your day the right way at Mr. Miles Tearoom with bottomless tea & coffee\, breakfast bap\, and networking! \nNetworking with CABiz in 2022…\n\n\n\n\nCABiz is all about creating results and opportunities from your networking. Ask yourself a question “Who taught you how to network”? Most of us are self-taught\, learning as we go. Many people just turn up at a networking event with no focus or understanding of how best to get the maximum results from their time. \nAt CABiz you get a simple\, friendly\, relaxed format that allows you to develop your relationships with other businesses and create the opportunities you need to achieve your success. \nGuest speaker: To be confirmed \nEvent details \nWhat time? 7.30 am to 9.30 am \nWhere? Mr. Miles Tea Rooms\, 3-4 High Street\, Taunton\, TA1 3PG \nHow much? £14.50 to include tea/coffee and breakfast rolls with a vegetarian option \nThe Format: \n7-7.30 am: Open networking \n7.30-8 am: Introductions \n8-9 am: Breakfast and speaker \n9 am: Open networking \n\n\n\n\n 
URL:https://sedgemoorchamber.co.uk/chambers-events/cabiz-breakfast-networking-at-mr-miles-tearoom-4/
LOCATION:Miles Tea Room\, Taunton\, TA1 3PG\, United Kingdom
CATEGORIES:Networking
ATTACH;FMTTYPE=image/png:https://sedgemoorchamber.co.uk/wp-content/uploads/2022/04/Mr-Miles-Tearoom.png
END:VEVENT
BEGIN:VEVENT
DTSTART;TZID=Europe/London:20220915T183000
DTEND;TZID=Europe/London:20220915T210000
DTSTAMP:20260424T073445
CREATED:20220818T081453Z
LAST-MODIFIED:20220818T081453Z
UID:10133-1663266600-1663275600@sedgemoorchamber.co.uk
SUMMARY:Chamber Summer Social BBQ
DESCRIPTION:OUR SUMMER BBQ IS BACK….\nCome and join us for our summer social BBQ in the beautiful unique setting of Greenway Farm. \nDon’t miss this fantastic\, informal and enjoyable event tailored for local businesses to relax\, socialise and build relationships in a stunning setting. \nOn the menu: \nChicken skewers\, pulled pork\, slow roast brisket\, burgers and sausages. \nPulled Jackfruit for vegetarians. \nFollowed by Pavlova\, cheesecake\, brownie\, cheeseboard. \nTeas and Coffees also included. \n  \nThe bar will be open for personal purchases of cold alcoholic and non-alcoholic drinks. \nThis is an evening event to make it more accessible to all businesses. \n  \n    \n 
URL:https://sedgemoorchamber.co.uk/chambers-events/chamber-summer-social-bbq-2/
LOCATION:Greenway Farm\, Skimmerton Lane\, Bridgwater\, Somerset\, TA5 2AX\, United Kingdom
CATEGORIES:Networking
ATTACH;FMTTYPE=image/jpeg:https://sedgemoorchamber.co.uk/wp-content/uploads/2021/07/pic-1-scaled-e1743415393751.jpg
END:VEVENT
BEGIN:VEVENT
DTSTART;TZID=Europe/London:20220920T080000
DTEND;TZID=Europe/London:20220920T100000
DTSTAMP:20260424T073445
CREATED:20220823T084317Z
LAST-MODIFIED:20220823T084317Z
UID:10228-1663660800-1663668000@sedgemoorchamber.co.uk
SUMMARY:Breakfast Networking with Guest Speaker\, Richard Swift - Somerset Business Champion
DESCRIPTION:Come and meet new people with Guest speaker Richard Swift\, Somerset Business Champion for the UK Community Renewal Fund (Somerset) \nOur Guest Speaker\, Richard Swift\, will be talking about some of the FREE support available to businesses through the UK Community Renewal Fund\, such as the Business Growth Support Programme\, and how your business can make the most of the support available. \nThis is a fantastic opportunity to meet professionals from other local businesses and to build relationships with them\, gaining new contacts and information. \nBacon/sausage baps and croissants will be available on the morning along with teas & coffees. Any special dietary requirements should be included on the booking form in the ‘notes’ box \nTICKETS ARE LIMITED…..So be quick to book yours
URL:https://sedgemoorchamber.co.uk/chambers-events/breakfast-networking-with-guest-speaker-richard-swift/
LOCATION:Holiday Inn Express Bridgwater\, Market Way\, Bridgwater\, TA6 6DF
CATEGORIES:Networking
ATTACH;FMTTYPE=image/png:https://sedgemoorchamber.co.uk/wp-content/uploads/2022/08/Richard-Swift.jpg
END:VEVENT
BEGIN:VEVENT
DTSTART;TZID=Europe/London:20220920T110000
DTEND;TZID=Europe/London:20220920T123000
DTSTAMP:20260424T073445
CREATED:20220728T162140Z
LAST-MODIFIED:20220818T081754Z
UID:10015-1663671600-1663677000@sedgemoorchamber.co.uk
SUMMARY:CABiz Digital Networking (Member Event)
DESCRIPTION:What can we do for you in 2022? Join us for our monthly online networking meeting with like-minded business bods swapping hints & tips \n\n\n\n\n\nNetworking with CABiz in 2022…\nCABiz is all about creating results and opportunities from your networking. Ask yourself a question “Who taught you how to network”? Most of us are self-taught\, learning as we go. Many people just turn up at a networking event with no focus or understanding of how best to get the maximum results from their time. \nAt CABiz you get a simple\, friendly\, relaxed format that allows you to develop your relationships with other businesses and create the opportunities you need to achieve your success. \nGuest speaker: To be confirmed
URL:https://sedgemoorchamber.co.uk/chambers-events/cabiz-digital-networking-5/
LOCATION:Online
CATEGORIES:Networking,Online Events
ATTACH;FMTTYPE=image/jpeg:https://sedgemoorchamber.co.uk/wp-content/uploads/2021/04/CABiz_EVENTS_LOGOSTRAP_PRINT-1-6078187041186-e1743414939730.jpg
END:VEVENT
BEGIN:VEVENT
DTSTART;TZID=Europe/London:20220921T093000
DTEND;TZID=Europe/London:20220921T130000
DTSTAMP:20260424T073445
CREATED:20220810T150531Z
LAST-MODIFIED:20220810T150531Z
UID:10053-1663752600-1663765200@sedgemoorchamber.co.uk
SUMMARY:Somerset Business Climate Summit 2022
DESCRIPTION:Somerset Business Climate Summit 2022\nAbout this event \n\n\n\nJoin businesses from across Somerset to learn\, share and be inspired about reducing the climate impact of our companies – working together using small steps to deliver collective big wins! \nThe Somerset Business Climate Summit 2022 will take place at Queens College on Wednesday 21 September 2022. \nHear local firms share impactful case studies as we come together to raise awareness of the opportunities and challenges for businesses as we shift toward a low carbon economy. \nEvent Programme \n9:30am Arrival for coffee & networking \n10:00 Queens College Students performance \n10:10 Welcome \n10:20 Presentation: What is Net Zero for Business? \n10:30 Presentation: Key Case Study – tbc \n10:40 Presentation: Becky Wright\, New Leaf Workplace Wellbeing – Putting the B into Business\, The B Corp Journey \n10:55 Refreshment break \n11:10 Presentation: Jason Loomes\, Field Works and Maia – Sustainable Agriculture \n11:20 Presentation: Tim\, My Carbon Coach\, & Joanna Benbow\, Trees for Good Causes – ‘5 Easiest Sustainability Wins’ and ‘What is good off-setting?’ \n11:35 Next steps\, future workshops and comments from the floor \n– Future workshops schedule and information (via QR code)\n– Somerset Pledge and short survey (via QR code)\n– Launch of Resilient Somerset Business webpage (via QR code) \n12noon Refreshments and networking in the EXPO area \n1pm Close
URL:https://sedgemoorchamber.co.uk/chambers-events/somerset-business-climate-summit-2022/
LOCATION:Queens College\, Trull Rd\, Taunton\, Somerset\, TA1 4QS\, United Kingdom
CATEGORIES:Free events,Networking
ATTACH;FMTTYPE=image/jpeg:https://sedgemoorchamber.co.uk/wp-content/uploads/2022/08/somerset-business-climate-summit-2-e1660143867608.jpg
END:VEVENT
BEGIN:VEVENT
DTSTART;TZID=Europe/London:20220927T180000
DTEND;TZID=Europe/London:20220927T210000
DTSTAMP:20260424T073445
CREATED:20220826T121047Z
LAST-MODIFIED:20220826T121047Z
UID:10299-1664301600-1664312400@sedgemoorchamber.co.uk
SUMMARY:Low Carbon Business & Football under the floodlights
DESCRIPTION:Come and join us at Bridgwater United FC\, supporting your business on your Low Carbon journey & Football under the floodlights\nWe will be joined by Balanced Energy\, a company working to make it easy for businesses of all sizes to contribute towards the future of the planet. They’ll talk about the work they do to help businesses reduce their carbon footprint and encourage you to think about the steps your business could take to reduce your carbon footprint\, giving some practical examples through the work they are currently doing with Bridgwater United FC. \nThis will be followed by watching and supporting the football fixture\, Bridgwater United FC vs Saltash United\, including corporate Hospitality with allocated seating within the Tom Pearce Stand alongside club personnel. Free Parking is available onsite. \nMembers £5 \nNon-members £10 \nSpace is very limited so secure your place now \n  \nRunning order\nArrival 6pm – Welcome Fizz / Teas & Coffees \n6.15 – 6.45 – Buffet & Networking \n6.45-7.30 – Balanced Energy – Road to Net Zero \n7.35pm – Pitchside presentation \n7.40pm – seating for KO \n7.45pm – KO \nHalf time tea / coffee \nFull time select player of the match and presentation \n  \nAbout Balanced Energy\nOur mission is to make it easy for businesses of all sizes to contribute towards the future of our planet. \nAt Balanced Energy we are passionate about being a force for good\, we want to mobilise the business community to become more sustainable and help build a clean\, inclusive sustainable economy. We want to inspire change and help businesses transform into a low carbon\, sustainable organisation. Using our technology we measure your carbon footprint\, highlighting areas for improvement. Based on the data we build an achievable\, target led plan to reduce your environmental impact\, giving your business the edge as we transition to a Net Zero society.
URL:https://sedgemoorchamber.co.uk/chambers-events/low-carbon-business-football-under-the-floodlights/
LOCATION:Bridgwater United Football Ground\, Fairfax Park Stadium\, College Way\, Bridgwater\, TA6 4TZ
CATEGORIES:Business Training,Networking
ATTACH;FMTTYPE=image/png:https://sedgemoorchamber.co.uk/wp-content/uploads/2022/08/Untitled-design-1.png
END:VEVENT
END:VCALENDAR