BEGIN:VCALENDAR
VERSION:2.0
PRODID:-//Sedgemoor Chamber - ECPv6.15.18//NONSGML v1.0//EN
CALSCALE:GREGORIAN
METHOD:PUBLISH
X-WR-CALNAME:Sedgemoor Chamber
X-ORIGINAL-URL:https://sedgemoorchamber.co.uk
X-WR-CALDESC:Events for Sedgemoor Chamber
REFRESH-INTERVAL;VALUE=DURATION:PT1H
X-Robots-Tag:noindex
X-PUBLISHED-TTL:PT1H
BEGIN:VTIMEZONE
TZID:Europe/London
BEGIN:DAYLIGHT
TZOFFSETFROM:+0000
TZOFFSETTO:+0100
TZNAME:BST
DTSTART:20250330T010000
END:DAYLIGHT
BEGIN:STANDARD
TZOFFSETFROM:+0100
TZOFFSETTO:+0000
TZNAME:GMT
DTSTART:20251026T010000
END:STANDARD
BEGIN:DAYLIGHT
TZOFFSETFROM:+0000
TZOFFSETTO:+0100
TZNAME:BST
DTSTART:20260329T010000
END:DAYLIGHT
BEGIN:STANDARD
TZOFFSETFROM:+0100
TZOFFSETTO:+0000
TZNAME:GMT
DTSTART:20261025T010000
END:STANDARD
BEGIN:DAYLIGHT
TZOFFSETFROM:+0000
TZOFFSETTO:+0100
TZNAME:BST
DTSTART:20270328T010000
END:DAYLIGHT
BEGIN:STANDARD
TZOFFSETFROM:+0100
TZOFFSETTO:+0000
TZNAME:GMT
DTSTART:20271031T010000
END:STANDARD
END:VTIMEZONE
BEGIN:VEVENT
DTSTART;TZID=Europe/London:20260514T123000
DTEND;TZID=Europe/London:20260514T133000
DTSTAMP:20260422T235737
CREATED:20260422T115032Z
LAST-MODIFIED:20260422T115032Z
UID:24991-1778761800-1778765400@sedgemoorchamber.co.uk
SUMMARY:Employment Rights Act 2025: How these changes impact your business
DESCRIPTION:There’s been a lot of noise recently about the upcoming changes to the Employment Rights Act 2025 and other legislation. With headlines\, opinions and speculation flying around\, it’s no surprise many employers\, HR teams and managers are feeling uncertain about what’s actually changing and what it means for them. \nNow the April changes are squarely in place\, we’re here to help you navigate through the bigger changes\, due later this year and into 2027. \nJoin us for a clear and practical webinar where we break down the changes\, amongst others\, to: \n  \n✅Unfair dismissal \n✅Zero and low hours contracts \n✅Third party and sexual harassment \n✅Fire and rehire practices \n✅Flexible working requests \n✅Non-disclosure agreements \n  \n📅 Date: 14 May 2026\n⏰ Time: 12:30PM\n💻 Location: Online webinar\n🎙️ Speakers: Sarah Young\, Kate Shawcross\, Abigail Askew and Tara Searle \n  \nWhether you’re already working through the details or you’re not quite sure where to start\, this session will give you the clarity you’ve been waiting for. The session is designed to help you understand the changes\, how they impact your business and what steps you should be taking. \nPlease note that the session will be recorded and sent to attendees. The data submitted in the registration form will be retained by Porter Dodson LLP. For information about how we handle your data\, please read our privacy notice\, which can be found on our website at Privacy and cookie policy.
URL:https://sedgemoorchamber.co.uk/chambers-events/employment-rights-act-2025-how-these-changes-impact-your-business/
CATEGORIES:Member Led Event
ATTACH;FMTTYPE=image/jpeg:https://sedgemoorchamber.co.uk/wp-content/uploads/2026/04/Employment-Rights-Act-2025-How-these-changes-impact-your-business.jpg
ORGANIZER;CN="Porter Dodson":MAILTO:info@porterdodson.co.uk
END:VEVENT
BEGIN:VEVENT
DTSTART;TZID=Europe/London:20260624T093000
DTEND;TZID=Europe/London:20260624T123000
DTSTAMP:20260422T235737
CREATED:20260223T054859Z
LAST-MODIFIED:20260223T060110Z
UID:24085-1782293400-1782304200@sedgemoorchamber.co.uk
SUMMARY:Quarterly business planning workshop for small business owners
DESCRIPTION:Refocus\, plan and grow\n\n\n\n\n\n\nAre you fed up with trying to wing growing your business? \nDo you struggle to make the time to plan your next steps\, even though you know working strategically will help you stay focused and in greater control? \nThis quarterly planning workshop is for small business owners who want guidance and structure to create a clear\, actionable plan for the next three months so you can stay focused and see results. \n\n\n\n\n\n\n\n\n\n\n\n\n\n\n– Space to focus on your business for 3 hours \n– Advice on how to work more strategically \n– Reflect on the first quarter of 2026 \n– Refocus your goals for the next 3-12 months \n– Create a detailed plan for the next 3-months \n– Guided workbook for you to complete and re-use \n– Meet like minded business owners \n– Refreshments provided throughout the morning \n\n\n\nThe workshop will take place in the beautiful Georgian Kitchen at The Pig at Combe\, where you’ll have the opportunity to connect with other business owners in an intimate group setting. \nDate: Wednesday\, 24th June 2026 \nTime: 9:30 AM – 12:30 PM (refreshments included) \nLocation: The Pig at Combe\, nr Honiton \nInvestment: £99 (includes workbook) \nLimited spaces available. \nOptional: Stay on for lunch and continue the conversation
URL:https://sedgemoorchamber.co.uk/chambers-events/quarterly-business-planning-workshop-for-small-business-owners/
CATEGORIES:Member Led Event
ATTACH;FMTTYPE=image/jpeg:https://sedgemoorchamber.co.uk/wp-content/uploads/2026/02/The-Pocket-Strategist.-3.jpg
END:VEVENT
BEGIN:VEVENT
DTSTART;TZID=Europe/London:20260924T093000
DTEND;TZID=Europe/London:20260924T123000
DTSTAMP:20260422T235737
CREATED:20260223T055319Z
LAST-MODIFIED:20260223T060121Z
UID:24089-1790242200-1790253000@sedgemoorchamber.co.uk
SUMMARY:Quarterly business planning workshop for small business owners
DESCRIPTION:Refocus\, plan and grow\n\n\n\n\n\nAre you fed up with trying to wing growing your business? \nDo you struggle to make the time to plan your next steps\, even though you know working strategically will help you stay focused and in greater control? \nThis quarterly planning workshop is for small business owners who want guidance and structure to create a clear\, actionable plan for the next three months so you can stay focused and see results. \n\n\n\n\n\n\n\n\n\n– Space to focus on your business for 3 hours \n– Advice on how to work more strategically \n– Reflect on the first quarter of 2026 \n– Refocus your goals for the next 3-12 months \n– Create a detailed plan for the next 3-months \n– Guided workbook for you to complete and re-use \n– Meet like minded business owners \n– Refreshments provided throughout the morning \n\n\n\nThe workshop will take place in the beautiful Georgian Kitchen at The Pig at Combe\, where you’ll have the opportunity to connect with other business owners in an intimate group setting. \nDate: Wednesday\, 24th June 2026 \nTime: 9:30 AM – 12:30 PM (refreshments included) \nLocation: The Pig at Combe\, nr Honiton \nInvestment: £99 (includes workbook) \nLimited spaces available. \nOptional: Stay on for lunch and continue the conversation
URL:https://sedgemoorchamber.co.uk/chambers-events/quarterly-business-planning-workshop-for-small-business-owners-2/
CATEGORIES:Member Led Event
ATTACH;FMTTYPE=image/jpeg:https://sedgemoorchamber.co.uk/wp-content/uploads/2026/02/The-Pocket-Strategist.-3.jpg
END:VEVENT
END:VCALENDAR