BEGIN:VCALENDAR
VERSION:2.0
PRODID:-//Sedgemoor Chamber - ECPv6.15.18//NONSGML v1.0//EN
CALSCALE:GREGORIAN
METHOD:PUBLISH
X-WR-CALNAME:Sedgemoor Chamber
X-ORIGINAL-URL:https://sedgemoorchamber.co.uk
X-WR-CALDESC:Events for Sedgemoor Chamber
REFRESH-INTERVAL;VALUE=DURATION:PT1H
X-Robots-Tag:noindex
X-PUBLISHED-TTL:PT1H
BEGIN:VTIMEZONE
TZID:Europe/London
BEGIN:DAYLIGHT
TZOFFSETFROM:+0000
TZOFFSETTO:+0100
TZNAME:BST
DTSTART:20250330T010000
END:DAYLIGHT
BEGIN:STANDARD
TZOFFSETFROM:+0100
TZOFFSETTO:+0000
TZNAME:GMT
DTSTART:20251026T010000
END:STANDARD
BEGIN:DAYLIGHT
TZOFFSETFROM:+0000
TZOFFSETTO:+0100
TZNAME:BST
DTSTART:20260329T010000
END:DAYLIGHT
BEGIN:STANDARD
TZOFFSETFROM:+0100
TZOFFSETTO:+0000
TZNAME:GMT
DTSTART:20261025T010000
END:STANDARD
BEGIN:DAYLIGHT
TZOFFSETFROM:+0000
TZOFFSETTO:+0100
TZNAME:BST
DTSTART:20270328T010000
END:DAYLIGHT
BEGIN:STANDARD
TZOFFSETFROM:+0100
TZOFFSETTO:+0000
TZNAME:GMT
DTSTART:20271031T010000
END:STANDARD
END:VTIMEZONE
BEGIN:VEVENT
DTSTART;TZID=Europe/London:20260409T083000
DTEND;TZID=Europe/London:20260409T103000
DTSTAMP:20260419T183137
CREATED:20260308T015942Z
LAST-MODIFIED:20260331T064058Z
UID:24370-1775723400-1775730600@sedgemoorchamber.co.uk
SUMMARY:Amicus Law Connects Minehead
DESCRIPTION:Join us on Thursday 9th April\, 8.30am–10.30am at The Beach Hotel\, Minehead\, for the next Amicus Law Connects Minehead business breakfast – a friendly\, community‑focused networking group created to bring together the brilliant people\, businesses and organisations of West Somerset. Our area is full of talent and ambition\, yet opportunities to connect\, collaborate and share ideas are limited. This event exists to change that. Each month\, we create a welcoming space where conversations start\, partnerships grow\, and local enterprise is supported. \n  \nThis Month’s Guest Speaker: John Harvey – Networking Rockstar \nWe’re delighted to welcome John Harvey\, known widely as the Networking Rockstar\, who will be sharing his energising session on: \nNETWORKING WITH INTENTION \nJohn will explore: \n– Why having a simple\, purposeful networking plan matters \n– The “What do you do?” 3‑word game \n– How networking can become a powerful part of business development \n– Understanding why people buy \n– How to get the best out of any event you attend \n– Managing your network well — including the power of keeping notes \n– The 80/20 rule for major clients and key referrers \n– Practical networking tips you can put into action straight away \n  \nWhether you’re a confident networker or taking your first step into local events\, John’s session will be fun\, practical and genuinely useful. \n  \nWhy Attend? \n– Meet and chat with other local professionals \n– Enjoy a relaxed\, welcoming breakfast setting \n– Be part of a group focused on strengthening West Somerset’s future \n– Feel involved\, supported and connected – whether you run a business\, work locally\, or simply care about our community \n– Come along to help shape what comes next for West Somerset. Everyone is welcome.
URL:https://sedgemoorchamber.co.uk/chambers-events/amicus-law-connects-minehead-2/
CATEGORIES:Member Led Event
ATTACH;FMTTYPE=image/jpeg:https://sedgemoorchamber.co.uk/wp-content/uploads/2026/03/Connects-minehead.jpg
ORGANIZER;CN="Amicus Law":MAILTO:info@amicuslaw.co.uk
END:VEVENT
BEGIN:VEVENT
DTSTART;TZID=Europe/London:20260409T180000
DTEND;TZID=Europe/London:20260409T200000
DTSTAMP:20260419T183137
CREATED:20260331T061745Z
LAST-MODIFIED:20260331T061745Z
UID:24699-1775757600-1775764800@sedgemoorchamber.co.uk
SUMMARY:Confident Dads\, Confident Children
DESCRIPTION:We would like to invite you to our upcoming two-hour workshop which will provide you with an opportunity to meet other Dads/Stepdads and learn about how to help your child deal with everyday challenges such as anxiety and low mood.
URL:https://sedgemoorchamber.co.uk/chambers-events/confident-dads-confident-children/
CATEGORIES:Member Led Event
ATTACH;FMTTYPE=image/jpeg:https://sedgemoorchamber.co.uk/wp-content/uploads/2026/03/Confident-Dads-Confident-Children.jpg
END:VEVENT
END:VCALENDAR