BEGIN:VCALENDAR
VERSION:2.0
PRODID:-//Sedgemoor Chamber - ECPv6.15.18//NONSGML v1.0//EN
CALSCALE:GREGORIAN
METHOD:PUBLISH
X-WR-CALNAME:Sedgemoor Chamber
X-ORIGINAL-URL:https://sedgemoorchamber.co.uk
X-WR-CALDESC:Events for Sedgemoor Chamber
REFRESH-INTERVAL;VALUE=DURATION:PT1H
X-Robots-Tag:noindex
X-PUBLISHED-TTL:PT1H
BEGIN:VTIMEZONE
TZID:Europe/London
BEGIN:DAYLIGHT
TZOFFSETFROM:+0000
TZOFFSETTO:+0100
TZNAME:BST
DTSTART:20250330T010000
END:DAYLIGHT
BEGIN:STANDARD
TZOFFSETFROM:+0100
TZOFFSETTO:+0000
TZNAME:GMT
DTSTART:20251026T010000
END:STANDARD
BEGIN:DAYLIGHT
TZOFFSETFROM:+0000
TZOFFSETTO:+0100
TZNAME:BST
DTSTART:20260329T010000
END:DAYLIGHT
BEGIN:STANDARD
TZOFFSETFROM:+0100
TZOFFSETTO:+0000
TZNAME:GMT
DTSTART:20261025T010000
END:STANDARD
BEGIN:DAYLIGHT
TZOFFSETFROM:+0000
TZOFFSETTO:+0100
TZNAME:BST
DTSTART:20270328T010000
END:DAYLIGHT
BEGIN:STANDARD
TZOFFSETFROM:+0100
TZOFFSETTO:+0000
TZNAME:GMT
DTSTART:20271031T010000
END:STANDARD
END:VTIMEZONE
BEGIN:VEVENT
DTSTART;TZID=Europe/London:20260128T181500
DTEND;TZID=Europe/London:20260128T211500
DTSTAMP:20260419T215719
CREATED:20260106T033558Z
LAST-MODIFIED:20260106T033558Z
UID:23150-1769624100-1769634900@sedgemoorchamber.co.uk
SUMMARY:AI For Purpose: Building Technology That Actually Matters
DESCRIPTION:FREE MEMBER LED EVENT \nJoin us at Lexus Bristol for an essential conversation with our AI Thought Leader and co-CEO\, Matt Wicks\, about moving beyond the AI hype cycle to create technology that delivers real-world impact. In “AI For Purpose: Building Technology That Actually Matters\,” we’ll explore a practical\, human-centric framework for implementing AI solutions that solve genuine problems and empower people rather than simply implementing technology for its own sake. \nThis session cuts through the noise to demystify AI tools and provides a clear\, actionable four-step framework for building AI applications that create positive value. Through real-world case studies spanning accessibility\, scientific discovery\, and environmental conservation\, you’ll see how organisations are already applying these principles to generate meaningful impact. \nWhether you run your own business\, work in a small company or a large organisation\, or are simply curious about AI\, you’ll leave with concrete strategies to evaluate and guide AI initiatives toward creating genuine value for the people and communities they serve. \n‍ \nAGENDA\n6:15PM • Doors Open\nGuests arrive and check in\, giving everyone a chance to settle in and get ready for the event. \n6:15PM – 7:00PM • Networking Social\nAn informal session to meet fellow attendees\, share ideas\, and enjoy some bites and refreshments. \n7:00PM – 8:15PM • Speaker Session: AI For Purpose\nJoin Matt Wicks\, AI expert and co-CEO\, to cut through the AI hype and explore how technology can make a real difference. He’ll share a simple\, four step framework for building AI that solves genuine problems and helps people. Using real world examples\, from accessibility to environmental conservation\, you’ll learn how to spot meaningful AI projects and ensure they create real value. \n8:15PM – 9:15PM • Eat & Connect\nEnjoy refreshments and food provided by The Virtual Forge. An opportunity to exchange contacts\, continue conversations\, and reflect on key takeaways.
URL:https://sedgemoorchamber.co.uk/chambers-events/ai-for-purpose-building-technology-that-actually-matters/
LOCATION:Lexus Bristol Patchway\, England
CATEGORIES:Member Led Event
ATTACH;FMTTYPE=image/jpeg:https://sedgemoorchamber.co.uk/wp-content/uploads/2026/01/AI-For-Purpose-Building-Technology-That-Actually-Matters.jpg
END:VEVENT
END:VCALENDAR