BEGIN:VCALENDAR
VERSION:2.0
PRODID:-//Sedgemoor Chamber - ECPv6.15.18//NONSGML v1.0//EN
CALSCALE:GREGORIAN
METHOD:PUBLISH
X-WR-CALNAME:Sedgemoor Chamber
X-ORIGINAL-URL:https://sedgemoorchamber.co.uk
X-WR-CALDESC:Events for Sedgemoor Chamber
REFRESH-INTERVAL;VALUE=DURATION:PT1H
X-Robots-Tag:noindex
X-PUBLISHED-TTL:PT1H
BEGIN:VTIMEZONE
TZID:Europe/London
BEGIN:DAYLIGHT
TZOFFSETFROM:+0000
TZOFFSETTO:+0100
TZNAME:BST
DTSTART:20240331T010000
END:DAYLIGHT
BEGIN:STANDARD
TZOFFSETFROM:+0100
TZOFFSETTO:+0000
TZNAME:GMT
DTSTART:20241027T010000
END:STANDARD
BEGIN:DAYLIGHT
TZOFFSETFROM:+0000
TZOFFSETTO:+0100
TZNAME:BST
DTSTART:20250330T010000
END:DAYLIGHT
BEGIN:STANDARD
TZOFFSETFROM:+0100
TZOFFSETTO:+0000
TZNAME:GMT
DTSTART:20251026T010000
END:STANDARD
BEGIN:DAYLIGHT
TZOFFSETFROM:+0000
TZOFFSETTO:+0100
TZNAME:BST
DTSTART:20260329T010000
END:DAYLIGHT
BEGIN:STANDARD
TZOFFSETFROM:+0100
TZOFFSETTO:+0000
TZNAME:GMT
DTSTART:20261025T010000
END:STANDARD
END:VTIMEZONE
BEGIN:VEVENT
DTSTART;TZID=Europe/London:20250414T090000
DTEND;TZID=Europe/London:20250417T130000
DTSTAMP:20260422T125651
CREATED:20250401T133530Z
LAST-MODIFIED:20250401T133530Z
UID:18647-1744621200-1744894800@sedgemoorchamber.co.uk
SUMMARY:Bridgwater United Community Sports Trust - Easter Camp
DESCRIPTION:Bridgwater United Community Sports Trust are delighted to announce the return of our Easter Holiday Camp at FairFax Park.\nRunning 14th – 17th April. These camps are designed for young people to have fun\, socialise\, meet new friends and learn new skills.\nAn unforgettable day of fun and learning. Enjoy multi-sports\, creative art activities\, STEM Sphero Robots\, penalty shootouts\, explore the Stadium\, a healthy lunch and practical healthy eating tips. 9am – 1pm |\n📍 Fairfax Park Stadium 8-11 yrs Boys & Girls Location – Fairfax Park\, College Way\, Bath Rd\, Bridgwater TA6 4TZ Spaces are limited!\nWhat to bring: Plenty to drink Suitable indoor trainers and football boots (Most likely we use the outside grass facilities if weather allows) Any medical equipment such as inhalers\, epi pens etc Any questions please get in touch with community@bridgwaterunitedfc.com or tom.chandler@bridgwaterunitedcst.co.uk
URL:https://sedgemoorchamber.co.uk/chambers-events/bridgwater-united-community-sports-trust-easter-camp/
LOCATION:Bridgwater United Football Ground\, Fairfax Park Stadium\, College Way\, Bridgwater\, TA6 4TZ
CATEGORIES:Member Led Event
ATTACH;FMTTYPE=image/jpeg:https://sedgemoorchamber.co.uk/wp-content/uploads/2025/04/Copy-of-Member-Led-event-Template-4-1.jpg
ORGANIZER;CN="Bridgwater United Sports Community Trust":MAILTO:sarah.murry@bridgwaterunitedfc.com
END:VEVENT
END:VCALENDAR