BEGIN:VCALENDAR
VERSION:2.0
PRODID:-//Sedgemoor Chamber - ECPv6.15.18//NONSGML v1.0//EN
CALSCALE:GREGORIAN
METHOD:PUBLISH
X-WR-CALNAME:Sedgemoor Chamber
X-ORIGINAL-URL:https://sedgemoorchamber.co.uk
X-WR-CALDESC:Events for Sedgemoor Chamber
REFRESH-INTERVAL;VALUE=DURATION:PT1H
X-Robots-Tag:noindex
X-PUBLISHED-TTL:PT1H
BEGIN:VTIMEZONE
TZID:Europe/London
BEGIN:DAYLIGHT
TZOFFSETFROM:+0000
TZOFFSETTO:+0100
TZNAME:BST
DTSTART:20240331T010000
END:DAYLIGHT
BEGIN:STANDARD
TZOFFSETFROM:+0100
TZOFFSETTO:+0000
TZNAME:GMT
DTSTART:20241027T010000
END:STANDARD
BEGIN:DAYLIGHT
TZOFFSETFROM:+0000
TZOFFSETTO:+0100
TZNAME:BST
DTSTART:20250330T010000
END:DAYLIGHT
BEGIN:STANDARD
TZOFFSETFROM:+0100
TZOFFSETTO:+0000
TZNAME:GMT
DTSTART:20251026T010000
END:STANDARD
BEGIN:DAYLIGHT
TZOFFSETFROM:+0000
TZOFFSETTO:+0100
TZNAME:BST
DTSTART:20260329T010000
END:DAYLIGHT
BEGIN:STANDARD
TZOFFSETFROM:+0100
TZOFFSETTO:+0000
TZNAME:GMT
DTSTART:20261025T010000
END:STANDARD
END:VTIMEZONE
BEGIN:VEVENT
DTSTART;TZID=Europe/London:20250411T190000
DTEND;TZID=Europe/London:20250411T190000
DTSTAMP:20260422T125813
CREATED:20250320T113028Z
LAST-MODIFIED:20250320T121222Z
UID:18264-1744398000-1744398000@sedgemoorchamber.co.uk
SUMMARY:Charity Race Night
DESCRIPTION:Join Royal British Legion for an exciting and entertaining evening at the Charity Horse Race and Film Night\, taking place on Friday\, 11th April 2025\, at the Sea Cadet Hall in Bridgwater. Doors will open at 7:00 PM\, with the first race starting at 7:30 PM. Tickets are available for £5\, which includes light refreshments. You can purchase tickets from the RBL Touchpoint on Queen Street\, Bridgwater (TA6)\, or by texting 07834 594344. Alternatively\, you can inquire via email at welcome@rblbridgwater.co.uk.
URL:https://sedgemoorchamber.co.uk/chambers-events/charity-race-night/
LOCATION:Sea Cadet Hall\, Seaward Dr\, Bridgwater TA6 3FJ\, Bridgwater\, Somerset\, TA6 3FJ\, United Kingdom
CATEGORIES:Member Led Event
ATTACH;FMTTYPE=image/jpeg:https://sedgemoorchamber.co.uk/wp-content/uploads/2025/03/Member-Led-event-Template-.jpg
ORGANIZER;CN="Royal British Legion":MAILTO:welcome@rblbridgwater.co.uk
END:VEVENT
END:VCALENDAR