BEGIN:VCALENDAR
VERSION:2.0
PRODID:-//Sedgemoor Chamber - ECPv6.15.18//NONSGML v1.0//EN
CALSCALE:GREGORIAN
METHOD:PUBLISH
X-WR-CALNAME:Sedgemoor Chamber
X-ORIGINAL-URL:https://sedgemoorchamber.co.uk
X-WR-CALDESC:Events for Sedgemoor Chamber
REFRESH-INTERVAL;VALUE=DURATION:PT1H
X-Robots-Tag:noindex
X-PUBLISHED-TTL:PT1H
BEGIN:VTIMEZONE
TZID:Europe/London
BEGIN:DAYLIGHT
TZOFFSETFROM:+0000
TZOFFSETTO:+0100
TZNAME:BST
DTSTART:20240331T010000
END:DAYLIGHT
BEGIN:STANDARD
TZOFFSETFROM:+0100
TZOFFSETTO:+0000
TZNAME:GMT
DTSTART:20241027T010000
END:STANDARD
BEGIN:DAYLIGHT
TZOFFSETFROM:+0000
TZOFFSETTO:+0100
TZNAME:BST
DTSTART:20250330T010000
END:DAYLIGHT
BEGIN:STANDARD
TZOFFSETFROM:+0100
TZOFFSETTO:+0000
TZNAME:GMT
DTSTART:20251026T010000
END:STANDARD
BEGIN:DAYLIGHT
TZOFFSETFROM:+0000
TZOFFSETTO:+0100
TZNAME:BST
DTSTART:20260329T010000
END:DAYLIGHT
BEGIN:STANDARD
TZOFFSETFROM:+0100
TZOFFSETTO:+0000
TZNAME:GMT
DTSTART:20261025T010000
END:STANDARD
END:VTIMEZONE
BEGIN:VEVENT
DTSTART;VALUE=DATE:20250322
DTEND;VALUE=DATE:20250327
DTSTAMP:20260422T143001
CREATED:20250304T141116Z
LAST-MODIFIED:20250304T141116Z
UID:17879-1742601600-1743033599@sedgemoorchamber.co.uk
SUMMARY:Enmore Park OPEN DAYS 2025
DESCRIPTION:SATURDAY 22ND MARCH 2025 – 1PM TO 3PM\nSUNDAY 23RD MARCH 2025 – 10AM TO 12PM\nWEDNESDAY 26TH MARCH 2025 – 4:30PM TO 6:30PM\nOur message remains “Something for Everyone” and we really do mean it. Men and women\, young\, old and all ages in between. Maybe you’ve never picked up a golf club in your life\, maybe you’re thinking of taking up the game after a break\, or maybe you’re thinking of changing club\, we’d love to meet you on our Open Days. \nSo come along on any of our Open Days and meet the team\, the members\, the club professionals and take a look at what’s on offer. You’ll get the chance to play a few holes\, take a tour of the course\, take part in some free coaching sessions and ask any questions you might have about our club or golf in general. \nThe Bar and Kitchen will also be open for you to purchase a refreshing beverage or hot drink and meal in our relaxing\, friendly clubhouse with stunning views across the course. \n \nThe Schedule\nOur Open Day booklet will be available soon for you to download and will include the full schedule for the day. There will be some special membership offers available including ‘NO JOINING FEE’ which that on its own saves you a whopping £200! \nThis is a very informal event for everyone to enjoy and there certainly won’t be any pressure to join the club. \nTaster Golf for Beginners\nWe’re very keen on encouraging adults and juniors alike to take up the game of golf and our “Taster Golf” sessions and games will take place from: – \n\nSaturday 22nd March 2025 – 1:45 pm to 2:30 pm\nSunday 23rd March 2025 – 10:45 am to 11:30 am\nWednesday 26th March 2025 – 4:45pm to 5:30 pm\n\nAll equipment and a heap of help and encouragement will be provided. \nRegistration\nThere’s no need to register\, you’re welcome to just come along on any of the days\, at whatever time you’d like. However\, if you think you’ll be coming along then a short email to the address below will help us gauge an idea of numbers.\nIf you’d like to know a bit more then just give the club a call on 01278 672100 (option 4) or email the club office on   secretary@enmorepark.co.uk
URL:https://sedgemoorchamber.co.uk/chambers-events/enmore-park-open-days-2025/
LOCATION:Enmore Park Golf Club\, TA5 2AN
CATEGORIES:Member Led Event
ATTACH;FMTTYPE=image/png:https://sedgemoorchamber.co.uk/wp-content/uploads/2025/03/Member-Led-event-Template-3.png
ORGANIZER;CN="Enmore Park Golf Club":MAILTO:manager@enmorepark.co.uk
END:VEVENT
END:VCALENDAR