BEGIN:VCALENDAR
VERSION:2.0
PRODID:-//Sedgemoor Chamber - ECPv6.15.18//NONSGML v1.0//EN
CALSCALE:GREGORIAN
METHOD:PUBLISH
X-WR-CALNAME:Sedgemoor Chamber
X-ORIGINAL-URL:https://sedgemoorchamber.co.uk
X-WR-CALDESC:Events for Sedgemoor Chamber
REFRESH-INTERVAL;VALUE=DURATION:PT1H
X-Robots-Tag:noindex
X-PUBLISHED-TTL:PT1H
BEGIN:VTIMEZONE
TZID:Europe/London
BEGIN:DAYLIGHT
TZOFFSETFROM:+0000
TZOFFSETTO:+0100
TZNAME:BST
DTSTART:20240331T010000
END:DAYLIGHT
BEGIN:STANDARD
TZOFFSETFROM:+0100
TZOFFSETTO:+0000
TZNAME:GMT
DTSTART:20241027T010000
END:STANDARD
BEGIN:DAYLIGHT
TZOFFSETFROM:+0000
TZOFFSETTO:+0100
TZNAME:BST
DTSTART:20250330T010000
END:DAYLIGHT
BEGIN:STANDARD
TZOFFSETFROM:+0100
TZOFFSETTO:+0000
TZNAME:GMT
DTSTART:20251026T010000
END:STANDARD
BEGIN:DAYLIGHT
TZOFFSETFROM:+0000
TZOFFSETTO:+0100
TZNAME:BST
DTSTART:20260329T010000
END:DAYLIGHT
BEGIN:STANDARD
TZOFFSETFROM:+0100
TZOFFSETTO:+0000
TZNAME:GMT
DTSTART:20261025T010000
END:STANDARD
END:VTIMEZONE
BEGIN:VEVENT
DTSTART;TZID=Europe/London:20250305T123000
DTEND;TZID=Europe/London:20250305T140000
DTSTAMP:20260422T143001
CREATED:20250211T105502Z
LAST-MODIFIED:20250211T110532Z
UID:17569-1741177800-1741183200@sedgemoorchamber.co.uk
SUMMARY:Ask an Architect Session
DESCRIPTION:AFTER THE SUCCESS OF THE FIRST EVENT\, WE ARE REPEATING THE ASK AN ARCHITECT SESSIONS ONCE A MONTH.\nBOOK NOW FOR A FREE 1-2-1 SESSION! \nASK AN ARCHITECT\nFREE 15 MINUTE 1-2-1 SESSIONS\nWEDNESDAY 05 MARCH 12.30-2pm \nIf you are thinking about an extension\, renovating or making your dream home a reality\, we are offering 15 minute sessions with one of our architects to provide free personalised\, impartial advice. \nBOOK NOW FOR A PHONE CALL OR DROP-IN APPOINTMENT AT OUR OFFICE IN VINEY COURT\, TAUNTON. \nCall us on 01823 337211 or email taunton@stone-partners.co.uk to book for appointment.
URL:https://sedgemoorchamber.co.uk/chambers-events/ask-an-architect-session/
LOCATION:Stone and Partners\, Suite G5a Viney Court\, Viney St\, Taunton TA1 3FB\, Taunton\, Somerset\, TA1 3FB\, United Kingdom
CATEGORIES:Member Led Event
ATTACH;FMTTYPE=image/webp:https://sedgemoorchamber.co.uk/wp-content/uploads/2025/02/sp.webp
ORGANIZER;CN="Stone + Partners":MAILTO:taunton@stone-partners.co.uk
END:VEVENT
END:VCALENDAR