BEGIN:VCALENDAR
VERSION:2.0
PRODID:-//Sedgemoor Chamber - ECPv6.15.18//NONSGML v1.0//EN
CALSCALE:GREGORIAN
METHOD:PUBLISH
X-WR-CALNAME:Sedgemoor Chamber
X-ORIGINAL-URL:https://sedgemoorchamber.co.uk
X-WR-CALDESC:Events for Sedgemoor Chamber
REFRESH-INTERVAL;VALUE=DURATION:PT1H
X-Robots-Tag:noindex
X-PUBLISHED-TTL:PT1H
BEGIN:VTIMEZONE
TZID:Europe/London
BEGIN:DAYLIGHT
TZOFFSETFROM:+0000
TZOFFSETTO:+0100
TZNAME:BST
DTSTART:20240331T010000
END:DAYLIGHT
BEGIN:STANDARD
TZOFFSETFROM:+0100
TZOFFSETTO:+0000
TZNAME:GMT
DTSTART:20241027T010000
END:STANDARD
BEGIN:DAYLIGHT
TZOFFSETFROM:+0000
TZOFFSETTO:+0100
TZNAME:BST
DTSTART:20250330T010000
END:DAYLIGHT
BEGIN:STANDARD
TZOFFSETFROM:+0100
TZOFFSETTO:+0000
TZNAME:GMT
DTSTART:20251026T010000
END:STANDARD
BEGIN:DAYLIGHT
TZOFFSETFROM:+0000
TZOFFSETTO:+0100
TZNAME:BST
DTSTART:20260329T010000
END:DAYLIGHT
BEGIN:STANDARD
TZOFFSETFROM:+0100
TZOFFSETTO:+0000
TZNAME:GMT
DTSTART:20261025T010000
END:STANDARD
END:VTIMEZONE
BEGIN:VEVENT
DTSTART;TZID=Europe/London:20250214T193000
DTEND;TZID=Europe/London:20250214T193000
DTSTAMP:20260422T160252
CREATED:20250204T101411Z
LAST-MODIFIED:20250204T141523Z
UID:17479-1739561400-1739561400@sedgemoorchamber.co.uk
SUMMARY:Valentines Event
DESCRIPTION:Celebrate love & friendship at Keepers Kitchen & Bar! \n\n\nJoin Ibis Bridgwater on 14th February for a special Valentine’s or Galentine’s evening featuring our £55 per person set menu  and live music from Vixen Acoustic Duo .\n\n\n\n To book\, call them on 01278 619 963 and secure your table!
URL:https://sedgemoorchamber.co.uk/chambers-events/valentines-event/
LOCATION:ibis Bridgwater\, Woodlands Court Business Park\, Bridgwater\, TA6 4FJ
CATEGORIES:Member Led Event
ATTACH;FMTTYPE=image/png:https://sedgemoorchamber.co.uk/wp-content/uploads/2025/02/Copy-of-Member-Led-event-Template-8.png
ORGANIZER;CN="Ibis Bridgwater":MAILTO:HB670@accor.com
END:VEVENT
END:VCALENDAR