BEGIN:VCALENDAR
VERSION:2.0
PRODID:-//Sedgemoor Chamber - ECPv6.15.18//NONSGML v1.0//EN
CALSCALE:GREGORIAN
METHOD:PUBLISH
X-WR-CALNAME:Sedgemoor Chamber
X-ORIGINAL-URL:https://sedgemoorchamber.co.uk
X-WR-CALDESC:Events for Sedgemoor Chamber
REFRESH-INTERVAL;VALUE=DURATION:PT1H
X-Robots-Tag:noindex
X-PUBLISHED-TTL:PT1H
BEGIN:VTIMEZONE
TZID:Europe/London
BEGIN:DAYLIGHT
TZOFFSETFROM:+0000
TZOFFSETTO:+0100
TZNAME:BST
DTSTART:20230326T010000
END:DAYLIGHT
BEGIN:STANDARD
TZOFFSETFROM:+0100
TZOFFSETTO:+0000
TZNAME:GMT
DTSTART:20231029T010000
END:STANDARD
BEGIN:DAYLIGHT
TZOFFSETFROM:+0000
TZOFFSETTO:+0100
TZNAME:BST
DTSTART:20240331T010000
END:DAYLIGHT
BEGIN:STANDARD
TZOFFSETFROM:+0100
TZOFFSETTO:+0000
TZNAME:GMT
DTSTART:20241027T010000
END:STANDARD
BEGIN:DAYLIGHT
TZOFFSETFROM:+0000
TZOFFSETTO:+0100
TZNAME:BST
DTSTART:20250330T010000
END:DAYLIGHT
BEGIN:STANDARD
TZOFFSETFROM:+0100
TZOFFSETTO:+0000
TZNAME:GMT
DTSTART:20251026T010000
END:STANDARD
END:VTIMEZONE
BEGIN:VEVENT
DTSTART;TZID=Europe/London:20240925T090000
DTEND;TZID=Europe/London:20240926T170000
DTSTAMP:20260423T002014
CREATED:20240410T122422Z
LAST-MODIFIED:20240704T084103Z
UID:14753-1727254800-1727370000@sedgemoorchamber.co.uk
SUMMARY:MHFA Refresher Training
DESCRIPTION:Member Led Event – New Leaf Workplace Wellbeing  \n\n\nMental Health First Aid Training – New Leaf \n25th and 26th September 2024 – Face to face training The Quaker Meeting House Taunton. \nYou will be accessing the very best evidence-based Mental Health First Aid course available. The training is grounded in research and developed with clinical practitioners. It is proven to increase MHFAiders® confidence in supporting people with mental health issues. With this new offer\, training doesn’t stop when the course comes to an end. MHFA England provide continuous support for MHFAiders® – well beyond your initial certification – so you are confident\, empowered and motivated to carry out your role. \nWhy become an MHFAider®?\nBy training with us you will gain:  \n• A deeper understanding of mental health and the factors that can affect people’s wellbeing\n• Practical skills to spot the triggers and signs of mental health issues\n• The confidence to step in and support someone to recover their health by guiding them to appropriate support\n• Three years of access to the MHFAider Support App® with 24/7 digital support\n• Access to exclusive resources\, ongoing learning opportunities\, and the benefit of joining England’s largest community of trained MHFAiders® \nWhy choose MHFA England training?\n• 91% of people had a better understanding of mental health after completing their MHFA England course\n• Since MHFA England was founded in 2007\, the Instructor Members have trained hundreds and thousands of MHFAiders\n• All MHFA England Instructor Members are accredited by the Royal Society of Public Health\, meaning you can expect a quality assured and consistent training experience\n• MHFA England are committed to improving the mental health of the nation\nThis course runs from 9am to 5.00pm on both days \nWhy choose New Leaf Life Design? \nNew Leaf have trained over 700 Mental Health First Aiders. Our testimonials rate us the best training participants have recieved read them here  \n“I feel so much more confident now in my approach and knowledge around Mental Health and the support I am able to offer friends\, family\, co-workers and strangers. Becky has such a wealth of experience and took the time to cover issues\, in depth\, over the two day course. I can’t recommend the course enough. It covers such important issues that we all face and I can only imagine how much better we would all feel if we took the time to really check in with each other. Thank you Becky for being sensitive to issues\, informative and reassuring through out the course.” Mel Cooper Icatcare” \nBecky was a fantastic instructor during the course.It’s always hard to keep engagement online but she did it absolute justice! She was also apply to gage the room if the team were ever struggling with aspects of the course\, allowing us to take adequate time process the information which was amazing. This is a fantastic course and would recommend it to other colleagues. So happy to be apart of the opportunity! Thanks again\,” Lisa McGregor BrewDog \nBook tickets here 
URL:https://sedgemoorchamber.co.uk/chambers-events/mhfa-refresher-training/
CATEGORIES:Business Training,Member Led Event
ATTACH;FMTTYPE=image/png:https://sedgemoorchamber.co.uk/wp-content/uploads/2024/04/Member-Led-event-4.png
ORGANIZER;CN="New Leaf":MAILTO:becky@newleaf.uk.com
END:VEVENT
END:VCALENDAR