BEGIN:VCALENDAR
VERSION:2.0
PRODID:-//Sedgemoor Chamber - ECPv6.15.18//NONSGML v1.0//EN
CALSCALE:GREGORIAN
METHOD:PUBLISH
X-WR-CALNAME:Sedgemoor Chamber
X-ORIGINAL-URL:https://sedgemoorchamber.co.uk
X-WR-CALDESC:Events for Sedgemoor Chamber
REFRESH-INTERVAL;VALUE=DURATION:PT1H
X-Robots-Tag:noindex
X-PUBLISHED-TTL:PT1H
BEGIN:VTIMEZONE
TZID:Europe/London
BEGIN:DAYLIGHT
TZOFFSETFROM:+0000
TZOFFSETTO:+0100
TZNAME:BST
DTSTART:20230326T010000
END:DAYLIGHT
BEGIN:STANDARD
TZOFFSETFROM:+0100
TZOFFSETTO:+0000
TZNAME:GMT
DTSTART:20231029T010000
END:STANDARD
BEGIN:DAYLIGHT
TZOFFSETFROM:+0000
TZOFFSETTO:+0100
TZNAME:BST
DTSTART:20240331T010000
END:DAYLIGHT
BEGIN:STANDARD
TZOFFSETFROM:+0100
TZOFFSETTO:+0000
TZNAME:GMT
DTSTART:20241027T010000
END:STANDARD
BEGIN:DAYLIGHT
TZOFFSETFROM:+0000
TZOFFSETTO:+0100
TZNAME:BST
DTSTART:20250330T010000
END:DAYLIGHT
BEGIN:STANDARD
TZOFFSETFROM:+0100
TZOFFSETTO:+0000
TZNAME:GMT
DTSTART:20251026T010000
END:STANDARD
END:VTIMEZONE
BEGIN:VEVENT
DTSTART;TZID=Europe/London:20240727T190000
DTEND;TZID=Europe/London:20240727T220000
DTSTAMP:20260423T033421
CREATED:20240423T093910Z
LAST-MODIFIED:20240423T093930Z
UID:14840-1722106800-1722117600@sedgemoorchamber.co.uk
SUMMARY:The Dryad Inn Pop Up Pub
DESCRIPTION:Member Led Event – Dryad Gin Ltd \nThe Dryad Inn Pop Up Pub will be held at Broomfield Village Hall TA5 2EQ on the following dates in 2024\n27th July\n21st September\n1st November\n21st December \nAt each event we will be joined by The Quantock Landscape Partnership Scheme who will be offering a creative area in the PopUp Pub. The purpose of these events is to bring people together\, connecting\, laughing\, bonding. Old friends are reacquainted\, new neighbours tentatively introduced and strangers became a little less so. \nWe open the doors at 7pm and its for over 18s only. You will be able to enjoy local beer\, cider and our very special Dryad Gin. We also have non alcoholic options and a full cocktail bar with recipes named after local places and people. Our Dryad Gin in is always for sale at our events. \nThere is parking behind the village hall in a field but unsuitable if the ground is too wet. We normally have a Pizza Van join us or have local food available at each event. \nFrom local oak back to the community in a glass
URL:https://sedgemoorchamber.co.uk/chambers-events/the-dryad-inn-pop-up-pub/
CATEGORIES:Member Led Event
ATTACH;FMTTYPE=image/png:https://sedgemoorchamber.co.uk/wp-content/uploads/2024/04/Member-Led-event-10-e1743418162317.png
END:VEVENT
END:VCALENDAR