BEGIN:VCALENDAR
VERSION:2.0
PRODID:-//Sedgemoor Chamber - ECPv6.15.18//NONSGML v1.0//EN
CALSCALE:GREGORIAN
METHOD:PUBLISH
X-WR-CALNAME:Sedgemoor Chamber
X-ORIGINAL-URL:https://sedgemoorchamber.co.uk
X-WR-CALDESC:Events for Sedgemoor Chamber
REFRESH-INTERVAL;VALUE=DURATION:PT1H
X-Robots-Tag:noindex
X-PUBLISHED-TTL:PT1H
BEGIN:VTIMEZONE
TZID:Europe/London
BEGIN:DAYLIGHT
TZOFFSETFROM:+0000
TZOFFSETTO:+0100
TZNAME:BST
DTSTART:20230326T010000
END:DAYLIGHT
BEGIN:STANDARD
TZOFFSETFROM:+0100
TZOFFSETTO:+0000
TZNAME:GMT
DTSTART:20231029T010000
END:STANDARD
BEGIN:DAYLIGHT
TZOFFSETFROM:+0000
TZOFFSETTO:+0100
TZNAME:BST
DTSTART:20240331T010000
END:DAYLIGHT
BEGIN:STANDARD
TZOFFSETFROM:+0100
TZOFFSETTO:+0000
TZNAME:GMT
DTSTART:20241027T010000
END:STANDARD
BEGIN:DAYLIGHT
TZOFFSETFROM:+0000
TZOFFSETTO:+0100
TZNAME:BST
DTSTART:20250330T010000
END:DAYLIGHT
BEGIN:STANDARD
TZOFFSETFROM:+0100
TZOFFSETTO:+0000
TZNAME:GMT
DTSTART:20251026T010000
END:STANDARD
END:VTIMEZONE
BEGIN:VEVENT
DTSTART;TZID=Europe/London:20240622T100000
DTEND;TZID=Europe/London:20240622T163000
DTSTAMP:20260423T051538
CREATED:20240301T101053Z
LAST-MODIFIED:20240423T090853Z
UID:14225-1719050400-1719073800@sedgemoorchamber.co.uk
SUMMARY:Bridgwater Armed Forces Day
DESCRIPTION:Celebrate Bridgwater Armed Forces Day 2024\nJoin us at the Bridgwat  & Albion Rugby Club on Saturday\, 22nd June\, from 10 am to 4:30 pm. This event is packed with entertainment like parachutists\, archery\, and live music\, offering something for everyone at no entry cost. \nBusiness Involvement Opportunities\nBridgwater Chamber Members are encouraged to support through sponsorships\, gaining exposure in various media. Opportunities include guest hospitality and event attractions. This day honour’s our community’s service members\, making a meaningful addition to our calendar. \nFor sponsorship or participation\, contact Ray Dickinson\, on 07834 594344 or my colleague Nick Pippard on 07917 410202. Alternatively\, you could email welcome@rblbridgwater.co.uk
URL:https://sedgemoorchamber.co.uk/chambers-events/bridgwater-armed-forces-day/
LOCATION:Bridgwater & Albion Rugby Club\, Bridgwater & Albion Rugby Football Club\, Bridgwater\, TA6 4TZ
CATEGORIES:Member Led Event
ATTACH;FMTTYPE=image/png:https://sedgemoorchamber.co.uk/wp-content/uploads/2024/03/Member-Led-event-6.png
ORGANIZER;CN="Royal British Legion":MAILTO:welcome@rblbridgwater.co.uk
END:VEVENT
END:VCALENDAR