BEGIN:VCALENDAR
VERSION:2.0
PRODID:-//Sedgemoor Chamber - ECPv6.15.18//NONSGML v1.0//EN
CALSCALE:GREGORIAN
METHOD:PUBLISH
X-WR-CALNAME:Sedgemoor Chamber
X-ORIGINAL-URL:https://sedgemoorchamber.co.uk
X-WR-CALDESC:Events for Sedgemoor Chamber
REFRESH-INTERVAL;VALUE=DURATION:PT1H
X-Robots-Tag:noindex
X-PUBLISHED-TTL:PT1H
BEGIN:VTIMEZONE
TZID:Europe/London
BEGIN:DAYLIGHT
TZOFFSETFROM:+0000
TZOFFSETTO:+0100
TZNAME:BST
DTSTART:20230326T010000
END:DAYLIGHT
BEGIN:STANDARD
TZOFFSETFROM:+0100
TZOFFSETTO:+0000
TZNAME:GMT
DTSTART:20231029T010000
END:STANDARD
BEGIN:DAYLIGHT
TZOFFSETFROM:+0000
TZOFFSETTO:+0100
TZNAME:BST
DTSTART:20240331T010000
END:DAYLIGHT
BEGIN:STANDARD
TZOFFSETFROM:+0100
TZOFFSETTO:+0000
TZNAME:GMT
DTSTART:20241027T010000
END:STANDARD
BEGIN:DAYLIGHT
TZOFFSETFROM:+0000
TZOFFSETTO:+0100
TZNAME:BST
DTSTART:20250330T010000
END:DAYLIGHT
BEGIN:STANDARD
TZOFFSETFROM:+0100
TZOFFSETTO:+0000
TZNAME:GMT
DTSTART:20251026T010000
END:STANDARD
END:VTIMEZONE
BEGIN:VEVENT
DTSTART;TZID=Europe/London:20240504T150000
DTEND;TZID=Europe/London:20240504T160000
DTSTAMP:20260423T040924
CREATED:20240423T093355Z
LAST-MODIFIED:20240423T093355Z
UID:14837-1714834800-1714838400@sedgemoorchamber.co.uk
SUMMARY:Quantock Dryad Gin Bluebell Botanical Walk
DESCRIPTION:Member Led Event – Dryad Gin Ltd \nQuantock Dryad Gin Bluebell Botanical Walk \nMultiple Dates \n27th April\n28th April\n4th May \nall at 3pm \n🌿 Join me for a delightful journey through nature and spirits! and stand in awe at the beautiful Bluebells🌳🍸 \nI’m excited to invite you to join us on a leisurely walk across beautiful Broomfield Hill\, as we follow in the footsteps of Dryad Gin distiller\, Becky Wright. 🚶‍♀️ \nTogether\, we will explore the mesmerising diversity of flowers\, trees\, and plants that perfectly complement the creation of gin. 🌺🌲🌱 We’ll even connect with the enchanting tree spirits and discover the captivating tale behind Dryad Gin while paying a visit to The Dryad Tree\, the muse that inspired this exceptional spirit. 🧚‍♀️ \nAnd that’s not all! You’ll have the chance to savor the exquisite Dryad Gin and partake in the traditional blackbirds beak toast. 🍹 \nCapture the magical moments with your camera or camera-phone\, as there will be plenty of opportunities for breathtaking photos along the way the bluebells are just stunning. 📸✨ \nAs spaces are limited for this unique experience\, booking your spot in advance is essential. 🎟️ \nTickets for this unforgettable event are priced at £10.00 per person\, and remember that they are non-refundable in case of cancellation \nOver 18s only and we would rather enjoy the walk free from dogs due to cattle being nearby. \nBooking Link https://www.tickettailor.com/events/dryadginltd/1214939
URL:https://sedgemoorchamber.co.uk/chambers-events/quantock-dryad-gin-bluebell-botanical-walk/
CATEGORIES:Member Led Event
ATTACH;FMTTYPE=image/png:https://sedgemoorchamber.co.uk/wp-content/uploads/2024/04/Member-Led-event-9-e1743418220508.png
END:VEVENT
END:VCALENDAR