BEGIN:VCALENDAR
VERSION:2.0
PRODID:-//Sedgemoor Chamber - ECPv6.15.18//NONSGML v1.0//EN
CALSCALE:GREGORIAN
METHOD:PUBLISH
X-WR-CALNAME:Sedgemoor Chamber
X-ORIGINAL-URL:https://sedgemoorchamber.co.uk
X-WR-CALDESC:Events for Sedgemoor Chamber
REFRESH-INTERVAL;VALUE=DURATION:PT1H
X-Robots-Tag:noindex
X-PUBLISHED-TTL:PT1H
BEGIN:VTIMEZONE
TZID:Europe/London
BEGIN:DAYLIGHT
TZOFFSETFROM:+0000
TZOFFSETTO:+0100
TZNAME:BST
DTSTART:20230326T010000
END:DAYLIGHT
BEGIN:STANDARD
TZOFFSETFROM:+0100
TZOFFSETTO:+0000
TZNAME:GMT
DTSTART:20231029T010000
END:STANDARD
BEGIN:DAYLIGHT
TZOFFSETFROM:+0000
TZOFFSETTO:+0100
TZNAME:BST
DTSTART:20240331T010000
END:DAYLIGHT
BEGIN:STANDARD
TZOFFSETFROM:+0100
TZOFFSETTO:+0000
TZNAME:GMT
DTSTART:20241027T010000
END:STANDARD
BEGIN:DAYLIGHT
TZOFFSETFROM:+0000
TZOFFSETTO:+0100
TZNAME:BST
DTSTART:20250330T010000
END:DAYLIGHT
BEGIN:STANDARD
TZOFFSETFROM:+0100
TZOFFSETTO:+0000
TZNAME:GMT
DTSTART:20251026T010000
END:STANDARD
END:VTIMEZONE
BEGIN:VEVENT
DTSTART;TZID=Europe/London:20240117T090000
DTEND;TZID=Europe/London:20240118T163000
DTSTAMP:20260422T232919
CREATED:20231023T095349Z
LAST-MODIFIED:20231023T101252Z
UID:13183-1705482000-1705595400@sedgemoorchamber.co.uk
SUMMARY:Workplace Mental Health First Aid Training
DESCRIPTION:Member Event – New Leaf \n  \nMental Health First Aid Training with Mental Health First Aid England to be held in Bridgwater Face to Face on 17th and 18th January 2023 \nTrain as a Mental Health First Aider (MHFAider®) with New Leaf and receive three years of certification\, plus access to ongoing benefits. \nThis course is ideal for individuals who would like to become an MHFAider® to gain the knowledge and skills to spot signs of people experiencing poor mental health\, be confident to start a conversation and signpost a person to appropriate support.​ \nIn addition to the course\, you will become part of the largest MHFAider® community in England\, gaining access to resources\, ongoing learning and 24/7 digital support through our MHFAider Support App®\, to give you the tools and knowledge you need to carry out the role effectively and confidently\, whether that be in your workplace\, a volunteer role\, or in the community. \n  \nWe have trained over 700 Mental Health First Aiders and received the most positive testimonials see here https://www.newleaf.uk.com/about/testimonials/ our training services have been highly recommended and delivered by an experienced mental health practitioner and trainer. \nBook your place HERE
URL:https://sedgemoorchamber.co.uk/chambers-events/workplace-mental-health-first-aid-training/
LOCATION:CHT UK Training Rooms\, Showground Rd\, Bridgwater\, TA6 6AJ
CATEGORIES:Member Led Event
ATTACH;FMTTYPE=image/png:https://sedgemoorchamber.co.uk/wp-content/uploads/2023/10/123.png
END:VEVENT
END:VCALENDAR