BEGIN:VCALENDAR
VERSION:2.0
PRODID:-//Sedgemoor Chamber - ECPv6.15.18//NONSGML v1.0//EN
CALSCALE:GREGORIAN
METHOD:PUBLISH
X-WR-CALNAME:Sedgemoor Chamber
X-ORIGINAL-URL:https://sedgemoorchamber.co.uk
X-WR-CALDESC:Events for Sedgemoor Chamber
REFRESH-INTERVAL;VALUE=DURATION:PT1H
X-Robots-Tag:noindex
X-PUBLISHED-TTL:PT1H
BEGIN:VTIMEZONE
TZID:Europe/London
BEGIN:DAYLIGHT
TZOFFSETFROM:+0000
TZOFFSETTO:+0100
TZNAME:BST
DTSTART:20220327T010000
END:DAYLIGHT
BEGIN:STANDARD
TZOFFSETFROM:+0100
TZOFFSETTO:+0000
TZNAME:GMT
DTSTART:20221030T010000
END:STANDARD
BEGIN:DAYLIGHT
TZOFFSETFROM:+0000
TZOFFSETTO:+0100
TZNAME:BST
DTSTART:20230326T010000
END:DAYLIGHT
BEGIN:STANDARD
TZOFFSETFROM:+0100
TZOFFSETTO:+0000
TZNAME:GMT
DTSTART:20231029T010000
END:STANDARD
BEGIN:DAYLIGHT
TZOFFSETFROM:+0000
TZOFFSETTO:+0100
TZNAME:BST
DTSTART:20240331T010000
END:DAYLIGHT
BEGIN:STANDARD
TZOFFSETFROM:+0100
TZOFFSETTO:+0000
TZNAME:GMT
DTSTART:20241027T010000
END:STANDARD
END:VTIMEZONE
BEGIN:VEVENT
DTSTART;TZID=Europe/London:20231018T180000
DTEND;TZID=Europe/London:20231018T200000
DTSTAMP:20260422T171000
CREATED:20231008T140055Z
LAST-MODIFIED:20231008T140055Z
UID:12985-1697652000-1697659200@sedgemoorchamber.co.uk
SUMMARY:Lettings seminar: The Barnstaple Hotel
DESCRIPTION:Member Event – Westcotts  \nStags’ landlords seminars provide the perfect opportunity to obtain crucial guidance about letting your property as well as information about the proposed changes\, to include the Renter (Reform) Bill\, which could affect you as a landlord in the coming months. \nIn response to the thirst for further information and clarification\, Stags will be holding four seminars throughout the region in conjunction with Westcotts\, Azets\, Peplows and A. C. Mole. In addition\, representatives from the NFU & Envirovent will be on hand to offer advice. \nWe welcome all landlords who wish to attend. For further information\, and to book your place on one of the seminars\, follow THIS LINK \nThe residential lettings market is continually changing\, not only in relation to legislation and compliance\, but to all aspects of letting to include purchasing\, preparation of your property and the ongoing management once it is let. \nSeminars such as these\, which we have held in the past\, have proven to be very successful and provide an ideal opportunity to offer advice and answer any questions.
URL:https://sedgemoorchamber.co.uk/chambers-events/lettings-seminar-the-barnstaple-hotel/
LOCATION:Barnstaple Hotel\, Braunton Road\, Barnstaple\, EX31 1LE
CATEGORIES:Member Led Event
ATTACH;FMTTYPE=image/png:https://sedgemoorchamber.co.uk/wp-content/uploads/2023/10/27po.png
END:VEVENT
END:VCALENDAR