BEGIN:VCALENDAR
VERSION:2.0
PRODID:-//Sedgemoor Chamber - ECPv6.15.18//NONSGML v1.0//EN
CALSCALE:GREGORIAN
METHOD:PUBLISH
X-WR-CALNAME:Sedgemoor Chamber
X-ORIGINAL-URL:https://sedgemoorchamber.co.uk
X-WR-CALDESC:Events for Sedgemoor Chamber
REFRESH-INTERVAL;VALUE=DURATION:PT1H
X-Robots-Tag:noindex
X-PUBLISHED-TTL:PT1H
BEGIN:VTIMEZONE
TZID:Europe/London
BEGIN:DAYLIGHT
TZOFFSETFROM:+0000
TZOFFSETTO:+0100
TZNAME:BST
DTSTART:20220327T010000
END:DAYLIGHT
BEGIN:STANDARD
TZOFFSETFROM:+0100
TZOFFSETTO:+0000
TZNAME:GMT
DTSTART:20221030T010000
END:STANDARD
BEGIN:DAYLIGHT
TZOFFSETFROM:+0000
TZOFFSETTO:+0100
TZNAME:BST
DTSTART:20230326T010000
END:DAYLIGHT
BEGIN:STANDARD
TZOFFSETFROM:+0100
TZOFFSETTO:+0000
TZNAME:GMT
DTSTART:20231029T010000
END:STANDARD
BEGIN:DAYLIGHT
TZOFFSETFROM:+0000
TZOFFSETTO:+0100
TZNAME:BST
DTSTART:20240331T010000
END:DAYLIGHT
BEGIN:STANDARD
TZOFFSETFROM:+0100
TZOFFSETTO:+0000
TZNAME:GMT
DTSTART:20241027T010000
END:STANDARD
END:VTIMEZONE
BEGIN:VEVENT
DTSTART;VALUE=DATE:20230913
DTEND;VALUE=DATE:20230914
DTSTAMP:20260422T132100
CREATED:20230710T135822Z
LAST-MODIFIED:20230710T135822Z
UID:12585-1694563200-1694649599@sedgemoorchamber.co.uk
SUMMARY:Mental Health First Aid Training by New Leaf
DESCRIPTION:New Leaf would like to invite you to attend their next public Mental Health First Aid Course. This will be delivered in Bridgwater J24 over two days 13th and 14th of September face to face. They are delivering the new Mental Health First Aid Course \nThis new course gives each learner \n🍃A hard copy workbook to support their learning throughout the course \n🍃A digital manual to refer to whenever they need it​ after completing the course \n🍃A wallet-sized reference card with the Mental Health First Aid action plan​ \n🍃A digital MHFAider® certificate \n🍃Access to the MHFAider Support App® for three years \n🍃Access to ongoing learning opportunities\, resources and exclusive events ​ \n🍃The opportunity to be part of the largest MHFAider® community in England \n  \nCost £330.00 per place due to be held in Bridgwater J24\, we can invoice to avoid the eventbrite fees. \nYou also get first class training with New Leaf just read our testimonials 👉https://www.newleaf.uk.com/about/testimonials/ \nPlease let Mandy Trunks know mandy@newleaf.uk.com if you are interested. \nGreat for SMEs who may just want one or two MHFAiders Booking link 👉👉 https://www.eventbrite.co.uk/e/mental-health-first-aid-training-bridgwater-tickets-648141307097
URL:https://sedgemoorchamber.co.uk/chambers-events/mental-health-first-aid-training-by-new-leaf/
CATEGORIES:Member Led Event
ATTACH;FMTTYPE=image/png:https://sedgemoorchamber.co.uk/wp-content/uploads/2023/07/5588.png
ORGANIZER;CN="New Leaf":MAILTO:becky@newleaf.uk.com
END:VEVENT
END:VCALENDAR