BEGIN:VCALENDAR
VERSION:2.0
PRODID:-//Sedgemoor Chamber - ECPv6.15.18//NONSGML v1.0//EN
CALSCALE:GREGORIAN
METHOD:PUBLISH
X-WR-CALNAME:Sedgemoor Chamber
X-ORIGINAL-URL:https://sedgemoorchamber.co.uk
X-WR-CALDESC:Events for Sedgemoor Chamber
REFRESH-INTERVAL;VALUE=DURATION:PT1H
X-Robots-Tag:noindex
X-PUBLISHED-TTL:PT1H
BEGIN:VTIMEZONE
TZID:Europe/London
BEGIN:DAYLIGHT
TZOFFSETFROM:+0000
TZOFFSETTO:+0100
TZNAME:BST
DTSTART:20250330T010000
END:DAYLIGHT
BEGIN:STANDARD
TZOFFSETFROM:+0100
TZOFFSETTO:+0000
TZNAME:GMT
DTSTART:20251026T010000
END:STANDARD
BEGIN:DAYLIGHT
TZOFFSETFROM:+0000
TZOFFSETTO:+0100
TZNAME:BST
DTSTART:20260329T010000
END:DAYLIGHT
BEGIN:STANDARD
TZOFFSETFROM:+0100
TZOFFSETTO:+0000
TZNAME:GMT
DTSTART:20261025T010000
END:STANDARD
BEGIN:DAYLIGHT
TZOFFSETFROM:+0000
TZOFFSETTO:+0100
TZNAME:BST
DTSTART:20270328T010000
END:DAYLIGHT
BEGIN:STANDARD
TZOFFSETFROM:+0100
TZOFFSETTO:+0000
TZNAME:GMT
DTSTART:20271031T010000
END:STANDARD
END:VTIMEZONE
BEGIN:VEVENT
DTSTART;TZID=Europe/London:20260508T073000
DTEND;TZID=Europe/London:20260508T100000
DTSTAMP:20260419T182618
CREATED:20260407T035103Z
LAST-MODIFIED:20260407T035103Z
UID:24768-1778225400-1778234400@sedgemoorchamber.co.uk
SUMMARY:Employer Networking Breakfast
DESCRIPTION:We are excited to invite employers to our free Employer Networking Breakfast on Friday 8 May\, bringing together organisations from across engineering\, construction\, digital and wider sectors for a morning of insight\, conversation\, and collaboration. \nThis is a fantastic opportunity for businesses to connect with like-minded employers\, explore recruitment support for summer and September intakes\, and contribute to shaping the future of skills in our region. \nAttendees can enjoy great food\, make valuable connections\, and discover how they can save money\, access funding\, upskill their workforce\, and make the most of our facilities. \n\nVenue: Taunton Conference Centre \nTime: 7.30am – 10am \n\nAgenda \n7:30am – 8:15am | Arrival\, Breakfast & Networking \n8:15am – 8:45am | Breakout Sessions (choose one):\n• Skills & Professional Development\n• Funding & Cost-Saving Opportunities\n• Recruitment Support & Solutions \n8:45am – 9:15am | Guest Speaker: Roger Smith\nHear from the General Manager of Sedgemoor Chamber of Commerce\, Roger\, as he shares his experience of working with our T Level and work experience students\, and the benefits this can bring to businesses. \n9:15am – 10:00am | Networking & Facility Tours\nMeet other employers\, ask questions\, and take a guided tour of our Engineering\, Construction and Digital facilities. \n\nWe are also gathering employer insight to help shape the future direction of training\, including the upcoming Foundation Apprenticeships\, which offers a £2\,000 government incentive. \nOnce we understand workforce needs\, we can connect employers with candidates from our college talent pool who are ready to take their next step into employment. Similarly\, we can support them whilst they upskill their current members of staff. \nTo book a place or find out more\, please follow the link below:\nFuture\, Skills and Growth Networking Breakfast Tickets\, Friday\, May 8 from 7:30 am to 10 am | Eventbrite
URL:https://sedgemoorchamber.co.uk/chambers-events/employer-networking-breakfast/
CATEGORIES:Member Led Event
ATTACH;FMTTYPE=image/jpeg:https://sedgemoorchamber.co.uk/wp-content/uploads/2026/04/Employer-Networking-Breakfast.jpg
ORGANIZER;CN="UCS College Group":MAILTO:info@ucscollegegroup.ac.uk
END:VEVENT
END:VCALENDAR