BEGIN:VCALENDAR
VERSION:2.0
PRODID:-//Sedgemoor Chamber - ECPv6.15.18//NONSGML v1.0//EN
CALSCALE:GREGORIAN
METHOD:PUBLISH
X-WR-CALNAME:Sedgemoor Chamber
X-ORIGINAL-URL:https://sedgemoorchamber.co.uk
X-WR-CALDESC:Events for Sedgemoor Chamber
REFRESH-INTERVAL;VALUE=DURATION:PT1H
X-Robots-Tag:noindex
X-PUBLISHED-TTL:PT1H
BEGIN:VTIMEZONE
TZID:Europe/London
BEGIN:DAYLIGHT
TZOFFSETFROM:+0000
TZOFFSETTO:+0100
TZNAME:BST
DTSTART:20250330T010000
END:DAYLIGHT
BEGIN:STANDARD
TZOFFSETFROM:+0100
TZOFFSETTO:+0000
TZNAME:GMT
DTSTART:20251026T010000
END:STANDARD
BEGIN:DAYLIGHT
TZOFFSETFROM:+0000
TZOFFSETTO:+0100
TZNAME:BST
DTSTART:20260329T010000
END:DAYLIGHT
BEGIN:STANDARD
TZOFFSETFROM:+0100
TZOFFSETTO:+0000
TZNAME:GMT
DTSTART:20261025T010000
END:STANDARD
BEGIN:DAYLIGHT
TZOFFSETFROM:+0000
TZOFFSETTO:+0100
TZNAME:BST
DTSTART:20270328T010000
END:DAYLIGHT
BEGIN:STANDARD
TZOFFSETFROM:+0100
TZOFFSETTO:+0000
TZNAME:GMT
DTSTART:20271031T010000
END:STANDARD
END:VTIMEZONE
BEGIN:VEVENT
DTSTART;TZID=Europe/London:20260319T173000
DTEND;TZID=Europe/London:20260319T210000
DTSTAMP:20260419T182618
CREATED:20260223T061425Z
LAST-MODIFIED:20260223T061457Z
UID:24099-1773941400-1773954000@sedgemoorchamber.co.uk
SUMMARY:Clarke Willmott's Charity Winter Sporting Event
DESCRIPTION:After a thoroughly enjoyable evening of rounders last year\, Clarke Willmott LLP are delighted to invite you to their new Charity Winter Sporting Event in aid of Young Somerset\, taking place on Thursday 19th March 2026. \nThere will be games of Volleyball\, Unihoc\, Laser Pistol & Rifle shooting\, safety Archery and Boccia throughout the evening with other local businesses\, plus a raffle\, a bake sale and other refreshments for sale. \nFamily and friends are welcome and encouraged to make this an evening to remember! \nAll of the money raised will go towards Young Somerset\, the primary voluntary and community sector youth work organisation in Somerset\, whose mission is to put young people first. \nKEY DETAILS: \n🕑Time: Arrival from 5:30pm\, with the event to start at 6pm.  The sporting will finish at around 8pm where food and drinks will be ready for all attendees in the club room. \n📍Location: Taunton Vale Sports Club\, Gipsy Lane\, Taunton TA2 6LL. \n👥Teams: Teams consist of 7 mixed players per team which must include at least 3 ladies on the pitch\, there is no maximum amount of players as there is lots of potential for squad rotation so long as an “on pitch”  balance of male/female is preserved. \n💰Price: £16 per person (so a minimum of £112 per team and with the option of bringing bigger teams by paying an additional £16 per head).  Every ticket includes one free drink and food (burger/hot dog with fries). \n📞Who to contact: To enter your team\, please email Taunton.CommunityTeam@clarkewillmott.com by no later than Monday 2nd March 2026. \nIf you have any questions about the event\, please do not hesitate to contact us at Taunton.CommunityTeam@clarkewillmott.com \n*If you are interested in playing but are not able to get a full team together on your own\, please let us know and we can see whether anyone else is in a similar position and you can enter together.  Friends and family are welcome to join if you cannot make a full team from staff (although due to child protection the minimum age we can allow is 14 years old and any child between the age of 14-17 must attend with a parent).
URL:https://sedgemoorchamber.co.uk/chambers-events/clarke-willmotts-charity-winter-sporting-event/
CATEGORIES:Member Led Event
ATTACH;FMTTYPE=image/jpeg:https://sedgemoorchamber.co.uk/wp-content/uploads/2026/02/Clarke-Willmotts-Charity-Winter-Sports-Event-.jpg
END:VEVENT
BEGIN:VEVENT
DTSTART;TZID=Europe/London:20260320T093000
DTEND;TZID=Europe/London:20260320T123000
DTSTAMP:20260419T182618
CREATED:20260223T054414Z
LAST-MODIFIED:20260223T055914Z
UID:24079-1773999000-1774009800@sedgemoorchamber.co.uk
SUMMARY:Quarterly business planning workshop for small business owners
DESCRIPTION:Refocus\, plan and grow\n\n\n\n\n\n\nAre you fed up with trying to wing growing your business? \nDo you struggle to make the time to plan your next steps\, even though you know working strategically will help you stay focused and in greater control? \nThis quarterly planning workshop is for small business owners who want guidance and structure to create a clear\, actionable plan for the next three months so you can stay focused and see results. \n\n\n\n\n\n\n\n\n\n\n\n\n\n\n– Space to focus on your business for 3 hours \n– Advice on how to work more strategically \n– Reflect on the first quarter of 2026 \n– Refocus your goals for the next 3-12 months \n– Create a detailed plan for the next 3-months \n– Guided workbook for you to complete and re-use \n– Meet like minded business owners \n– Refreshments provided throughout the morning \n\n\n\nThe workshop will take place in the beautiful Georgian Kitchen at The Pig at Combe\, where you’ll have the opportunity to connect with other business owners in an intimate group setting. \nDate: Friday\, 20th March 2026 \nTime: 9:30 AM – 12:30 PM (refreshments included) \nLocation: The Pig at Combe\, nr Honiton \nInvestment: £99 (includes workbook) \nLimited spaces available. \nOptional: Stay on for lunch and continue the conversation
URL:https://sedgemoorchamber.co.uk/chambers-events/quarterly-business-planning-workshop/
CATEGORIES:Member Led Event
ATTACH;FMTTYPE=image/jpeg:https://sedgemoorchamber.co.uk/wp-content/uploads/2026/02/The-Pocket-Strategist.-3.jpg
END:VEVENT
END:VCALENDAR