BEGIN:VCALENDAR
VERSION:2.0
PRODID:-//Sedgemoor Chamber - ECPv6.15.18//NONSGML v1.0//EN
CALSCALE:GREGORIAN
METHOD:PUBLISH
X-WR-CALNAME:Sedgemoor Chamber
X-ORIGINAL-URL:https://sedgemoorchamber.co.uk
X-WR-CALDESC:Events for Sedgemoor Chamber
REFRESH-INTERVAL;VALUE=DURATION:PT1H
X-Robots-Tag:noindex
X-PUBLISHED-TTL:PT1H
BEGIN:VTIMEZONE
TZID:Europe/London
BEGIN:DAYLIGHT
TZOFFSETFROM:+0000
TZOFFSETTO:+0100
TZNAME:BST
DTSTART:20250330T010000
END:DAYLIGHT
BEGIN:STANDARD
TZOFFSETFROM:+0100
TZOFFSETTO:+0000
TZNAME:GMT
DTSTART:20251026T010000
END:STANDARD
BEGIN:DAYLIGHT
TZOFFSETFROM:+0000
TZOFFSETTO:+0100
TZNAME:BST
DTSTART:20260329T010000
END:DAYLIGHT
BEGIN:STANDARD
TZOFFSETFROM:+0100
TZOFFSETTO:+0000
TZNAME:GMT
DTSTART:20261025T010000
END:STANDARD
BEGIN:DAYLIGHT
TZOFFSETFROM:+0000
TZOFFSETTO:+0100
TZNAME:BST
DTSTART:20270328T010000
END:DAYLIGHT
BEGIN:STANDARD
TZOFFSETFROM:+0100
TZOFFSETTO:+0000
TZNAME:GMT
DTSTART:20271031T010000
END:STANDARD
END:VTIMEZONE
BEGIN:VEVENT
DTSTART;TZID=Europe/London:20260204T100000
DTEND;TZID=Europe/London:20260204T120000
DTSTAMP:20260419T200916
CREATED:20260108T023712Z
LAST-MODIFIED:20260108T023712Z
UID:23193-1770199200-1770206400@sedgemoorchamber.co.uk
SUMMARY:Future Leader Program
DESCRIPTION:We are excited to share more details about the ILM Future Leader Programme 2026\, designed to inspire\, upskill\, and empower the next generation of leaders within your business. \n  \n🗓 Monthly sessions: February–September  2026 \n📍 Locations: Taunton & Bridgwater \nWednesdays (10:00am–12:00pm) — full dates are on the Register your interest Flyer (just scan the QR code on the leaflet attached) \n  \nThroughout the programme\, your team member will: \n– Gain practical skills in leadership\, business clarity\, marketing\, finance\, and wellbeing from award winning experts. \n– Receive a workbook and dedicated mentor to guide their journey. \n– Connect with like-minded\, ambitious leaders across sectors\, building valuable networks. \n– Celebrate their success at a final dinner in September! \n  \nThe investment is £150+VAT per participant\, covering all resources and materials. \nThere are only 7 spaces left\, so don’t miss out! \n\n👉 Action: Scan the QR code on the leaflet (attached) today to register your interest and secure your place. Joining details will be sent in the first week of February.
URL:https://sedgemoorchamber.co.uk/chambers-events/future-leader-program/
CATEGORIES:Member Led Event
ATTACH;FMTTYPE=image/jpeg:https://sedgemoorchamber.co.uk/wp-content/uploads/2026/01/Institute-for-Leadership-Management-ILM-Future-Leader-Program.jpg
END:VEVENT
BEGIN:VEVENT
DTSTART;TZID=Europe/London:20260211T083000
DTEND;TZID=Europe/London:20260211T103000
DTSTAMP:20260419T200916
CREATED:20260129T044514Z
LAST-MODIFIED:20260129T044514Z
UID:23635-1770798600-1770805800@sedgemoorchamber.co.uk
SUMMARY:Amicus Law Connects Minehead
DESCRIPTION:Building Connections in West Somerset\nJoin us for Amicus Law Connects Minehead\, a business breakfast networking group designed to bring together local businesses and residents who care about the future of our community. \nWest Somerset is full of talent and ambition\, yet opportunities to connect and collaborate are limited. This event aims to change that by creating a space where ideas can be shared\, partnerships formed\, and local growth supported. \nWhy attend?\n– Meet and network with other local professionals \n– Enjoy a relaxed breakfast \n– Be part of a group focused on strengthening West Somerset’s business community \nWhether you run a business\, work locally\, or simply want to support the area’s development\, this is your chance to get involved and help shape what comes next. \n 
URL:https://sedgemoorchamber.co.uk/chambers-events/amicus-law-connects-minehead/
LOCATION:The Beach HotelMinehead\, England
CATEGORIES:Member Led Event
ATTACH;FMTTYPE=image/jpeg:https://sedgemoorchamber.co.uk/wp-content/uploads/2026/01/Amicus-Law-Connects-Minehead-1.jpg
ORGANIZER;CN="Amicus Law":MAILTO:info@amicuslaw.co.uk
END:VEVENT
BEGIN:VEVENT
DTSTART;TZID=Europe/London:20260214T193000
DTEND;TZID=Europe/London:20260214T230000
DTSTAMP:20260419T200916
CREATED:20260205T043522Z
LAST-MODIFIED:20260205T043724Z
UID:23825-1771097400-1771110000@sedgemoorchamber.co.uk
SUMMARY:Valentine’s Day Dinner
DESCRIPTION:Treat that special someone this Valentine’s Day\, held in our elegant Garden room.\n\n\nIndulge in an evening of refined flavours with a luxurious four-course dinner purposefully crafted by Head Chef Jacques Ballinger. Have you considered enhancing your evening with wine flights? Perfectly paired to elevate every course and create an unforgettable culinary experience\, speak with our team for further details.\n\nThis intimate dining experience sets the stage for a truly memorable Valentine’s celebration.\n\n\nWeb link to tickets:\nhttps://www.the-castle-hotel.com/event/valentines-day-dinner/
URL:https://sedgemoorchamber.co.uk/chambers-events/valentines-day-dinner/
LOCATION:The Castle at Taunton\, The Castle Hotel. Castle Green\, Taunton\, TA1 1NF
CATEGORIES:Member Led Event
ATTACH;FMTTYPE=image/jpeg:https://sedgemoorchamber.co.uk/wp-content/uploads/2026/02/Valentines-Day-Dinner-.jpg
END:VEVENT
BEGIN:VEVENT
DTSTART;TZID=Europe/London:20260224T100000
DTEND;TZID=Europe/London:20260224T123000
DTSTAMP:20260419T200916
CREATED:20260203T030337Z
LAST-MODIFIED:20260203T030337Z
UID:23794-1771927200-1771936200@sedgemoorchamber.co.uk
SUMMARY:Biz Nest South West Pre-Show Networking
DESCRIPTION:Hatched Agency is teaming up with the Business Fest South West team to host an exclusive pre-exhibition networking event for local businesses here in Taunton – and they’d love you to join them. \nTaking place at Sheppy’s Cider on Tuesday 24th February 2026\, this free\, relaxed morning meetup is designed to bring Somerset businesses together ahead of the main Business Fest South West exhibition in April. \n \nWhy attend?\n• Network with fellow local businesses and exhibitors ahead of the main show\n• Exchange insights with past and current Business Fest South West exhibitors\n• Build relationships\, explore collaborations and get a feel for what attending and exhibiting is all about\n• Ask questions\, share ideas and connect with the Hatched Agency team \nTeam Hatched will be on hand throughout the morning to chat\, share their experiences\, and talk through how Business Fest South West can support your business growth in 2026 and beyond. \nYou’re also very welcome to bring along another business owner who might be interested in exhibiting – they can be registered via the same form. \n \nEvent details\n📍 Sheppy’s Cider\, The Old Barn\, Three Bridges\, Bradford-on-Tone\, Taunton\, Somerset TA4 1ER\n📅 Tuesday 24th February 2026\n⏰ 10:00 – 12:30pm\n💰 Free to attend \n👉 Secure your space today – places are filling up fast! \nCome along and start building connections that will help make Business Fest South West 2026 a brilliant experience for everyone involved.
URL:https://sedgemoorchamber.co.uk/chambers-events/biz-nest-south-west-pre-show-networking/
LOCATION:Sheppy’s Cider Farm\, Three Bridges\, Bradford-on-Tone\, Taunton\, TA4 1ER\, United Kingdom
CATEGORIES:Member Led Event
ATTACH;FMTTYPE=image/jpeg:https://sedgemoorchamber.co.uk/wp-content/uploads/2026/02/Biz-Nest-South-West-Pre-Show-Networking.jpg
END:VEVENT
BEGIN:VEVENT
DTSTART;TZID=Europe/London:20260224T180000
DTEND;TZID=Europe/London:20260224T210000
DTSTAMP:20260419T200916
CREATED:20260205T044834Z
LAST-MODIFIED:20260205T044834Z
UID:23831-1771956000-1771966800@sedgemoorchamber.co.uk
SUMMARY:Reflecting and moving forward in agriculture
DESCRIPTION:
URL:https://sedgemoorchamber.co.uk/chambers-events/reflecting-and-moving-forward-in-agriculture/
CATEGORIES:Member Led Event
ATTACH;FMTTYPE=image/jpeg:https://sedgemoorchamber.co.uk/wp-content/uploads/2026/02/REFLECTING-AND-MOVING-FORWARD-IN-AGRICULTURE.jpg
END:VEVENT
BEGIN:VEVENT
DTSTART;TZID=Europe/London:20260228T100000
DTEND;TZID=Europe/London:20260228T150000
DTSTAMP:20260419T200916
CREATED:20260129T041538Z
LAST-MODIFIED:20260129T041555Z
UID:23625-1772272800-1772290800@sedgemoorchamber.co.uk
SUMMARY:The Castle at Taunton\, Wedding Fayre
DESCRIPTION:
URL:https://sedgemoorchamber.co.uk/chambers-events/the-castle-at-taunton-wedding-fayre/
LOCATION:The Castle at Taunton\, The Castle Hotel. Castle Green\, Taunton\, TA1 1NF
CATEGORIES:Member Led Event
ATTACH;FMTTYPE=image/jpeg:https://sedgemoorchamber.co.uk/wp-content/uploads/2026/01/The-Castle-at-Taunton-Wedding-Fayrev2.jpg
END:VEVENT
END:VCALENDAR