BEGIN:VCALENDAR
VERSION:2.0
PRODID:-//Sedgemoor Chamber - ECPv6.15.18//NONSGML v1.0//EN
CALSCALE:GREGORIAN
METHOD:PUBLISH
X-WR-CALNAME:Sedgemoor Chamber
X-ORIGINAL-URL:https://sedgemoorchamber.co.uk
X-WR-CALDESC:Events for Sedgemoor Chamber
REFRESH-INTERVAL;VALUE=DURATION:PT1H
X-Robots-Tag:noindex
X-PUBLISHED-TTL:PT1H
BEGIN:VTIMEZONE
TZID:Europe/London
BEGIN:DAYLIGHT
TZOFFSETFROM:+0000
TZOFFSETTO:+0100
TZNAME:BST
DTSTART:20240331T010000
END:DAYLIGHT
BEGIN:STANDARD
TZOFFSETFROM:+0100
TZOFFSETTO:+0000
TZNAME:GMT
DTSTART:20241027T010000
END:STANDARD
BEGIN:DAYLIGHT
TZOFFSETFROM:+0000
TZOFFSETTO:+0100
TZNAME:BST
DTSTART:20250330T010000
END:DAYLIGHT
BEGIN:STANDARD
TZOFFSETFROM:+0100
TZOFFSETTO:+0000
TZNAME:GMT
DTSTART:20251026T010000
END:STANDARD
BEGIN:DAYLIGHT
TZOFFSETFROM:+0000
TZOFFSETTO:+0100
TZNAME:BST
DTSTART:20260329T010000
END:DAYLIGHT
BEGIN:STANDARD
TZOFFSETFROM:+0100
TZOFFSETTO:+0000
TZNAME:GMT
DTSTART:20261025T010000
END:STANDARD
END:VTIMEZONE
BEGIN:VEVENT
DTSTART;TZID=Europe/London:20251112T120000
DTEND;TZID=Europe/London:20251112T130000
DTSTAMP:20260420T012331
CREATED:20251107T094105Z
LAST-MODIFIED:20251107T094105Z
UID:21945-1762948800-1762952400@sedgemoorchamber.co.uk
SUMMARY:Amicus Law Employment Bites - Bridgwater
DESCRIPTION:Amicus Law is pleased to announce a new series of free\, in-person employment law seminars led by Slade De Lacey\, designed to help local employers stay ahead of the latest workplace legislation and best practice. \nThis first series will focus on the upcoming changes to employment law\, including: \n– Day-one rights for unfair dismissal and flexible working \n– Stronger protections for zero-hours contract workers \n– Increases to the National Living Wage and statutory payments \nAhead of the events\, Slade shared: \n“The upcoming changes to employment law will have a significant impact on both employers and employees\, and these lunch sessions are designed to provide a safe\, open space for discussion and collaboration. I’m really looking forward to meeting HR leaders from across the region to share the updates and explore how they can manage these shifts to ensure their businesses and employees are well-prepared for the new landscape of workers’ contractual rights.” \nAll guests will enjoy a complimentary lunch and refreshments\, making these sessions a relaxed and informative opportunity to connect\, learn\, and prepare for the changes ahead. \n\nIf you can’t make this session or the location isn’t convenient\, don’t worry there are eight sessions taking place across Somerset. To view all upcoming dates and venues\, please follow the link below.
URL:https://sedgemoorchamber.co.uk/chambers-events/amicus-law-employment-bites-bridgwater/
CATEGORIES:Member Led Event
ATTACH;FMTTYPE=image/jpeg:https://sedgemoorchamber.co.uk/wp-content/uploads/2025/11/Amicus-Law-Employment-Bites-Bridgwater.jpg
ORGANIZER;CN="Amicus Law":MAILTO:info@amicuslaw.co.uk
END:VEVENT
BEGIN:VEVENT
DTSTART;TZID=Europe/London:20251119T110000
DTEND;TZID=Europe/London:20251119T170000
DTSTAMP:20260420T012331
CREATED:20251105T084442Z
LAST-MODIFIED:20251105T084442Z
UID:21877-1763550000-1763571600@sedgemoorchamber.co.uk
SUMMARY:Brainwave Open Day
DESCRIPTION:Be Bold\, Be Bright for Brainwave! 🌈 \nJoin us for Brainwave’s Open Day on Wednesday 19th November 2025\, from 11am to 5pm at the Brainwave Centre\, Marsh Lane\, Huntworth Gate\, Bridgwater\, TA6 6LQ. \nCome and see the incredible work Brainwave does to help unlock children’s potential! Enjoy therapy demonstrations\, guided tours of our facilities – including the Retail Centre\, accommodation lodges\, sensory garden\, and hydrotherapy pool – with refreshments available to purchase throughout the day. \n \n🎟️ Get your free tickets by scanning the QR code or visiting brainwave.org.uk \nFor more information\, contact us on 01278 429089 or email fundraising@brainwave.org.uk \n \nLet’s make it a #boldbrightbrainwave day together! 💛 \nBrainwave exists to support children with disabilities and additional needs so they can achieve greater independence. They aim to improve key developmental abilities – especially mobility\, communication skills\, and learning potential – by delivering specialist\, tailored therapy programmes. \nYour support helps Brainwave give children with additional needs access to specialist therapy\, maintain their expert team and facilities\, provide tailored programmes\, and empower families with the tools and training to continue therapy at home and school.
URL:https://sedgemoorchamber.co.uk/chambers-events/brainwave-open-day/
LOCATION:The Brainwave Centre\, Marsh Lane\, Huntworth Gate\, TA66LQ
CATEGORIES:Member Led Event
ATTACH;FMTTYPE=image/jpeg:https://sedgemoorchamber.co.uk/wp-content/uploads/2025/11/Brainwave.jpg
END:VEVENT
BEGIN:VEVENT
DTSTART;TZID=Europe/London:20251119T120000
DTEND;TZID=Europe/London:20251119T130000
DTSTAMP:20260420T012331
CREATED:20251107T094248Z
LAST-MODIFIED:20251107T094248Z
UID:21949-1763553600-1763557200@sedgemoorchamber.co.uk
SUMMARY:Amicus Law Employment Bites - Taunton
DESCRIPTION:Amicus Law is pleased to announce a new series of free\, in-person employment law seminars led by Slade De Lacey\, designed to help local employers stay ahead of the latest workplace legislation and best practice. \nThis first series will focus on the upcoming changes to employment law\, including: \n– Day-one rights for unfair dismissal and flexible working \n– Stronger protections for zero-hours contract workers \n– Increases to the National Living Wage and statutory payments \nAhead of the events\, Slade shared: \n“The upcoming changes to employment law will have a significant impact on both employers and employees\, and these lunch sessions are designed to provide a safe\, open space for discussion and collaboration. I’m really looking forward to meeting HR leaders from across the region to share the updates and explore how they can manage these shifts to ensure their businesses and employees are well-prepared for the new landscape of workers’ contractual rights.” \nAll guests will enjoy a complimentary lunch and refreshments\, making these sessions a relaxed and informative opportunity to connect\, learn\, and prepare for the changes ahead. \n\nIf you can’t make this session or the location isn’t convenient\, don’t worry there are eight sessions taking place across Somerset. To view all upcoming dates and venues\, please follow the link below.
URL:https://sedgemoorchamber.co.uk/chambers-events/amicus-law-employment-bites-taunton/
CATEGORIES:Member Led Event
ATTACH;FMTTYPE=image/jpeg:https://sedgemoorchamber.co.uk/wp-content/uploads/2025/11/Amicus-Law-Employment-Bites-Taunton.jpg
ORGANIZER;CN="Amicus Law":MAILTO:info@amicuslaw.co.uk
END:VEVENT
BEGIN:VEVENT
DTSTART;TZID=Europe/London:20251126T120000
DTEND;TZID=Europe/London:20251126T130000
DTSTAMP:20260420T012331
CREATED:20251107T094505Z
LAST-MODIFIED:20251107T094505Z
UID:21952-1764158400-1764162000@sedgemoorchamber.co.uk
SUMMARY:Amicus Law Employment Bites - Minehead
DESCRIPTION:Amicus Law is pleased to announce a new series of free\, in-person employment law seminars led by Slade De Lacey\, designed to help local employers stay ahead of the latest workplace legislation and best practice. \nThis first series will focus on the upcoming changes to employment law\, including: \n– Day-one rights for unfair dismissal and flexible working \n– Stronger protections for zero-hours contract workers \n– Increases to the National Living Wage and statutory payments \nAhead of the events\, Slade shared: \n“The upcoming changes to employment law will have a significant impact on both employers and employees\, and these lunch sessions are designed to provide a safe\, open space for discussion and collaboration. I’m really looking forward to meeting HR leaders from across the region to share the updates and explore how they can manage these shifts to ensure their businesses and employees are well-prepared for the new landscape of workers’ contractual rights.” \nAll guests will enjoy a complimentary lunch and refreshments\, making these sessions a relaxed and informative opportunity to connect\, learn\, and prepare for the changes ahead. \n\nIf you can’t make this session or the location isn’t convenient\, don’t worry there are eight sessions taking place across Somerset. To view all upcoming dates and venues\, please follow the link below.
URL:https://sedgemoorchamber.co.uk/chambers-events/amicus-law-employment-bites-minehead/
CATEGORIES:Member Led Event
ATTACH;FMTTYPE=image/jpeg:https://sedgemoorchamber.co.uk/wp-content/uploads/2025/11/Amicus-Law-Employment-Bites-Minehead.jpg
ORGANIZER;CN="Amicus Law":MAILTO:info@amicuslaw.co.uk
END:VEVENT
END:VCALENDAR