BEGIN:VCALENDAR
VERSION:2.0
PRODID:-//Sedgemoor Chamber - ECPv6.15.18//NONSGML v1.0//EN
CALSCALE:GREGORIAN
METHOD:PUBLISH
X-WR-CALNAME:Sedgemoor Chamber
X-ORIGINAL-URL:https://sedgemoorchamber.co.uk
X-WR-CALDESC:Events for Sedgemoor Chamber
REFRESH-INTERVAL;VALUE=DURATION:PT1H
X-Robots-Tag:noindex
X-PUBLISHED-TTL:PT1H
BEGIN:VTIMEZONE
TZID:Europe/London
BEGIN:DAYLIGHT
TZOFFSETFROM:+0000
TZOFFSETTO:+0100
TZNAME:BST
DTSTART:20240331T010000
END:DAYLIGHT
BEGIN:STANDARD
TZOFFSETFROM:+0100
TZOFFSETTO:+0000
TZNAME:GMT
DTSTART:20241027T010000
END:STANDARD
BEGIN:DAYLIGHT
TZOFFSETFROM:+0000
TZOFFSETTO:+0100
TZNAME:BST
DTSTART:20250330T010000
END:DAYLIGHT
BEGIN:STANDARD
TZOFFSETFROM:+0100
TZOFFSETTO:+0000
TZNAME:GMT
DTSTART:20251026T010000
END:STANDARD
BEGIN:DAYLIGHT
TZOFFSETFROM:+0000
TZOFFSETTO:+0100
TZNAME:BST
DTSTART:20260329T010000
END:DAYLIGHT
BEGIN:STANDARD
TZOFFSETFROM:+0100
TZOFFSETTO:+0000
TZNAME:GMT
DTSTART:20261025T010000
END:STANDARD
END:VTIMEZONE
BEGIN:VEVENT
DTSTART;TZID=Europe/London:20250704T090000
DTEND;TZID=Europe/London:20250704T163000
DTSTAMP:20260420T080518
CREATED:20250519T090630Z
LAST-MODIFIED:20250519T090630Z
UID:19450-1751619600-1751646600@sedgemoorchamber.co.uk
SUMMARY:IgniteHER Live
DESCRIPTION:Are you a passionate female entrepreneur who knows your business has more\npotential but feels stuck in the daily grind? Whether you’re creating handmade\nproducts or offering professional services\, join us for IgniteHER Live. \n\nThis Isn’t “Another” Business Workshop\nIgniteHER Live is a one-day transformative experience where you’ll actively build\nyour business strategies during the workshop:\n● You’ll implement practical frameworks in real-time\, not just listen to theory\n● Walk away with completed marketing systems\, not another to-do list\n● Work alongside experts who will guide you through each implementation step \nDuring this highly interactive day\, you’ll also:\n● Experience a powerful mindset shift from self-doubt to confident action\n● Discover the authentic desires that truly motivate customer decisions\n● Learn practical ways to leverage AI for content creation without losing your\nauthentic voice which drive visibility and sales\n● Understand essential self-care practices for sustainable business success\n● Participate in interactive feedback sessions tackling real business challenges\n● Connect with like-minded women entrepreneurs who understand your journey \n\nWhat Makes IgniteHER Different?\nYou’ll benefit from:\n● Real implementation\, not just information – build your strategies during the\nday\n● A supportive environment with women who understand similar challenges\n● Practical approaches that respect your limited time and multiple\nresponsibilities\n● Expertise spanning both product and service-based businesses \nYour Investment Includes:\n● Full-day transformative workshop (9:30am-4:30pm)\n● Exclusive IgniteHER workbook\n● Hands-on implementation time\n● Delicious catered lunch and refreshments (all dietary requirements catered\nfor)\n● Luxury goody bag\n● Optional business showcase opportunity\n● Free on-site parking \nJoin us for a day that could transform not just your business\, but how you feel about\nit. Because you don’t need another motivational quote\, you need practical steps\, real\nclarity\, and the space to feel excited about your business again. \n\nBook Your Place\nSpaces are strictly limited to ensure each attendee gets the most value. Investment\nis just £45 with split pay available until the end of May. You can book your attendee\nor attendee & Business Showcase ticket here: \nhttps://alphadigitalm.kartra.com/page/IgniteHERLive \nJoin us for a day that could transform not just your business\, but how you feel about\nit.\nBecause you don’t need another motivational quote – you need practical steps\, real\nclarity\, and the space to feel excited about your business again. \nAbout Your Hosts\nThis event is a collaboration between Alpha Digital Marketing and Hurd and Co. \nVictoria Marshall is a straight-talking marketing strategist who has worked with and\ntrained hundreds of small businesses over the last decade to dramatically improve\ntheir visibility and sales. She is also an expert in lead generation and paid\nadvertising\, Victoria has generated over 66\,000 leads and £750\,000 in sales for her\nclients in just the last three years\, with her clients achieve well above industry\nstandard returns. Her refreshingly jargon-free approach focuses on practical\nstrategies that actually work in the real world. \nDawn Hurd is a passionate entrepreneur\, speaker and mentor who specialises in\nhelping creative women transform their passion into profitable\, sustainable\nbusinesses. Recently featured on GB News with Eamonn Holmes\, Channel 4 and\nBBC Somerset\, Dawn has shared her expertise across multiple national publications\nand stages throughout the UK. Starting Hurd & Co from her kitchen table\, Dawn\nsystematically built it into a multi-award-winning brand recognised for quality and\nauthenticity\, now showcased at events from Pure London Fashion Show to the\nUnited Nations. \nJoin us for a day that could transform not just your business\, but how you feel about\nit. Because you don’t need another motivational quote – you need practical steps\,\nreal clarity\, and the space to feel excited about your business again.
URL:https://sedgemoorchamber.co.uk/chambers-events/igniteher-live/
LOCATION:North Petherton Rugby Football Club (Function Suite)\, Beggars Brook\, North Petherton\, Bridgwater\, TA6 6NW\, United Kingdom
CATEGORIES:Member Led Event
ATTACH;FMTTYPE=image/jpeg:https://sedgemoorchamber.co.uk/wp-content/uploads/2025/05/IgniteHER-Member-Led-Event.jpg
END:VEVENT
BEGIN:VEVENT
DTSTART;TZID=Europe/London:20250716T100000
DTEND;TZID=Europe/London:20250716T123000
DTSTAMP:20260420T080518
CREATED:20250630T124435Z
LAST-MODIFIED:20250630T124435Z
UID:20087-1752660000-1752669000@sedgemoorchamber.co.uk
SUMMARY:Babbasa: Staff Engagement EDI Training
DESCRIPTION:🔷 Babbasa: Staff Engagement EDI Training\n📅 Date: 16 July \n🕙 Time: 10:00 AM – 12:30 PM\n📍 Location: Bridgwater & Taunton College\, Bridgwater Campus. TA6 4PZ\n🎓 Module: Bridging the Gap – Engaging Young People \nThis half-day session explores how to effectively engage Gen Z and Y interns\, staff\, and volunteers.\nKey Topics:\n• Understanding generational interests & social trends\n• Inclusive marketing & outreach strategies\n• Alternative recruitment channels\n• Nurturing young\, diverse talent \n🎯 Outcome: Gain practical tools to connect with and support ethnically diverse young people in your workplace.\n🔗 Register now – limited spaces available: Babbasa: Staff Engagement EDI Training Tickets\, Wed\, Jul 16\, 2025 at 10:00 AM | Eventbrite \n  \nhttps://babbasa.com/
URL:https://sedgemoorchamber.co.uk/chambers-events/babbasa-staff-engagement-edi-training/
LOCATION:Bridgwater College\, Bridgwater College\, Bath Rd\, Bridgwater TA6 4PZ\, United Kingdom
CATEGORIES:Member Led Event
ATTACH;FMTTYPE=image/png:https://sedgemoorchamber.co.uk/wp-content/uploads/2025/06/Copy-of-Copy-of-Template-Dont-change-do-duplicate-and-change-.png
ORGANIZER;CN="Bridgwater and Taunton College":MAILTO:info@btc.ac.uk
END:VEVENT
BEGIN:VEVENT
DTSTART;TZID=Europe/London:20250731T123000
DTEND;TZID=Europe/London:20250731T133000
DTSTAMP:20260420T080518
CREATED:20250721T233912Z
LAST-MODIFIED:20250721T234257Z
UID:20483-1753965000-1753968600@sedgemoorchamber.co.uk
SUMMARY:Practical AI: Monthly Power Hour for Business Owners
DESCRIPTION:Member Led Event \n\nA 60-minute live session combining teaching\, Q&A\, and tools you can use immediately to grow smarter and work faster.\n\nThu\, 31 Jul 2025 12:30 – 13:30 BST\n\n\nAI feels overwhelming – but it doesn’t have to be. \nJoin Practical AI: The Monthly Power Hour for Business Owners and get smart\, strategic support using AI tools in your business. \nEach month\, you’ll: \n– Learn a real-world AI use case\, tool\, or prompt technique \n– Ask your specific questions live \n– Gain with clarity & confidence\, and probably something done \nNo hype. No jargon. Just one useful idea you can act on straight away. \n\nWhat You Get:\n🧠 20–25 min teaching spotlight on a practical tool or workflow\n💬 30–35 min Q&A + coaching – bring your use cases\, get guidance\n📄 Takeaway resource or prompts\n🎥 Session recording (for monthly subscribers) \nCome live\, ask anything\, and leave smarter – in just 60 minutes. \nPerfect For:\n– Solopreneurs and small business owners \n– Coaches\, consultants\, creatives\, and service providers \n– People who want to apply AI\, not just watch tutorials \n– Anyone who learns best through live examples and interaction \nNot For:\n– Developers or AI engineers \n– People looking for deep dives into 20+ tools \n– Passive viewers – this is practical\, participatory learning \nTickets:\n£30 – Sessions are kept small for meaningful interaction and live support. \nWhen & Where:\n🕛 Live 12:30–1:30 PM BST – One Thursday a Month\n📍 Online via Zoom (link sent on registration) \nWhat You’ll Need:\n– Zoom \n– A ChatGPT account \nYour Host:\nJo Fellowes – Fractional Cheif Operating Officer & AI Implementer for 6–8 figure businesses\n“I use AI daily to simplify strategy\, streamline operations\, and get content created faster. My goal? To help you do the same – without the overwhelm.” \nBook here: https://www.eventbrite.co.uk/e/1401662954629?aff=oddtdtcreator___.YXAxZTpicmlkZ3dhdGVyY2hhbWJlcm9mY29tbWVyY2U6YTpvOmY4ZGYwODk1ZTI1ZmE5NDhhM2VlZmE4OGE5NWZjMmRjOjc6YmRlNzpiM2U5NmI2MTA4ZDgyNjM3NTI5MDk5NDhhYWFmMzBlMjgzYTlmMDUxYjkxNTEzZmY1ODMxNmI2YWZjYTM1ODVmOnQ6VDpO
URL:https://sedgemoorchamber.co.uk/chambers-events/practical-ai-monthly-power-hour-for-business-owners/
CATEGORIES:Member Led Event
ATTACH;FMTTYPE=image/jpeg:https://sedgemoorchamber.co.uk/wp-content/uploads/2025/07/Practical-AI-Monthly-Power-Hour-for-Business-Owners.jpg
ORGANIZER;CN="7 Figure Back Office":MAILTO:jo@7figurebackoffice.com
END:VEVENT
END:VCALENDAR