BEGIN:VCALENDAR
VERSION:2.0
PRODID:-//Sedgemoor Chamber - ECPv6.15.18//NONSGML v1.0//EN
CALSCALE:GREGORIAN
METHOD:PUBLISH
X-WR-CALNAME:Sedgemoor Chamber
X-ORIGINAL-URL:https://sedgemoorchamber.co.uk
X-WR-CALDESC:Events for Sedgemoor Chamber
REFRESH-INTERVAL;VALUE=DURATION:PT1H
X-Robots-Tag:noindex
X-PUBLISHED-TTL:PT1H
BEGIN:VTIMEZONE
TZID:Europe/London
BEGIN:DAYLIGHT
TZOFFSETFROM:+0000
TZOFFSETTO:+0100
TZNAME:BST
DTSTART:20240331T010000
END:DAYLIGHT
BEGIN:STANDARD
TZOFFSETFROM:+0100
TZOFFSETTO:+0000
TZNAME:GMT
DTSTART:20241027T010000
END:STANDARD
BEGIN:DAYLIGHT
TZOFFSETFROM:+0000
TZOFFSETTO:+0100
TZNAME:BST
DTSTART:20250330T010000
END:DAYLIGHT
BEGIN:STANDARD
TZOFFSETFROM:+0100
TZOFFSETTO:+0000
TZNAME:GMT
DTSTART:20251026T010000
END:STANDARD
BEGIN:DAYLIGHT
TZOFFSETFROM:+0000
TZOFFSETTO:+0100
TZNAME:BST
DTSTART:20260329T010000
END:DAYLIGHT
BEGIN:STANDARD
TZOFFSETFROM:+0100
TZOFFSETTO:+0000
TZNAME:GMT
DTSTART:20261025T010000
END:STANDARD
END:VTIMEZONE
BEGIN:VEVENT
DTSTART;TZID=Europe/London:20250305T123000
DTEND;TZID=Europe/London:20250305T140000
DTSTAMP:20260422T125317
CREATED:20250211T105502Z
LAST-MODIFIED:20250211T110532Z
UID:17569-1741177800-1741183200@sedgemoorchamber.co.uk
SUMMARY:Ask an Architect Session
DESCRIPTION:AFTER THE SUCCESS OF THE FIRST EVENT\, WE ARE REPEATING THE ASK AN ARCHITECT SESSIONS ONCE A MONTH.\nBOOK NOW FOR A FREE 1-2-1 SESSION! \nASK AN ARCHITECT\nFREE 15 MINUTE 1-2-1 SESSIONS\nWEDNESDAY 05 MARCH 12.30-2pm \nIf you are thinking about an extension\, renovating or making your dream home a reality\, we are offering 15 minute sessions with one of our architects to provide free personalised\, impartial advice. \nBOOK NOW FOR A PHONE CALL OR DROP-IN APPOINTMENT AT OUR OFFICE IN VINEY COURT\, TAUNTON. \nCall us on 01823 337211 or email taunton@stone-partners.co.uk to book for appointment.
URL:https://sedgemoorchamber.co.uk/chambers-events/ask-an-architect-session/
LOCATION:Stone and Partners\, Suite G5a Viney Court\, Viney St\, Taunton TA1 3FB\, Taunton\, Somerset\, TA1 3FB\, United Kingdom
CATEGORIES:Member Led Event
ATTACH;FMTTYPE=image/webp:https://sedgemoorchamber.co.uk/wp-content/uploads/2025/02/sp.webp
ORGANIZER;CN="Stone + Partners":MAILTO:taunton@stone-partners.co.uk
END:VEVENT
BEGIN:VEVENT
DTSTART;TZID=Europe/London:20250312T000000
DTEND;TZID=Europe/London:20250312T090000
DTSTAMP:20260422T125317
CREATED:20250211T120046Z
LAST-MODIFIED:20250312T102955Z
UID:17580-1741737600-1741770000@sedgemoorchamber.co.uk
SUMMARY:The Practical Training Hub - Workplace First aid
DESCRIPTION:We are pleased to provide the below open courses which are available for individuals and groups to attend. If you would would like to make a group booking on a different date or would like a course exclusively for you own staff\, please contact us and we will endeavour to assist you. \nPlease select the category of training you would like and then press book. You will then be provided with all available dates that the selected course is scheduled to run. \nOptions available are:\nEmergency First Aid at Work (EFAW)\nFirst Aid at Work (FAW)\nFirst Aid at Work Re-qualification\nEmergency First Aid at Work (EFAW) 2025 \nPlease note that VAT is chargeable on all courses and is added at the time of booking. \nFor more information and venue please check out the website. \nCourse Calendar
URL:https://sedgemoorchamber.co.uk/chambers-events/the-practical-training-hub-workplace-first-aid/
CATEGORIES:Member Led Event
ATTACH;FMTTYPE=image/png:https://sedgemoorchamber.co.uk/wp-content/uploads/2025/02/Copy-of-Member-Led-event-Template-9.png
ORGANIZER;CN="The Practical Training Hub":MAILTO:info@thepth.co.uk
END:VEVENT
BEGIN:VEVENT
DTSTART;TZID=Europe/London:20250312T000000
DTEND;TZID=Europe/London:20250312T090000
DTSTAMP:20260422T125318
CREATED:20250211T122100Z
LAST-MODIFIED:20250312T103017Z
UID:17583-1741737600-1741770000@sedgemoorchamber.co.uk
SUMMARY:The Practical Training Hub - Mental Health First Aid
DESCRIPTION:We are pleased to provide the below open courses which are available for individuals and groups to attend. If you would would like to make a group booking on a different date or would like a course exclusively for you own staff\, please contact us and we will endeavour to assist you. \nPlease select the category of training you would like and then press book. You will then be provided with all available dates that the selected course is scheduled to run. \nOptions available are:\nL2 Mental Health First Aid\nL3 Mental Health First Aid \nPlease note that VAT is chargeable on all courses and is added at the time of booking. \nFor more information and venue please check out the website. \nCourse Calendar
URL:https://sedgemoorchamber.co.uk/chambers-events/the-practical-training-hub-paediatric-first-aid/
CATEGORIES:Member Led Event
ATTACH;FMTTYPE=image/png:https://sedgemoorchamber.co.uk/wp-content/uploads/2025/02/Copy-of-Member-Led-event-Template-9.png
ORGANIZER;CN="The Practical Training Hub":MAILTO:info@thepth.co.uk
END:VEVENT
BEGIN:VEVENT
DTSTART;TZID=Europe/London:20250318T093000
DTEND;TZID=Europe/London:20250318T113000
DTSTAMP:20260422T125318
CREATED:20250306T105440Z
LAST-MODIFIED:20250312T103043Z
UID:17950-1742290200-1742297400@sedgemoorchamber.co.uk
SUMMARY:Somerset Connector Event
DESCRIPTION:Wednesday\, 12th March\, 9am\, The Mount Somerset\, Taunton \nThe Connector events are game-changers for businesses \nConnector Events – Sponsored by ……. (this could be you)\n*You can sponsor and headline speak at this event. For only £250+vat you will receive well over £1k in support. \nStandout on the day with your own Expo Stall\nAlso\, anyone can have an Expo Stall at the event for only £50+vat to standout on the day \nWith many businesses\, all in one room\, ready to connect and collaborate. \nWe will make sure you have a list of all the attendees\, so you can stay connected with them even after the event. \nThe best part is that the event is absolutely – FREE for everyone!! \nSo\, bring along anyone you think could benefit from this fantastic opportunity. \nMark your calendars and get ready for an incredible year of networking and collaboration with Your Partnerships. We want to see you there\, ready to make great things happen! \nLet’s make some magic together! Make contact if you would like to sponsor this or future events. Email info@yourpartnerships.co.uk \nJohn Holden our Ambassador wishes to welcome everyone to this Connector event at The Mount Somerset\, Stoke Hill\, Lower\, Henlade\, Taunton TA3 5NB \nThe team at Mount Somerset will be on hand to cater for you needs and we pay individually at the venue for our catering. \nIf you wish to guest speak at one of John’s monthly events\, let John know and his email is john@johnholdensave.com
URL:https://sedgemoorchamber.co.uk/chambers-events/somerset-connector-event/
LOCATION:The Mount Somerset\, Stoke Hill Henlade TA3 5NB United Kingdom\, Somerset\, TA3 5NB\, United Kingdom
CATEGORIES:Free events,Member Led Event
ATTACH;FMTTYPE=image/png:https://sedgemoorchamber.co.uk/wp-content/uploads/2025/03/Member-Led-event-Template-7.png
END:VEVENT
BEGIN:VEVENT
DTSTART;VALUE=DATE:20250322
DTEND;VALUE=DATE:20250327
DTSTAMP:20260422T125318
CREATED:20250304T141116Z
LAST-MODIFIED:20250304T141116Z
UID:17879-1742601600-1743033599@sedgemoorchamber.co.uk
SUMMARY:Enmore Park OPEN DAYS 2025
DESCRIPTION:SATURDAY 22ND MARCH 2025 – 1PM TO 3PM\nSUNDAY 23RD MARCH 2025 – 10AM TO 12PM\nWEDNESDAY 26TH MARCH 2025 – 4:30PM TO 6:30PM\nOur message remains “Something for Everyone” and we really do mean it. Men and women\, young\, old and all ages in between. Maybe you’ve never picked up a golf club in your life\, maybe you’re thinking of taking up the game after a break\, or maybe you’re thinking of changing club\, we’d love to meet you on our Open Days. \nSo come along on any of our Open Days and meet the team\, the members\, the club professionals and take a look at what’s on offer. You’ll get the chance to play a few holes\, take a tour of the course\, take part in some free coaching sessions and ask any questions you might have about our club or golf in general. \nThe Bar and Kitchen will also be open for you to purchase a refreshing beverage or hot drink and meal in our relaxing\, friendly clubhouse with stunning views across the course. \n \nThe Schedule\nOur Open Day booklet will be available soon for you to download and will include the full schedule for the day. There will be some special membership offers available including ‘NO JOINING FEE’ which that on its own saves you a whopping £200! \nThis is a very informal event for everyone to enjoy and there certainly won’t be any pressure to join the club. \nTaster Golf for Beginners\nWe’re very keen on encouraging adults and juniors alike to take up the game of golf and our “Taster Golf” sessions and games will take place from: – \n\nSaturday 22nd March 2025 – 1:45 pm to 2:30 pm\nSunday 23rd March 2025 – 10:45 am to 11:30 am\nWednesday 26th March 2025 – 4:45pm to 5:30 pm\n\nAll equipment and a heap of help and encouragement will be provided. \nRegistration\nThere’s no need to register\, you’re welcome to just come along on any of the days\, at whatever time you’d like. However\, if you think you’ll be coming along then a short email to the address below will help us gauge an idea of numbers.\nIf you’d like to know a bit more then just give the club a call on 01278 672100 (option 4) or email the club office on   secretary@enmorepark.co.uk
URL:https://sedgemoorchamber.co.uk/chambers-events/enmore-park-open-days-2025/
LOCATION:Enmore Park Golf Club\, TA5 2AN
CATEGORIES:Member Led Event
ATTACH;FMTTYPE=image/png:https://sedgemoorchamber.co.uk/wp-content/uploads/2025/03/Member-Led-event-Template-3.png
ORGANIZER;CN="Enmore Park Golf Club":MAILTO:manager@enmorepark.co.uk
END:VEVENT
BEGIN:VEVENT
DTSTART;TZID=Europe/London:20250322T140000
DTEND;TZID=Europe/London:20250322T140000
DTSTAMP:20260422T125318
CREATED:20250306T102100Z
LAST-MODIFIED:20250306T102100Z
UID:17946-1742652000-1742652000@sedgemoorchamber.co.uk
SUMMARY:Charity Walk - 22nd March 2025
DESCRIPTION:Amicus Law are organising a Charity Walk and we’d like to invite all Chamber Members to take part in support of our Charity of the Year – West Country Rivers Trust\, a fantastic organisation dedicated to protecting and improving our local rivers and waterways. \n\nDetails of the Walk \nRoute: Lydeard Hill\, Wills Neck\, and Great Hill Circular\, Somerset\, England – 365 Reviews\, Map | AllTrails\nDistance: 8.2 km \nDate: Saturday\, 22nd March 2025\nTime: 2:00pm \nThe trail offers stunning views across the Quantock Hills\, peaceful open moorland\, and a chance to enjoy some of the most beautiful landscapes in Somerset. \n  \nWho Can Join? \nFriends\, family\, and dogs are more than welcome to come along. \n  \nEntry Fee \nTo help raise funds for the West Country Rivers Trust\, we’re suggesting an entry fee of £10 per person or £20 per family. Every penny will go towards supporting their incredible work. \n  \nRefreshments \nThere will be refreshments waiting for you at the end of the walk – a perfect way to celebrate completing the trail together! \n  \nHow to Get Involved \n\nSign Up: Please complete the following form – https://forms.office.com/e/YWUnjF5mAd  by Friday\, 14th March to let us know if you’d like to join.\nWhat to Bring: Comfortable walking shoes\, weather-appropriate clothing\, and plenty of water.\n\n  \nThis is a great chance to spend some time outdoors and contribute to an important cause. We’d love to see as many of you\, your loved ones\, and your furry friends there as possible!
URL:https://sedgemoorchamber.co.uk/chambers-events/charity-walk-22nd-march-2025/
CATEGORIES:Member Led Event
ATTACH;FMTTYPE=image/png:https://sedgemoorchamber.co.uk/wp-content/uploads/2025/03/Member-Led-event-Template-6.png
ORGANIZER;CN="Amicus Law":MAILTO:info@amicuslaw.co.uk
END:VEVENT
BEGIN:VEVENT
DTSTART;TZID=Europe/London:20250325T080000
DTEND;TZID=Europe/London:20250325T100000
DTSTAMP:20260422T125318
CREATED:20250304T150513Z
LAST-MODIFIED:20250304T150513Z
UID:17888-1742889600-1742896800@sedgemoorchamber.co.uk
SUMMARY:Free of charge! Drop in breakfast
DESCRIPTION:Join us for Breakfast! 😋 \nWe are delighted to invite local employers who don’t currently work with us\, to join us for a Breakfast\, Tea and Coffee morning to discuss how BTC can support your workforce development needs. This casual drop-in session is the perfect setting to grab your breakfast on your way to work and chat to our team about how we can work together to enhance your recruitment and training strategies. \nDid you know you can save on National Insurance by recruiting or upskilling members of your team? Find out about this and SO much more. \n📆Tuesday 25 March \n🕗8am – 10am \n📌 Bridgwater Campus\, Bath Road\, Bridgwater TA6 4PZ \nSign up for your free ticket now: https://forms.office.com/e/AQ6M4wa9TT \nWe look forward to welcoming you to BTC 🥐🍓☕ \n#BusinesswithBTC #LetsWorkTogether #NetworkingBreakfast
URL:https://sedgemoorchamber.co.uk/chambers-events/free-of-charge-drop-in-breakfast/
LOCATION:Bridgwater College\, Bridgwater College\, Bath Rd\, Bridgwater TA6 4PZ\, United Kingdom
CATEGORIES:Free events,Member Led Event
ATTACH;FMTTYPE=image/png:https://sedgemoorchamber.co.uk/wp-content/uploads/2025/03/Member-Led-event-Template-5-1.png
ORGANIZER;CN="Bridgwater and Taunton College":MAILTO:info@btc.ac.uk
END:VEVENT
BEGIN:VEVENT
DTSTART;TZID=Europe/London:20250327T103000
DTEND;TZID=Europe/London:20250327T150000
DTSTAMP:20260422T125318
CREATED:20250130T122150Z
LAST-MODIFIED:20250130T122150Z
UID:17438-1743071400-1743087600@sedgemoorchamber.co.uk
SUMMARY:Bridgwater Jobs Fair
DESCRIPTION:Come along to the Bridgwater Jobs Fair and Find Your Future!\nWe are thrilled to host next Bridgwater Jobs Fair on Thursday March 27th 2025 at The Canalside Conference Centre. \nAround 40 exhibitors will be available on the day including support from companies who help job seekers as well as employers. \nWe plan to offer a varied range of sectors and lots of vacancies will be available plus it’s the perfect opportunity where you can meet the recruitment teams. Disabled access is great! \nA list of exhibitors is available below and don’t forget to check out what jobs are listed on our “Jobs South West” website. \nPlus visit our blog\, 10 top tips to job fair success.
URL:https://sedgemoorchamber.co.uk/chambers-events/bridgwater-jobs-fair/
LOCATION:The Canalside\, Marsh Lane\, Bridgwater\,\, Somerset\, TA6 6LQ\, United Kingdom
CATEGORIES:Member Led Event
ATTACH;FMTTYPE=image/png:https://sedgemoorchamber.co.uk/wp-content/uploads/2025/01/Copy-of-Member-Led-event-Template-2.png
ORGANIZER;CN="Jobs Fairs South West":MAILTO:info@jobfairssouthwest.co.uk
END:VEVENT
END:VCALENDAR