BEGIN:VCALENDAR
VERSION:2.0
PRODID:-//Sedgemoor Chamber - ECPv6.15.18//NONSGML v1.0//EN
CALSCALE:GREGORIAN
METHOD:PUBLISH
X-WR-CALNAME:Sedgemoor Chamber
X-ORIGINAL-URL:https://sedgemoorchamber.co.uk
X-WR-CALDESC:Events for Sedgemoor Chamber
REFRESH-INTERVAL;VALUE=DURATION:PT1H
X-Robots-Tag:noindex
X-PUBLISHED-TTL:PT1H
BEGIN:VTIMEZONE
TZID:Europe/London
BEGIN:DAYLIGHT
TZOFFSETFROM:+0000
TZOFFSETTO:+0100
TZNAME:BST
DTSTART:20230326T010000
END:DAYLIGHT
BEGIN:STANDARD
TZOFFSETFROM:+0100
TZOFFSETTO:+0000
TZNAME:GMT
DTSTART:20231029T010000
END:STANDARD
BEGIN:DAYLIGHT
TZOFFSETFROM:+0000
TZOFFSETTO:+0100
TZNAME:BST
DTSTART:20240331T010000
END:DAYLIGHT
BEGIN:STANDARD
TZOFFSETFROM:+0100
TZOFFSETTO:+0000
TZNAME:GMT
DTSTART:20241027T010000
END:STANDARD
BEGIN:DAYLIGHT
TZOFFSETFROM:+0000
TZOFFSETTO:+0100
TZNAME:BST
DTSTART:20250330T010000
END:DAYLIGHT
BEGIN:STANDARD
TZOFFSETFROM:+0100
TZOFFSETTO:+0000
TZNAME:GMT
DTSTART:20251026T010000
END:STANDARD
END:VTIMEZONE
BEGIN:VEVENT
DTSTART;TZID=Europe/London:20241123T183000
DTEND;TZID=Europe/London:20241123T183000
DTSTAMP:20260422T191956
CREATED:20241024T090809Z
LAST-MODIFIED:20241024T090809Z
UID:16193-1732386600-1732386600@sedgemoorchamber.co.uk
SUMMARY:Secret World Wildlife Rescue Annual Charity Auction & Ball
DESCRIPTION:Join Secret World Wildlife Rescue for their 21st Annual Auction and Ball—a spectacular ‘Black Tie’ evening filled with entertainment\, great food\, and opportunities to make a real difference for local wildlife.\nEvening Highlights: \n-Three-Course Meal: Enjoy a delicious dinner provided by The Webbington Hotel & Spa. \n-Silent & Live Auctions: Bid on a range of exciting items—from chocolate bouquets to luxury getaways. Whether you prefer the thrill of a live auction or the strategy of a silent one\, there’s something for everyone. \n-Casino: Try your luck at the casino tables. \n-Live Music: Dance the night away with live performances.-Photo Opportunities: Capture memorable moments throughout the evening. \n-Raffle Prizes: Purchase raffle tickets for a chance to win hampers and other great prizes. \nTickets:\n-Individual Ticket: £55 per person \n-Table of 10: £500 (Ideal for groups or corporate bookings) \nLooking for a festive outing or a memorable Christmas party for your team? This event offers a fantastic opportunity to celebrate while supporting a worthy cause. \nSponsorship Opportunities: \nSupport the event further through various sponsorship options: \n-Table Sponsorship: Sponsor a table of 10 for £500. \n-Programme Advertising: \n-Half Page: £150 plus VAT \n-Full Page: £250 plus VAT \n-Entertainment Sponsorship: Contribute from £350. \n-Venue Decoration: Assist with costs starting from £100. \n-Printing Costs: Help cover printing expenses. \nAccommodation:\nNeed a place to stay? The Webbington Hotel is offering rooms at a reduced rate for event attendees. \nAbout Secret World Wildlife Rescue:\nAll funds raised during the evening support Secret World Wildlife Rescue’s mission to rescue\, rehabilitate\, and release sick\, injured\, and orphaned wildlife. For over 30 years\, they have been dedicated to protecting wildlife at their site in East Huntspill. \nHow to Book Tickets or Sponsor:\n-Website: www.secretworld.org \n-Phone: 01278 783250 \n-Email: annual.ball@secretworld.org \n 
URL:https://sedgemoorchamber.co.uk/chambers-events/secret-world-wildlife-rescue-annual-charity-auction-ball/
CATEGORIES:Member Led Event
ATTACH;FMTTYPE=image/png:https://sedgemoorchamber.co.uk/wp-content/uploads/2024/10/Member-led-event-.png
ORGANIZER;CN="Secret world":MAILTO:annual.ball@secretworld.org
END:VEVENT
BEGIN:VEVENT
DTSTART;TZID=Europe/London:20241126T173000
DTEND;TZID=Europe/London:20241126T200000
DTSTAMP:20260422T191956
CREATED:20241120T121849Z
LAST-MODIFIED:20241120T121849Z
UID:16551-1732642200-1732651200@sedgemoorchamber.co.uk
SUMMARY:DS14 – Ready\, Steady\, Game!
DESCRIPTION:Member Led Event:\n  \n\n\n\nReady\, Steady\, Game!\nPizza sponsored by The Realm at BTC \nJoin us for an exciting networking event where gaming meets AI! Dive into the future of interactive entertainment\, explore cutting-edge AI innovations\, and connect with like-minded professionals\, gamers\, and tech enthusiasts. Whether you’re a game developer\, AI expert\, or just passionate about the evolution of gaming\, this event is the perfect opportunity to exchange ideas\, collaborate on projects\, and level up your network. Don’t miss out on this unique chance to be part of the next wave in gaming and AI technology! \nOur Main Talk:\nBen Byford: Gaming\, AI & Ethics \nThroughout Ben’s career he has been passionate about Technology\, Design and Ethics. Starting in Web design and development\, Ben worked with companies creating sites\, UI and UX projects. He’s an entrepreneur of several companies from a web platform for commissioning research\, web design\, games development\, and a co-working space.In 2016 Ben started the Machine Ethics podcast that continues to run today\, focused on AI and Ethics subjects. Ben is also a director of the Bristol games hub! \nBen splits his time between AI ethics consulting\, games design and development with his company Nuclear Candy Games in Bristol\, teaching and public speaking on subjects from games design to AI ethics\, computing and social enterprise. \nLightning Talks:\n\n\nAlex Roland – Game Changer\nRichard Everard – Gaming in Education\nDavid Adams – Esports Elite Althete Training\nTechosaurus: AI Fun and Games
URL:https://sedgemoorchamber.co.uk/chambers-events/ds14-ready-steady-game/
CATEGORIES:Member Led Event
ATTACH;FMTTYPE=image/png:https://sedgemoorchamber.co.uk/wp-content/uploads/2024/11/SD-e1743417962709.png
END:VEVENT
END:VCALENDAR