BEGIN:VCALENDAR
VERSION:2.0
PRODID:-//Sedgemoor Chamber - ECPv6.15.18//NONSGML v1.0//EN
CALSCALE:GREGORIAN
METHOD:PUBLISH
X-WR-CALNAME:Sedgemoor Chamber
X-ORIGINAL-URL:https://sedgemoorchamber.co.uk
X-WR-CALDESC:Events for Sedgemoor Chamber
REFRESH-INTERVAL;VALUE=DURATION:PT1H
X-Robots-Tag:noindex
X-PUBLISHED-TTL:PT1H
BEGIN:VTIMEZONE
TZID:Europe/London
BEGIN:DAYLIGHT
TZOFFSETFROM:+0000
TZOFFSETTO:+0100
TZNAME:BST
DTSTART:20230326T010000
END:DAYLIGHT
BEGIN:STANDARD
TZOFFSETFROM:+0100
TZOFFSETTO:+0000
TZNAME:GMT
DTSTART:20231029T010000
END:STANDARD
BEGIN:DAYLIGHT
TZOFFSETFROM:+0000
TZOFFSETTO:+0100
TZNAME:BST
DTSTART:20240331T010000
END:DAYLIGHT
BEGIN:STANDARD
TZOFFSETFROM:+0100
TZOFFSETTO:+0000
TZNAME:GMT
DTSTART:20241027T010000
END:STANDARD
BEGIN:DAYLIGHT
TZOFFSETFROM:+0000
TZOFFSETTO:+0100
TZNAME:BST
DTSTART:20250330T010000
END:DAYLIGHT
BEGIN:STANDARD
TZOFFSETFROM:+0100
TZOFFSETTO:+0000
TZNAME:GMT
DTSTART:20251026T010000
END:STANDARD
END:VTIMEZONE
BEGIN:VEVENT
DTSTART;TZID=Europe/London:20240711T093000
DTEND;TZID=Europe/London:20240711T130000
DTSTAMP:20260423T015327
CREATED:20240625T135101Z
LAST-MODIFIED:20240625T135101Z
UID:15371-1720690200-1720702800@sedgemoorchamber.co.uk
SUMMARY:Building your Digital Business Plan
DESCRIPTION:📣 Attention small business owners in Somerset! \nJoin our free workshop ‘Building Your Digital Business Plan’ and learn how to create sustainable profitability for your online business. \nThe Growth Hub\, invites you to this free event\, taking place on 11th July 2024 9.30am – 1.00pm at The Canalside Conference Centre\, Bridgwater\, Somerset. \nDo you find that your business is not really generating the return on investment that you had hoped for? And that you could benefit from the opportunity to sharpen your business focus to create those profits that you really wish for? By attending our hands-on 3-hour Digital Business Planning workshop; we can support you in sharpening your business focus on creating those sustainable revenues and ultimately\, your base-line profitability. \nYou will also benefit from exploring how a number of practical business digital tools will enable you really drive your business forward; from business templates\, to priority checklists\, and even a tailored Digital action plan. The event is delivered by Peter K Doyle\, our own Digital Business Adviser\, exclusively for Somerset Businesses. \nThere’ll be light refreshments and an opportunity for you to connect and network with other like-minded business owners. \n🔗 Secure Your Spot Today! Spaces are limited\, book here: https://Building-Your-Digital-Business-Plan.eventbrite.co.uk
URL:https://sedgemoorchamber.co.uk/chambers-events/building-your-digital-business-plan/
CATEGORIES:Business Training,Free events,Member Led Event
ATTACH;FMTTYPE=image/png:https://sedgemoorchamber.co.uk/wp-content/uploads/2024/06/Bridgwater-5-e1743417477920.png
END:VEVENT
BEGIN:VEVENT
DTSTART;TZID=Europe/London:20240719T180000
DTEND;TZID=Europe/London:20240719T200000
DTSTAMP:20260423T015327
CREATED:20240704T111843Z
LAST-MODIFIED:20240704T112300Z
UID:15462-1721412000-1721419200@sedgemoorchamber.co.uk
SUMMARY:Charity Mouse Racing
DESCRIPTION:Member Led Event – Westcotts
URL:https://sedgemoorchamber.co.uk/chambers-events/charity-mouse-racing/
CATEGORIES:Member Led Event
ATTACH;FMTTYPE=image/png:https://sedgemoorchamber.co.uk/wp-content/uploads/2024/07/Member-Led-event-12.png
END:VEVENT
BEGIN:VEVENT
DTSTART;TZID=Europe/London:20240720T120000
DTEND;TZID=Europe/London:20240720T170000
DTSTAMP:20260423T015327
CREATED:20240626T113902Z
LAST-MODIFIED:20240626T113902Z
UID:15385-1721476800-1721494800@sedgemoorchamber.co.uk
SUMMARY:Bridgwater Super Saturday
DESCRIPTION:Bridgwater Super Saturday \n8 of the finest Somerset arts organisations coming together for a free day of circus\, music (everything from acoustic sets to opera) and theatre. \nWe’ll be taking over cornhill\, fore st\, high st and st Mary’s church for a fun filled day for ALL the family. \nLooking forward to seeing you there.
URL:https://sedgemoorchamber.co.uk/chambers-events/bridgwater-super-saturday/
CATEGORIES:Free events,Member Led Event
ATTACH;FMTTYPE=image/png:https://sedgemoorchamber.co.uk/wp-content/uploads/2024/06/Screenshot-2024-06-26-123442.png
END:VEVENT
BEGIN:VEVENT
DTSTART;TZID=Europe/London:20240723T093000
DTEND;TZID=Europe/London:20240723T173000
DTSTAMP:20260423T015327
CREATED:20240509T110454Z
LAST-MODIFIED:20240711T143517Z
UID:14977-1721727000-1721755800@sedgemoorchamber.co.uk
SUMMARY:Mental Health First Aid Training Sessions
DESCRIPTION:Member Led Event – 𝐎𝐩𝐭𝐢𝐦𝐢𝐬𝐞 𝐖𝐨𝐫𝐤𝐩𝐥𝐚𝐜𝐞 𝐖𝐞𝐥𝐥𝐛𝐞𝐢𝐧𝐠 \n𝐉𝐨𝐢𝐧 𝐎𝐩𝐭𝐢𝐦𝐢𝐬𝐞 𝐖𝐨𝐫𝐤𝐩𝐥𝐚𝐜𝐞 𝐖𝐞𝐥𝐥𝐛𝐞𝐢𝐧𝐠 𝐟𝐨𝐫 𝐭𝐡𝐞𝐢𝐫 𝐮𝐩𝐜𝐨𝐦𝐢𝐧𝐠 𝐌𝐞𝐧𝐭𝐚𝐥 𝐇𝐞𝐚𝐥𝐭𝐡 𝐅𝐢𝐫𝐬𝐭 𝐀𝐢𝐝 𝐓𝐫𝐚𝐢𝐧𝐢𝐧𝐠 𝐬𝐞𝐬𝐬𝐢𝐨𝐧𝐬 𝐚𝐭 𝐓𝐡𝐞 𝐢𝐛𝐢𝐬 𝐇𝐨𝐭𝐞𝐥\, 𝐁𝐫𝐢𝐝𝐠𝐰𝐚𝐭𝐞𝐫:\nTuesday 23rd and Tuesday 30th July 2024\, 0930-1730 both days \nOur Mental Health Training and Support is something we are extremely proud of. \nOur training is designed to bridge the gap between the Mental Health First Aid qualification and allowing an understanding and awareness for everyone regarding mental health. \nWe believe by offering this range of training\, it is the only way that we will help change the narrative\, end stigma\, and allow people to be more open around the topic of mental health\, no matter where they may feel they are on that sliding scale. \nWe also know that this training and support will equip people to have the confidence in starting conversations with others\, without the fear of making a situation worse or not knowing what to say or do should they need to get help for the person. \nThe training\, at any level will give people an understanding of mental health\, think about how we all have mental health and what we need to do to protect this and give learners the opportunity to think about what we can do to prevent poor mental health. \nThe training consists of the following 3 qualifications:\nLevel 3 Award in Mental Health First Aid (RQF)\nThroughout this 2-day course\, learners will develop the knowledge\, skills\, and confidence to actively promote positive mental health in the workplace by covering a range of topics\, including: understanding mental health and its importance\, awareness of their own wellbeing as a Mental Health First Aider\, common mental health conditions\, how to support those experiencing poor mental health at work with tools such as active listening and non-judgemental support. \nWhat’s covered on the course \n\nLearn how to spot the signs and support people that are struggling with a wide range of mental health conditions\, including:\nDepression\nSuicide\nAnxiety Disorders (including OCD\, Panic Disorder\, Phobias\, Social Anxiety\, Separation Anxiety\, Generalised Anxiety Disorder and PTSD)\nEating Disorders\nPsychosis\nSelf-Injury\n\n  \n\nWe look at each condition in detail and hear from people that have real lived experience of some of these conditions\, which gives learners a deep understanding of what someone experiencing symptoms may be experiencing.\nUnderstand and learn about the symptoms a person may be experiencing\, what to say and how to support an individual in the best way for them.\nThe mental health continuum and the differences between mental health and mental illness\, and the judgment and discrimination that is often felt around this topic due to stigma and lack of understanding.\nRisk and Protective factors to our mental health and learn how to implement health habits and coping techniques\, including self-care.\nStress and how to recognise\, manage and cope with stress – this is a very important part of the course as stress is always present in any mental health condition\, whether it’s the cause\, a symptom or both.\nCase Studies looking at scenarios and what we can do to help\, what to say and where to access and signpost to the correct support\, along with how to provide ongoing support.\nWhere and how to access support and different types of support that are available.\nRecovery and Wellbeing Recovery Action Plans\n\nThis 2-day course is packed full of useful\, helpful and lifesaving information to help others and yourself. \n𝐓𝐨 𝐁𝐨𝐨𝐤:\nEmail: jo@optimiseworkplacewellbeing.com\nPhone: 07912 446261\nhttps://www.optimiseworkplacewellbeing.co.uk/https://lnkd.in/eFVXp_YT \nOur cost for Chamber Members for these dates\, will be just £195.00 per person (usual cost is £345.00 pp) 
URL:https://sedgemoorchamber.co.uk/chambers-events/%f0%9d%90%8c%f0%9d%90%9e%f0%9d%90%a7%f0%9d%90%ad%f0%9d%90%9a%f0%9d%90%a5-%f0%9d%90%87%f0%9d%90%9e%f0%9d%90%9a%f0%9d%90%a5%f0%9d%90%ad%f0%9d%90%a1-%f0%9d%90%85%f0%9d%90%a2%f0%9d%90%ab%f0%9d%90%ac-3/
CATEGORIES:Member Led Event
ATTACH;FMTTYPE=image/png:https://sedgemoorchamber.co.uk/wp-content/uploads/2024/04/Member-Led-event-11.png
ORGANIZER;CN="Optimise Workplace Wellbeing":MAILTO:jo@optimiseworkplacewellbeing.com
END:VEVENT
BEGIN:VEVENT
DTSTART;TZID=Europe/London:20240727T190000
DTEND;TZID=Europe/London:20240727T220000
DTSTAMP:20260423T015327
CREATED:20240423T093910Z
LAST-MODIFIED:20240423T093930Z
UID:14840-1722106800-1722117600@sedgemoorchamber.co.uk
SUMMARY:The Dryad Inn Pop Up Pub
DESCRIPTION:Member Led Event – Dryad Gin Ltd \nThe Dryad Inn Pop Up Pub will be held at Broomfield Village Hall TA5 2EQ on the following dates in 2024\n27th July\n21st September\n1st November\n21st December \nAt each event we will be joined by The Quantock Landscape Partnership Scheme who will be offering a creative area in the PopUp Pub. The purpose of these events is to bring people together\, connecting\, laughing\, bonding. Old friends are reacquainted\, new neighbours tentatively introduced and strangers became a little less so. \nWe open the doors at 7pm and its for over 18s only. You will be able to enjoy local beer\, cider and our very special Dryad Gin. We also have non alcoholic options and a full cocktail bar with recipes named after local places and people. Our Dryad Gin in is always for sale at our events. \nThere is parking behind the village hall in a field but unsuitable if the ground is too wet. We normally have a Pizza Van join us or have local food available at each event. \nFrom local oak back to the community in a glass
URL:https://sedgemoorchamber.co.uk/chambers-events/the-dryad-inn-pop-up-pub/
CATEGORIES:Member Led Event
ATTACH;FMTTYPE=image/png:https://sedgemoorchamber.co.uk/wp-content/uploads/2024/04/Member-Led-event-10-e1743418162317.png
END:VEVENT
END:VCALENDAR