BEGIN:VCALENDAR
VERSION:2.0
PRODID:-//Sedgemoor Chamber - ECPv6.15.18//NONSGML v1.0//EN
CALSCALE:GREGORIAN
METHOD:PUBLISH
X-WR-CALNAME:Sedgemoor Chamber
X-ORIGINAL-URL:https://sedgemoorchamber.co.uk
X-WR-CALDESC:Events for Sedgemoor Chamber
REFRESH-INTERVAL;VALUE=DURATION:PT1H
X-Robots-Tag:noindex
X-PUBLISHED-TTL:PT1H
BEGIN:VTIMEZONE
TZID:Europe/London
BEGIN:DAYLIGHT
TZOFFSETFROM:+0000
TZOFFSETTO:+0100
TZNAME:BST
DTSTART:20230326T010000
END:DAYLIGHT
BEGIN:STANDARD
TZOFFSETFROM:+0100
TZOFFSETTO:+0000
TZNAME:GMT
DTSTART:20231029T010000
END:STANDARD
BEGIN:DAYLIGHT
TZOFFSETFROM:+0000
TZOFFSETTO:+0100
TZNAME:BST
DTSTART:20240331T010000
END:DAYLIGHT
BEGIN:STANDARD
TZOFFSETFROM:+0100
TZOFFSETTO:+0000
TZNAME:GMT
DTSTART:20241027T010000
END:STANDARD
BEGIN:DAYLIGHT
TZOFFSETFROM:+0000
TZOFFSETTO:+0100
TZNAME:BST
DTSTART:20250330T010000
END:DAYLIGHT
BEGIN:STANDARD
TZOFFSETFROM:+0100
TZOFFSETTO:+0000
TZNAME:GMT
DTSTART:20251026T010000
END:STANDARD
END:VTIMEZONE
BEGIN:VEVENT
DTSTART;TZID=Europe/London:20240214T083000
DTEND;TZID=Europe/London:20240214T170000
DTSTAMP:20260422T232555
CREATED:20240125T133109Z
LAST-MODIFIED:20240125T134135Z
UID:13868-1707899400-1707930000@sedgemoorchamber.co.uk
SUMMARY:Paediatric First Aid Training Courses - Member Led Event
DESCRIPTION:Member Event – The Practical Training Hub \nThe Practical Training Hub are holding training courses locally at Activity Warehouse in Bridgwater for the following: \nEmergency Paediatric First Aid (EPFA) – 1 Day \n\nOverview: Gain essential skills with the Level 3 Award in Emergency Paediatric First Aid. This course is tailored for those needing to develop basic first aid skills for emergencies involving children.\nKey Skills: Handling a range of paediatric first aid situations.\nTiming: Starts at 8:45 am and finishes at 5:00 pm.\n\nPaediatric First Aid (PFA) – 2 Days \n\nCourse Details: This Level 3 Award in Paediatric First Aid meets the requirements of the Early Years Foundation Stage (EYFS) Statutory Framework. It’s crucial for early years providers in England\, ensuring that there is always a fully trained first aider when children are present.\nCompliance: Aligns with EYFS requirements for paediatric first aid.\nSchedule: Runs over two consecutive days\, from 8:45 am to 5:00 pm each day.\n\nExplore a range of available dates to find the one that suits you best. Use the provided link to view all your options. \nCourse Calendar – The Practical Training Hub (thepth.co.uk)
URL:https://sedgemoorchamber.co.uk/chambers-events/paediatric-first-aid-training-courses/
LOCATION:Activity Warehouse\, Activity Warehouse\, 5 E Quay\, Bridgwater\, TA6 4AE
CATEGORIES:Member Led Event
ATTACH;FMTTYPE=image/png:https://sedgemoorchamber.co.uk/wp-content/uploads/2024/01/Paediatric-First-Aid-2000x846-1.png
ORGANIZER;CN="The Practical Training Hub":MAILTO:info@thepth.co.uk
END:VEVENT
END:VCALENDAR